BEGIN:VCALENDAR
VERSION:2.0
PRODID:-//EZFacility.com, Inc.//EZL 2.5.5.28621
BEGIN:VEVENT
UID:16182505@ezleagues.ezfacility.com
DTSTAMP:20260424T043933Z
CREATED:20260424T043933Z
DTSTART:20250120T010000Z
DTEND:20250120T014200Z
LOCATION:7v7 Field #2
CONTACT:
SUMMARY:Mandem FC VS. Euro Elite
DESCRIPTION:League Name: 2025 Winter Soccer Session 2 Men's Open Division\n
 Game Type: Regular\nGame Status: Complete\nHome Team: Mandem FC\nAway Team
 : Euro Elite\nHome Score: 5\nAway Score: 9
END:VEVENT
BEGIN:VEVENT
UID:16182509@ezleagues.ezfacility.com
DTSTAMP:20260424T043933Z
CREATED:20260424T043933Z
DTSTART:20250127T010000Z
DTEND:20250127T014200Z
LOCATION:7v7 Field #1
CONTACT:Ortiz
SUMMARY:Euro Elite VS. Valpo Men's Soccer Club
DESCRIPTION:League Name: 2025 Winter Soccer Session 2 Men's Open Division\n
 Game Type: Regular\nGame Status: Complete\nHome Team: Euro Elite\nAway Tea
 m: Valpo Men's Soccer Club\nHome Score: 10\nAway Score: 6
END:VEVENT
BEGIN:VEVENT
UID:16182512@ezleagues.ezfacility.com
DTSTAMP:20260424T043933Z
CREATED:20260424T043933Z
DTSTART:20250203T010000Z
DTEND:20250203T014200Z
LOCATION:7v7 Field #1
CONTACT:Ortiz
SUMMARY:Euro Elite VS. Indiana United
DESCRIPTION:League Name: 2025 Winter Soccer Session 2 Men's Open Division\n
 Game Type: Regular\nGame Status: Complete\nHome Team: Euro Elite\nAway Tea
 m: Indiana United\nHome Score: 4\nAway Score: 2
END:VEVENT
BEGIN:VEVENT
UID:16182523@ezleagues.ezfacility.com
DTSTAMP:20260424T043933Z
CREATED:20260424T043933Z
DTSTART:20250217T010000Z
DTEND:20250217T014200Z
LOCATION:7v7 Field #3
CONTACT:
SUMMARY:Euro Elite VS. Mandem FC
DESCRIPTION:League Name: 2025 Winter Soccer Session 2 Men's Open Division\n
 Game Type: Regular\nGame Status: Complete\nHome Team: Euro Elite\nAway Tea
 m: Mandem FC\nHome Score: 9\nAway Score: 4
END:VEVENT
BEGIN:VEVENT
UID:16182525@ezleagues.ezfacility.com
DTSTAMP:20260424T043933Z
CREATED:20260424T043933Z
DTSTART:20250224T010000Z
DTEND:20250224T014200Z
LOCATION:7v7 Field #2
CONTACT:Simakoski
SUMMARY:Euro Elite VS. Beercelona FC
DESCRIPTION:League Name: 2025 Winter Soccer Session 2 Men's Open Division\n
 Game Type: Regular\nGame Status: Complete\nHome Team: Euro Elite\nAway Tea
 m: Beercelona FC\nHome Score: 4\nAway Score: 5
END:VEVENT
BEGIN:VEVENT
UID:16182529@ezleagues.ezfacility.com
DTSTAMP:20260424T043933Z
CREATED:20260424T043933Z
DTSTART:20250302T233000Z
DTEND:20250303T001200Z
LOCATION:7v7 Field #1
CONTACT:Orchiuch
SUMMARY:Euro Elite VS. Milk Men
DESCRIPTION:League Name: 2025 Winter Soccer Session 2 Men's Open Division\n
 Game Type: Regular\nGame Status: Complete\nHome Team: Euro Elite\nAway Tea
 m: Milk Men\nHome Score: 11\nAway Score: 5
END:VEVENT
BEGIN:VEVENT
UID:16182530@ezleagues.ezfacility.com
DTSTAMP:20260424T043933Z
CREATED:20260424T043933Z
DTSTART:20250303T010000Z
DTEND:20250303T014200Z
LOCATION:7v7 Field #1
CONTACT:Orchiuch
SUMMARY:Euro Elite VS. Indiana United
DESCRIPTION:League Name: 2025 Winter Soccer Session 2 Men's Open Division\n
 Game Type: Regular\nGame Status: Complete\nHome Team: Euro Elite\nAway Tea
 m: Indiana United\nHome Score: 2\nAway Score: 6
END:VEVENT
BEGIN:VEVENT
UID:16182519@ezleagues.ezfacility.com
DTSTAMP:20260424T043933Z
CREATED:20260424T043933Z
DTSTART:20250303T014500Z
DTEND:20250303T022700Z
LOCATION:7v7 Field #4
CONTACT:Espinoza
SUMMARY:Hammond Dragones VS. Euro Elite
DESCRIPTION:League Name: 2025 Winter Soccer Session 2 Men's Open Division\n
 Game Type: Regular\nGame Status: Complete\nHome Team: Hammond Dragones\nAw
 ay Team: Euro Elite\nHome Score: 5\nAway Score: 4
END:VEVENT
BEGIN:VEVENT
UID:16274896@ezleagues.ezfacility.com
DTSTAMP:20260424T043933Z
CREATED:20260424T043933Z
DTSTART:20250309T224500Z
DTEND:20250309T231300Z
LOCATION:7v7 Field #1
CONTACT:Ortiz
SUMMARY:Euro Elite VS. Milk Men
DESCRIPTION:League Name: 2025 Winter Soccer Session 2 Men's Open Division\n
 Game Type: Regular\nGame Status: Complete\nHome Team: Euro Elite\nAway Tea
 m: Milk Men\nHome Score: 7\nAway Score: 3
END:VEVENT
BEGIN:VEVENT
UID:16274899@ezleagues.ezfacility.com
DTSTAMP:20260424T043933Z
CREATED:20260424T043933Z
DTSTART:20250310T004500Z
DTEND:20250310T011300Z
LOCATION:7v7 Field #1
CONTACT:Orchiuch
SUMMARY:Hammond Dragones VS. Euro Elite
DESCRIPTION:League Name: 2025 Winter Soccer Session 2 Men's Open Division\n
 Game Type: Regular\nGame Status: Complete\nHome Team: Hammond Dragones\nAw
 ay Team: Euro Elite\nHome Score: 2\nAway Score: 4
END:VEVENT
BEGIN:VEVENT
UID:16274901@ezleagues.ezfacility.com
DTSTAMP:20260424T043933Z
CREATED:20260424T043933Z
DTSTART:20250310T014500Z
DTEND:20250310T021300Z
LOCATION:7v7 Field #1
CONTACT:Orchiuch
SUMMARY:Euro Elite VS. Indiana United
DESCRIPTION:League Name: 2025 Winter Soccer Session 2 Men's Open Division\n
 Game Type: Regular\nGame Status: Complete\nHome Team: Euro Elite\nAway Tea
 m: Indiana United\nHome Score: 1\nAway Score: 0
END:VEVENT
END:VCALENDAR
