BEGIN:VCALENDAR
VERSION:2.0
PRODID:-//EZFacility.com, Inc.//EZL 2.5.5.28621
BEGIN:VEVENT
UID:16184584@ezleagues.ezfacility.com
DTSTAMP:20260425T145932Z
CREATED:20260425T145932Z
DTSTART:20250121T003000Z
DTEND:20250121T013000Z
LOCATION:OZ Dome Indoor Field
CONTACT:Ali
SUMMARY:ASMIS FC VS. Galaxy
DESCRIPTION:League Name: Co-ed Spring 2025 indoor (COPY)\nGame Type: Regula
 r\nGame Status: Complete\nHome Team: ASMIS FC\nAway Team: Galaxy\nHome Sco
 re: 3\nAway Score: 1
END:VEVENT
BEGIN:VEVENT
UID:16184588@ezleagues.ezfacility.com
DTSTAMP:20260425T145932Z
CREATED:20260425T145932Z
DTSTART:20250128T023000Z
DTEND:20250128T033000Z
LOCATION:OZ Dome Indoor Field
CONTACT:Ali
SUMMARY:ASMIS FC VS. Ottawa Cobras
DESCRIPTION:League Name: Co-ed Spring 2025 indoor (COPY)\nGame Type: Regula
 r\nGame Status: Complete\nHome Team: ASMIS FC\nAway Team: Ottawa Cobras\nH
 ome Score: 3\nAway Score: 1
END:VEVENT
BEGIN:VEVENT
UID:16184592@ezleagues.ezfacility.com
DTSTAMP:20260425T145932Z
CREATED:20260425T145932Z
DTSTART:20250204T003000Z
DTEND:20250204T013000Z
LOCATION:OZ Dome Indoor Field
CONTACT:Ali
SUMMARY:ASMIS FC VS. Scrambled Legs
DESCRIPTION:League Name: Co-ed Spring 2025 indoor (COPY)\nGame Type: Regula
 r\nGame Status: Complete\nHome Team: ASMIS FC\nAway Team: Scrambled Legs\n
 Home Score: 4\nAway Score: 2
END:VEVENT
BEGIN:VEVENT
UID:16184596@ezleagues.ezfacility.com
DTSTAMP:20260425T145932Z
CREATED:20260425T145932Z
DTSTART:20250211T013000Z
DTEND:20250211T023000Z
LOCATION:OZ Dome Indoor Field
CONTACT:Ali
SUMMARY:ASMIS FC VS. Stunners FC
DESCRIPTION:League Name: Co-ed Spring 2025 indoor (COPY)\nGame Type: Regula
 r\nGame Status: Complete\nHome Team: ASMIS FC\nAway Team: Stunners FC\nHom
 e Score: 3\nAway Score: 0
END:VEVENT
BEGIN:VEVENT
UID:16184604@ezleagues.ezfacility.com
DTSTAMP:20260425T145932Z
CREATED:20260425T145932Z
DTSTART:20250225T013000Z
DTEND:20250225T023000Z
LOCATION:OZ Dome Indoor Field
CONTACT:Ali
SUMMARY:ASMIS FC VS. Oops Wrong Football
DESCRIPTION:League Name: Co-ed Spring 2025 indoor (COPY)\nGame Type: Regula
 r\nGame Status: Complete\nHome Team: ASMIS FC\nAway Team: Oops Wrong Footb
 all\nHome Score: 4\nAway Score: 1
END:VEVENT
BEGIN:VEVENT
UID:16184608@ezleagues.ezfacility.com
DTSTAMP:20260425T145932Z
CREATED:20260425T145932Z
DTSTART:20250304T003000Z
DTEND:20250304T013000Z
LOCATION:OZ Dome Indoor Field
CONTACT:Langwa
SUMMARY:Balls in the Air VS. ASMIS FC
DESCRIPTION:League Name: Co-ed Spring 2025 indoor (COPY)\nGame Type: Regula
 r\nGame Status: Complete\nHome Team: Balls in the Air\nAway Team: ASMIS FC
 \nHome Score: 5\nAway Score: 2
END:VEVENT
BEGIN:VEVENT
UID:16184612@ezleagues.ezfacility.com
DTSTAMP:20260425T145932Z
CREATED:20260425T145932Z
DTSTART:20250310T233000Z
DTEND:20250311T003000Z
LOCATION:OZ Dome Indoor Field
CONTACT:Langwa
SUMMARY:Galaxy VS. ASMIS FC
DESCRIPTION:League Name: Co-ed Spring 2025 indoor (COPY)\nGame Type: Regula
 r\nGame Status: Complete\nHome Team: Galaxy\nAway Team: ASMIS FC\nHome Sco
 re: 1\nAway Score: 2
END:VEVENT
BEGIN:VEVENT
UID:16184616@ezleagues.ezfacility.com
DTSTAMP:20260425T145932Z
CREATED:20260425T145932Z
DTSTART:20250318T013000Z
DTEND:20250318T023000Z
LOCATION:OZ Dome Indoor Field
CONTACT:Langwa
SUMMARY:Ottawa Cobras VS. ASMIS FC
DESCRIPTION:League Name: Co-ed Spring 2025 indoor (COPY)\nGame Type: Regula
 r\nGame Status: Complete\nHome Team: Ottawa Cobras\nAway Team: ASMIS FC\nH
 ome Score: 0\nAway Score: 8
END:VEVENT
BEGIN:VEVENT
UID:16184620@ezleagues.ezfacility.com
DTSTAMP:20260425T145932Z
CREATED:20260425T145932Z
DTSTART:20250325T003000Z
DTEND:20250325T013000Z
LOCATION:OZ Dome Indoor Field
CONTACT:Langwa
SUMMARY:Scrambled Legs VS. ASMIS FC
DESCRIPTION:League Name: Co-ed Spring 2025 indoor (COPY)\nGame Type: Regula
 r\nGame Status: Complete\nHome Team: Scrambled Legs\nAway Team: ASMIS FC\n
 Home Score: 1\nAway Score: 7
END:VEVENT
BEGIN:VEVENT
UID:16184624@ezleagues.ezfacility.com
DTSTAMP:20260425T145932Z
CREATED:20260425T145932Z
DTSTART:20250401T013000Z
DTEND:20250401T023000Z
LOCATION:OZ Dome Indoor Field
CONTACT:Ali
SUMMARY:Stunners FC VS. ASMIS FC
DESCRIPTION:League Name: Co-ed Spring 2025 indoor (COPY)\nGame Type: Regula
 r\nGame Status: Complete\nHome Team: Stunners FC\nAway Team: ASMIS FC\nHom
 e Score: 2\nAway Score: 1
END:VEVENT
BEGIN:VEVENT
UID:16184627@ezleagues.ezfacility.com
DTSTAMP:20260425T145932Z
CREATED:20260425T145932Z
DTSTART:20250407T223000Z
DTEND:20250407T233000Z
LOCATION:OZ Dome Indoor Field
CONTACT:Ali
SUMMARY:OZ OPTICS VS. ASMIS FC
DESCRIPTION:League Name: Co-ed Spring 2025 indoor (COPY)\nGame Type: Regula
 r\nGame Status: Complete\nHome Team: OZ OPTICS\nAway Team: ASMIS FC\nHome 
 Score: 1\nAway Score: 4
END:VEVENT
BEGIN:VEVENT
UID:16184632@ezleagues.ezfacility.com
DTSTAMP:20260425T145932Z
CREATED:20260425T145932Z
DTSTART:20250415T003000Z
DTEND:20250415T013000Z
LOCATION:OZ Dome Indoor Field
CONTACT:Ali
SUMMARY:Oops Wrong Football VS. ASMIS FC
DESCRIPTION:League Name: Co-ed Spring 2025 indoor (COPY)\nGame Type: Regula
 r\nGame Status: Complete\nHome Team: Oops Wrong Football\nAway Team: ASMIS
  FC\nHome Score: 0\nAway Score: 7
END:VEVENT
BEGIN:VEVENT
UID:16184599@ezleagues.ezfacility.com
DTSTAMP:20260425T145932Z
CREATED:20260425T145932Z
DTSTART:20250421T223000Z
DTEND:20250421T233000Z
LOCATION:OZ Dome Indoor Field
CONTACT:Langwa
SUMMARY:ASMIS FC VS. OZ OPTICS
DESCRIPTION:League Name: Co-ed Spring 2025 indoor (COPY)\nGame Type: Regula
 r\nGame Status: Complete\nHome Team: ASMIS FC\nAway Team: OZ OPTICS\nHome 
 Score: 5\nAway Score: 2
END:VEVENT
END:VCALENDAR
