BEGIN:VCALENDAR
VERSION:2.0
PRODID:-//EZFacility.com, Inc.//EZL 2.5.5.28621
BEGIN:VEVENT
UID:16201700@ezleagues.ezfacility.com
DTSTAMP:20260423T144907Z
CREATED:20260423T144907Z
DTSTART:20250222T023000Z
DTEND:20250222T032000Z
LOCATION:Car Stereo One Big Field
CONTACT:
SUMMARY:MSC BU14 VS. Spartans FC 2011
DESCRIPTION:League Name: 2025 Maumee CS1 Big Field Boys U14\nGame Type: Reg
 ular\nGame Status: Complete\nHome Team: MSC BU14\nAway Team: Spartans FC 2
 011\nHome Score: 12\nAway Score: 0
END:VEVENT
BEGIN:VEVENT
UID:16201705@ezleagues.ezfacility.com
DTSTAMP:20260423T144907Z
CREATED:20260423T144907Z
DTSTART:20250228T211000Z
DTEND:20250228T220000Z
LOCATION:Car Stereo One Big Field
CONTACT:France
SUMMARY:Spartans FC 2011 VS. ESSL Arsenal
DESCRIPTION:League Name: 2025 Maumee CS1 Big Field Boys U14\nGame Type: Reg
 ular\nGame Status: Complete\nHome Team: Spartans FC 2011\nAway Team: ESSL 
 Arsenal\nHome Score: 5\nAway Score: 4
END:VEVENT
BEGIN:VEVENT
UID:16201712@ezleagues.ezfacility.com
DTSTAMP:20260423T144907Z
CREATED:20260423T144907Z
DTSTART:20250315T022000Z
DTEND:20250315T031000Z
LOCATION:Car Stereo One Big Field
CONTACT:France
SUMMARY:Wildcats U-14 VS. Spartans FC 2011
DESCRIPTION:League Name: 2025 Maumee CS1 Big Field Boys U14\nGame Type: Reg
 ular\nGame Status: Complete\nHome Team: Wildcats U-14\nAway Team: Spartans
  FC 2011\nHome Score: 0\nAway Score: 3
END:VEVENT
BEGIN:VEVENT
UID:16201715@ezleagues.ezfacility.com
DTSTAMP:20260423T144907Z
CREATED:20260423T144907Z
DTSTART:20250321T224000Z
DTEND:20250321T233000Z
LOCATION:Car Stereo One Big Field
CONTACT:Czerniakowski
SUMMARY:Misfits U14 VS. Spartans FC 2011
DESCRIPTION:League Name: 2025 Maumee CS1 Big Field Boys U14\nGame Type: Reg
 ular\nGame Status: Complete\nHome Team: Misfits U14\nAway Team: Spartans F
 C 2011\nHome Score: 11\nAway Score: 4
END:VEVENT
BEGIN:VEVENT
UID:16201718@ezleagues.ezfacility.com
DTSTAMP:20260423T144907Z
CREATED:20260423T144907Z
DTSTART:20250325T224000Z
DTEND:20250325T233000Z
LOCATION:Car Stereo One Big Field
CONTACT:
SUMMARY:Spartans FC 2011 VS. Lenawee United 2011 Premier
DESCRIPTION:League Name: 2025 Maumee CS1 Big Field Boys U14\nGame Type: Reg
 ular\nGame Status: Complete\nHome Team: Spartans FC 2011\nAway Team: Lenaw
 ee United 2011 Premier\nHome Score: 3\nAway Score: 9
END:VEVENT
BEGIN:VEVENT
UID:16201723@ezleagues.ezfacility.com
DTSTAMP:20260423T144907Z
CREATED:20260423T144907Z
DTSTART:20250401T231000Z
DTEND:20250402T000000Z
LOCATION:Car Stereo One Big Field
CONTACT:
SUMMARY:Spartans FC 2011 VS. KORA Rattlesnakes
DESCRIPTION:League Name: 2025 Maumee CS1 Big Field Boys U14\nGame Type: Reg
 ular\nGame Status: Complete\nHome Team: Spartans FC 2011\nAway Team: KORA 
 Rattlesnakes\nHome Score: 15\nAway Score: 3
END:VEVENT
BEGIN:VEVENT
UID:16201728@ezleagues.ezfacility.com
DTSTAMP:20260423T144907Z
CREATED:20260423T144907Z
DTSTART:20250412T000000Z
DTEND:20250412T005000Z
LOCATION:Car Stereo One Big Field
CONTACT:McFee
SUMMARY:Spartans FC 2011 VS. MSC BU14
DESCRIPTION:League Name: 2025 Maumee CS1 Big Field Boys U14\nGame Type: Reg
 ular\nGame Status: Complete\nHome Team: Spartans FC 2011\nAway Team: MSC B
 U14\nHome Score: 5\nAway Score: 13
END:VEVENT
BEGIN:VEVENT
UID:16201709@ezleagues.ezfacility.com
DTSTAMP:20260423T144907Z
CREATED:20260423T144907Z
DTSTART:20250412T193000Z
DTEND:20250412T202000Z
LOCATION:Car Stereo One Big Field
CONTACT:
SUMMARY:Napoleon SC VS. Spartans FC 2011
DESCRIPTION:League Name: 2025 Maumee CS1 Big Field Boys U14\nGame Type: Reg
 ular\nGame Status: Complete\nHome Team: Napoleon SC\nAway Team: Spartans F
 C 2011\nHome Score: 2\nAway Score: 9
END:VEVENT
END:VCALENDAR
