BEGIN:VCALENDAR
VERSION:2.0
PRODID:-//EZFacility.com, Inc.//EZL 2.5.5.28621
BEGIN:VEVENT
UID:16187912@ezleagues.ezfacility.com
DTSTAMP:20260426T034918Z
CREATED:20260426T034918Z
DTSTART:20250202T201500Z
DTEND:20250202T210000Z
LOCATION:Field 1
CONTACT:Huber
SUMMARY: PSA 13/14 VS. PSA 14
DESCRIPTION:League Name: 2013/2012 Bronze Boys Soccer 2025 Winter 2 \nGame 
 Type: Regular\nGame Status: Complete\nHome Team:  PSA 13/14\nAway Team: PS
 A 14\nHome Score: 4\nAway Score: 9
END:VEVENT
BEGIN:VEVENT
UID:16187920@ezleagues.ezfacility.com
DTSTAMP:20260426T034918Z
CREATED:20260426T034918Z
DTSTART:20250209T134000Z
DTEND:20250209T142500Z
LOCATION:VA Army National Guard Field 2
CONTACT:Alafandi
SUMMARY:PSA 14 VS. La Masia (Inter Miami)
DESCRIPTION:League Name: 2013/2012 Bronze Boys Soccer 2025 Winter 2 \nGame 
 Type: Regular\nGame Status: Complete\nHome Team: PSA 14\nAway Team: La Mas
 ia (Inter Miami)\nHome Score: 2\nAway Score: 4
END:VEVENT
BEGIN:VEVENT
UID:16187927@ezleagues.ezfacility.com
DTSTAMP:20260426T034918Z
CREATED:20260426T034918Z
DTSTART:20250215T134000Z
DTEND:20250215T142500Z
LOCATION:VA Army National Guard Field 2
CONTACT:Gelles
SUMMARY:PSA 14 VS. FC Dulles 13B
DESCRIPTION:League Name: 2013/2012 Bronze Boys Soccer 2025 Winter 2 \nGame 
 Type: Regular\nGame Status: Complete\nHome Team: PSA 14\nAway Team: FC Dul
 les 13B\nHome Score: 8\nAway Score: 0
END:VEVENT
BEGIN:VEVENT
UID:16187936@ezleagues.ezfacility.com
DTSTAMP:20260426T034918Z
CREATED:20260426T034918Z
DTSTART:20250223T194500Z
DTEND:20250223T203000Z
LOCATION:Field 1
CONTACT:Huber
SUMMARY:PSA 14 VS.  PSA 13/14
DESCRIPTION:League Name: 2013/2012 Bronze Boys Soccer 2025 Winter 2 \nGame 
 Type: Regular\nGame Status: Complete\nHome Team: PSA 14\nAway Team:  PSA 1
 3/14\nHome Score: 5\nAway Score: 4
END:VEVENT
BEGIN:VEVENT
UID:16187903@ezleagues.ezfacility.com
DTSTAMP:20260426T034918Z
CREATED:20260426T034918Z
DTSTART:20250302T190000Z
DTEND:20250302T194500Z
LOCATION: Field 3
CONTACT:Cazun
SUMMARY:FC Dulles 13B VS. PSA 14
DESCRIPTION:League Name: 2013/2012 Bronze Boys Soccer 2025 Winter 2 \nGame 
 Type: Regular\nGame Status: Complete\nHome Team: FC Dulles 13B\nAway Team:
  PSA 14\nHome Score: 4\nAway Score: 8
END:VEVENT
BEGIN:VEVENT
UID:16187943@ezleagues.ezfacility.com
DTSTAMP:20260426T034918Z
CREATED:20260426T034918Z
DTSTART:20250309T134500Z
DTEND:20250309T143000Z
LOCATION:Field 1
CONTACT:Gelles
SUMMARY:PSA 14 VS.  PSA 13/14
DESCRIPTION:League Name: 2013/2012 Bronze Boys Soccer 2025 Winter 2 \nGame 
 Type: Postseason\nGame Status: Complete\nHome Team: PSA 14\nAway Team:  PS
 A 13/14\nHome Score: 6\nAway Score: 3
END:VEVENT
BEGIN:VEVENT
UID:16187951@ezleagues.ezfacility.com
DTSTAMP:20260426T034918Z
CREATED:20260426T034918Z
DTSTART:20250316T210000Z
DTEND:20250316T214500Z
LOCATION:Field 1
CONTACT:Gelles
SUMMARY:La Masia (Inter Miami) VS. PSA 14
DESCRIPTION:League Name: 2013/2012 Bronze Boys Soccer 2025 Winter 2 \nGame 
 Type: Postseason\nGame Status: Complete\nHome Team: La Masia (Inter Miami)
 \nAway Team: PSA 14\nHome Score: 9\nAway Score: 2
END:VEVENT
END:VCALENDAR
