BEGIN:VCALENDAR
VERSION:2.0
PRODID:-//EZFacility.com, Inc.//EZL 2.5.5.28621
BEGIN:VEVENT
UID:16185815@ezleagues.ezfacility.com
DTSTAMP:20260425T012754Z
CREATED:20260425T012754Z
DTSTART:20250121T011500Z
DTEND:20250121T021500Z
LOCATION:Field 1
CONTACT:
SUMMARY:Andy Parker Real Estate VS. Ump Yours
DESCRIPTION:League Name: 2025 S1 Mon Coed Lite- Jan. 20\nGame Type: Regular
 \nGame Status: Complete\nHome Team: Andy Parker Real Estate\nAway Team: Um
 p Yours\nHome Score: 16\nAway Score: 18
END:VEVENT
BEGIN:VEVENT
UID:16185816@ezleagues.ezfacility.com
DTSTAMP:20260425T012754Z
CREATED:20260425T012754Z
DTSTART:20250121T021500Z
DTEND:20250121T031500Z
LOCATION:Field 1
CONTACT:
SUMMARY:Ump Yours VS. Andy Parker Real Estate
DESCRIPTION:League Name: 2025 S1 Mon Coed Lite- Jan. 20\nGame Type: Regular
 \nGame Status: Complete\nHome Team: Ump Yours\nAway Team: Andy Parker Real
  Estate\nHome Score: 1\nAway Score: 4
END:VEVENT
BEGIN:VEVENT
UID:16185835@ezleagues.ezfacility.com
DTSTAMP:20260425T012754Z
CREATED:20260425T012754Z
DTSTART:20250128T011500Z
DTEND:20250128T021500Z
LOCATION:Field 2
CONTACT:
SUMMARY:Andy Parker Real Estate VS. Hot Mess
DESCRIPTION:League Name: 2025 S1 Mon Coed Lite- Jan. 20\nGame Type: Regular
 \nGame Status: Complete\nHome Team: Andy Parker Real Estate\nAway Team: Ho
 t Mess\nHome Score: 13\nAway Score: 3
END:VEVENT
BEGIN:VEVENT
UID:16185836@ezleagues.ezfacility.com
DTSTAMP:20260425T012754Z
CREATED:20260425T012754Z
DTSTART:20250128T021500Z
DTEND:20250128T031500Z
LOCATION:Field 2
CONTACT:
SUMMARY:Hot Mess VS. Andy Parker Real Estate
DESCRIPTION:League Name: 2025 S1 Mon Coed Lite- Jan. 20\nGame Type: Regular
 \nGame Status: Complete\nHome Team: Hot Mess\nAway Team: Andy Parker Real 
 Estate\nHome Score: 13\nAway Score: 7
END:VEVENT
BEGIN:VEVENT
UID:16185847@ezleagues.ezfacility.com
DTSTAMP:20260425T012754Z
CREATED:20260425T012754Z
DTSTART:20250204T011500Z
DTEND:20250204T021500Z
LOCATION:Field 2
CONTACT:
SUMMARY:Andy Parker Real Estate VS. Uncle Sausage
DESCRIPTION:League Name: 2025 S1 Mon Coed Lite- Jan. 20\nGame Type: Regular
 \nGame Status: Complete\nHome Team: Andy Parker Real Estate\nAway Team: Un
 cle Sausage\nHome Score: 11\nAway Score: 11
END:VEVENT
BEGIN:VEVENT
UID:16185848@ezleagues.ezfacility.com
DTSTAMP:20260425T012754Z
CREATED:20260425T012754Z
DTSTART:20250204T021500Z
DTEND:20250204T031500Z
LOCATION:Field 2
CONTACT:
SUMMARY:Uncle Sausage VS. Andy Parker Real Estate
DESCRIPTION:League Name: 2025 S1 Mon Coed Lite- Jan. 20\nGame Type: Regular
 \nGame Status: Complete\nHome Team: Uncle Sausage\nAway Team: Andy Parker 
 Real Estate\nHome Score: 11\nAway Score: 23
END:VEVENT
BEGIN:VEVENT
UID:16185857@ezleagues.ezfacility.com
DTSTAMP:20260425T012754Z
CREATED:20260425T012754Z
DTSTART:20250211T031500Z
DTEND:20250211T041500Z
LOCATION:Field 3
CONTACT:
SUMMARY:Andy Parker Real Estate VS. Ump Yours
DESCRIPTION:League Name: 2025 S1 Mon Coed Lite- Jan. 20\nGame Type: Regular
 \nGame Status: Complete\nHome Team: Andy Parker Real Estate\nAway Team: Um
 p Yours\nHome Score: 19\nAway Score: 29
END:VEVENT
BEGIN:VEVENT
UID:16185858@ezleagues.ezfacility.com
DTSTAMP:20260425T012754Z
CREATED:20260425T012754Z
DTSTART:20250211T041500Z
DTEND:20250211T051500Z
LOCATION:Field 3
CONTACT:
SUMMARY:Ump Yours VS. Andy Parker Real Estate
DESCRIPTION:League Name: 2025 S1 Mon Coed Lite- Jan. 20\nGame Type: Regular
 \nGame Status: Complete\nHome Team: Ump Yours\nAway Team: Andy Parker Real
  Estate\nHome Score: 20\nAway Score: 8
END:VEVENT
BEGIN:VEVENT
UID:16185873@ezleagues.ezfacility.com
DTSTAMP:20260425T012754Z
CREATED:20260425T012754Z
DTSTART:20250218T031500Z
DTEND:20250218T041500Z
LOCATION:Field 2
CONTACT:
SUMMARY:Andy Parker Real Estate VS. Bean Jawn
DESCRIPTION:League Name: 2025 S1 Mon Coed Lite- Jan. 20\nGame Type: Regular
 \nGame Status: Complete\nHome Team: Andy Parker Real Estate\nAway Team: Be
 an Jawn\nHome Score: 18\nAway Score: 16
END:VEVENT
BEGIN:VEVENT
UID:16185874@ezleagues.ezfacility.com
DTSTAMP:20260425T012754Z
CREATED:20260425T012754Z
DTSTART:20250218T041500Z
DTEND:20250218T051500Z
LOCATION:Field 2
CONTACT:
SUMMARY:Bean Jawn VS. Andy Parker Real Estate
DESCRIPTION:League Name: 2025 S1 Mon Coed Lite- Jan. 20\nGame Type: Regular
 \nGame Status: Complete\nHome Team: Bean Jawn\nAway Team: Andy Parker Real
  Estate\nHome Score: 3\nAway Score: 18
END:VEVENT
BEGIN:VEVENT
UID:16185885@ezleagues.ezfacility.com
DTSTAMP:20260425T012754Z
CREATED:20260425T012754Z
DTSTART:20250225T031500Z
DTEND:20250225T041500Z
LOCATION:Field 3
CONTACT:
SUMMARY:Bat and Boujee VS. Andy Parker Real Estate
DESCRIPTION:League Name: 2025 S1 Mon Coed Lite- Jan. 20\nGame Type: Regular
 \nGame Status: Complete\nHome Team: Bat and Boujee\nAway Team: Andy Parker
  Real Estate\nHome Score: 2\nAway Score: 28
END:VEVENT
BEGIN:VEVENT
UID:16185886@ezleagues.ezfacility.com
DTSTAMP:20260425T012754Z
CREATED:20260425T012754Z
DTSTART:20250225T041500Z
DTEND:20250225T051500Z
LOCATION:Field 3
CONTACT:
SUMMARY:Andy Parker Real Estate VS. Bat and Boujee
DESCRIPTION:League Name: 2025 S1 Mon Coed Lite- Jan. 20\nGame Type: Regular
 \nGame Status: Complete\nHome Team: Andy Parker Real Estate\nAway Team: Ba
 t and Boujee\nHome Score: 23\nAway Score: 3
END:VEVENT
BEGIN:VEVENT
UID:16185897@ezleagues.ezfacility.com
DTSTAMP:20260425T012754Z
CREATED:20260425T012754Z
DTSTART:20250304T031500Z
DTEND:20250304T041500Z
LOCATION:Field 3
CONTACT:
SUMMARY:Practice squad VS. Andy Parker Real Estate
DESCRIPTION:League Name: 2025 S1 Mon Coed Lite- Jan. 20\nGame Type: Regular
 \nGame Status: Complete\nHome Team: Practice squad\nAway Team: Andy Parker
  Real Estate\nHome Score: 8\nAway Score: 27
END:VEVENT
BEGIN:VEVENT
UID:16185898@ezleagues.ezfacility.com
DTSTAMP:20260425T012754Z
CREATED:20260425T012754Z
DTSTART:20250304T041500Z
DTEND:20250304T051500Z
LOCATION:Field 3
CONTACT:
SUMMARY:Andy Parker Real Estate VS. Practice squad
DESCRIPTION:League Name: 2025 S1 Mon Coed Lite- Jan. 20\nGame Type: Regular
 \nGame Status: Complete\nHome Team: Andy Parker Real Estate\nAway Team: Pr
 actice squad\nHome Score: 12\nAway Score: 1
END:VEVENT
BEGIN:VEVENT
UID:16276218@ezleagues.ezfacility.com
DTSTAMP:20260425T012754Z
CREATED:20260425T012754Z
DTSTART:20250311T031500Z
DTEND:20250311T041500Z
LOCATION:Field 3
CONTACT:
SUMMARY:Uncle Sausage VS. Andy Parker Real Estate
DESCRIPTION:League Name: 2025 S1 Mon Coed Lite- Jan. 20\nGame Type: Postsea
 son\nGame Status: Complete\nHome Team: Uncle Sausage\nAway Team: Andy Park
 er Real Estate\nHome Score: 0\nAway Score: 18
END:VEVENT
END:VCALENDAR
