BEGIN:VCALENDAR
VERSION:2.0
PRODID:-//EZFacility.com, Inc.//EZL 2.5.5.28621
BEGIN:VEVENT
UID:16190428@ezleagues.ezfacility.com
DTSTAMP:20260424T044045Z
CREATED:20260424T044045Z
DTSTART:20250121T031500Z
DTEND:20250121T040000Z
LOCATION:volleyball crt 1
CONTACT:
SUMMARY:Empire Spikes Back VS. I might serve\, bend that corner woah
DESCRIPTION:League Name: 2024-25-Intramural Volleyball- Mixed Rec League, 6
 v6\nGame Type: Regular\nGame Status: Complete\nHome Team: Empire Spikes Ba
 ck\nAway Team: I might serve, bend that corner woah\nHome Score: 50\nAway 
 Score: 40
END:VEVENT
BEGIN:VEVENT
UID:16190445@ezleagues.ezfacility.com
DTSTAMP:20260424T044045Z
CREATED:20260424T044045Z
DTSTART:20250130T014500Z
DTEND:20250130T023000Z
LOCATION:volleyball crt 1
CONTACT:
SUMMARY:Red hot silly peppers VS. Empire Spikes Back
DESCRIPTION:League Name: 2024-25-Intramural Volleyball- Mixed Rec League, 6
 v6\nGame Type: Regular\nGame Status: Rescheduled\nHome Team: Red hot silly
  peppers\nAway Team: Empire Spikes Back\n
END:VEVENT
BEGIN:VEVENT
UID:16190462@ezleagues.ezfacility.com
DTSTAMP:20260424T044045Z
CREATED:20260424T044045Z
DTSTART:20250204T023000Z
DTEND:20250204T031500Z
LOCATION:volleyball crt 3
CONTACT:
SUMMARY:Spikeoholics VS. Empire Spikes Back
DESCRIPTION:League Name: 2024-25-Intramural Volleyball- Mixed Rec League, 6
 v6\nGame Type: Regular\nGame Status: Complete\nHome Team: Spikeoholics\nAw
 ay Team: Empire Spikes Back\nHome Score: 40\nAway Score: 58
END:VEVENT
BEGIN:VEVENT
UID:16190479@ezleagues.ezfacility.com
DTSTAMP:20260424T044045Z
CREATED:20260424T044045Z
DTSTART:20250211T023000Z
DTEND:20250211T031500Z
LOCATION:volleyball crt 3
CONTACT:
SUMMARY:Empire Spikes Back VS. The Engine Room
DESCRIPTION:League Name: 2024-25-Intramural Volleyball- Mixed Rec League, 6
 v6\nGame Type: Regular\nGame Status: Complete\nHome Team: Empire Spikes Ba
 ck\nAway Team: The Engine Room\nHome Score: 42\nAway Score: 44
END:VEVENT
BEGIN:VEVENT
UID:16221354@ezleagues.ezfacility.com
DTSTAMP:20260424T044045Z
CREATED:20260424T044045Z
DTSTART:20250225T014500Z
DTEND:20250225T023000Z
LOCATION:volleyball crt 1
CONTACT:
SUMMARY:Red hot silly peppers VS. Empire Spikes Back
DESCRIPTION:League Name: 2024-25-Intramural Volleyball- Mixed Rec League, 6
 v6\nGame Type: Regular\nGame Status: Complete\nHome Team: Red hot silly pe
 ppers\nAway Team: Empire Spikes Back\nHome Score: 37\nAway Score: 45
END:VEVENT
BEGIN:VEVENT
UID:16229034@ezleagues.ezfacility.com
DTSTAMP:20260424T044045Z
CREATED:20260424T044045Z
DTSTART:20250226T014500Z
DTEND:20250226T023000Z
LOCATION:volleyball crt 1
CONTACT:
SUMMARY:Misson Unblockable VS. Empire Spikes Back
DESCRIPTION:League Name: 2024-25-Intramural Volleyball- Mixed Rec League, 6
 v6\nGame Type: Postseason\nGame Status: Complete\nHome Team: Misson Unbloc
 kable\nAway Team: Empire Spikes Back\nHome Score: 41\nAway Score: 47
END:VEVENT
BEGIN:VEVENT
UID:16229056@ezleagues.ezfacility.com
DTSTAMP:20260424T044045Z
CREATED:20260424T044045Z
DTSTART:20250227T014500Z
DTEND:20250227T023000Z
LOCATION:volleyball crt 2
CONTACT:
SUMMARY:Empire Spikes Back VS. Ace Holes 2.0
DESCRIPTION:League Name: 2024-25-Intramural Volleyball- Mixed Rec League, 6
 v6\nGame Type: Postseason\nGame Status: Complete\nHome Team: Empire Spikes
  Back\nAway Team: Ace Holes 2.0\nHome Score: 47\nAway Score: 48
END:VEVENT
END:VCALENDAR
