BEGIN:VCALENDAR
VERSION:2.0
PRODID:-//EZFacility.com, Inc.//EZL 2.5.5.28621
BEGIN:VEVENT
UID:16189206@ezleagues.ezfacility.com
DTSTAMP:20260422T035050Z
CREATED:20260422T035050Z
DTSTART:20250115T012000Z
DTEND:20250115T021000Z
LOCATION:Blue Field
CONTACT:
SUMMARY:Beef Broth FC VS. Crimson FC
DESCRIPTION:League Name: Winter B Soccer Session (2025) - Mens C Division\n
 Game Type: Regular\nGame Status: Complete\nHome Team: Beef Broth FC\nAway 
 Team: Crimson FC\nHome Score: 1\nAway Score: 4
END:VEVENT
BEGIN:VEVENT
UID:16189203@ezleagues.ezfacility.com
DTSTAMP:20260422T035050Z
CREATED:20260422T035050Z
DTSTART:20250122T021500Z
DTEND:20250122T030500Z
LOCATION:Blue Field
CONTACT:
SUMMARY:Beef Broth FC VS. Team USA
DESCRIPTION:League Name: Winter B Soccer Session (2025) - Mens C Division\n
 Game Type: Regular\nGame Status: Complete\nHome Team: Beef Broth FC\nAway 
 Team: Team USA\nHome Score: 8\nAway Score: 4
END:VEVENT
BEGIN:VEVENT
UID:16194104@ezleagues.ezfacility.com
DTSTAMP:20260422T035050Z
CREATED:20260422T035050Z
DTSTART:20250129T035500Z
DTEND:20250129T044500Z
LOCATION:Red Field
CONTACT:
SUMMARY:Washed VS. Beef Broth FC
DESCRIPTION:League Name: Winter B Soccer Session (2025) - Mens C Division\n
 Game Type: Regular\nGame Status: Complete\nHome Team: Washed\nAway Team: B
 eef Broth FC\nHome Score: 2\nAway Score: 3
END:VEVENT
BEGIN:VEVENT
UID:16194124@ezleagues.ezfacility.com
DTSTAMP:20260422T035050Z
CREATED:20260422T035050Z
DTSTART:20250215T020500Z
DTEND:20250215T025500Z
LOCATION:Red Field
CONTACT:
SUMMARY:OLDevils FC VS. Beef Broth FC
DESCRIPTION:League Name: Winter B Soccer Session (2025) - Mens C Division\n
 Game Type: Regular\nGame Status: Rescheduled\nHome Team: OLDevils FC\nAway
  Team: Beef Broth FC\n
END:VEVENT
BEGIN:VEVENT
UID:16194109@ezleagues.ezfacility.com
DTSTAMP:20260422T035050Z
CREATED:20260422T035050Z
DTSTART:20250219T031000Z
DTEND:20250219T040000Z
LOCATION:Blue Field
CONTACT:
SUMMARY:Beef Broth FC VS. MGM United
DESCRIPTION:League Name: Winter B Soccer Session (2025) - Mens C Division\n
 Game Type: Regular\nGame Status: Complete\nHome Team: Beef Broth FC\nAway 
 Team: MGM United\nHome Score: 4\nAway Score: 0
END:VEVENT
BEGIN:VEVENT
UID:16239385@ezleagues.ezfacility.com
DTSTAMP:20260422T035050Z
CREATED:20260422T035050Z
DTSTART:20250220T035500Z
DTEND:20250220T044500Z
LOCATION:Red Field
CONTACT:
SUMMARY:OLDevils FC VS. Beef Broth FC
DESCRIPTION:League Name: Winter B Soccer Session (2025) - Mens C Division\n
 Game Type: Regular\nGame Status: Complete\nHome Team: OLDevils FC\nAway Te
 am: Beef Broth FC\nHome Score: 3\nAway Score: 6
END:VEVENT
BEGIN:VEVENT
UID:16194125@ezleagues.ezfacility.com
DTSTAMP:20260422T035050Z
CREATED:20260422T035050Z
DTSTART:20250301T020500Z
DTEND:20250301T025500Z
LOCATION:Red Field
CONTACT:
SUMMARY:Beef Broth FC VS. Winter Willies
DESCRIPTION:League Name: Winter B Soccer Session (2025) - Mens C Division\n
 Game Type: Regular\nGame Status: Complete\nHome Team: Beef Broth FC\nAway 
 Team: Winter Willies\nHome Score: 8\nAway Score: 3
END:VEVENT
BEGIN:VEVENT
UID:16203920@ezleagues.ezfacility.com
DTSTAMP:20260422T035050Z
CREATED:20260422T035050Z
DTSTART:20250305T021500Z
DTEND:20250305T030500Z
LOCATION:Blue Field
CONTACT:
SUMMARY:Beef Broth FC VS. Lasalle
DESCRIPTION:League Name: Winter B Soccer Session (2025) - Mens C Division\n
 Game Type: Postseason\nGame Status: Complete\nHome Team: Beef Broth FC\nAw
 ay Team: Lasalle\nHome Score: 2\nAway Score: 1
END:VEVENT
BEGIN:VEVENT
UID:16203929@ezleagues.ezfacility.com
DTSTAMP:20260422T035050Z
CREATED:20260422T035050Z
DTSTART:20250312T010500Z
DTEND:20250312T015500Z
LOCATION:Red Field
CONTACT:
SUMMARY:Crimson FC VS. Beef Broth FC
DESCRIPTION:League Name: Winter B Soccer Session (2025) - Mens C Division\n
 Game Type: Postseason\nGame Status: Complete\nHome Team: Crimson FC\nAway 
 Team: Beef Broth FC\nHome Score: 4\nAway Score: 5
END:VEVENT
END:VCALENDAR
