BEGIN:VCALENDAR
VERSION:2.0
PRODID:-//EZFacility.com, Inc.//EZL 2.5.5.28621
BEGIN:VEVENT
UID:16189168@ezleagues.ezfacility.com
DTSTAMP:20260423T221119Z
CREATED:20260423T221119Z
DTSTART:20250116T033000Z
DTEND:20250116T042000Z
LOCATION:Blue Field
CONTACT:
SUMMARY:We Have No Name VS. Cornjerkers!
DESCRIPTION:League Name: Winter B Soccer Session (2025) - Coed Recreational
  Division\nGame Type: Regular\nGame Status: Complete\nHome Team: We Have N
 o Name\nAway Team: Cornjerkers!\nHome Score: 3\nAway Score: 3
END:VEVENT
BEGIN:VEVENT
UID:16189156@ezleagues.ezfacility.com
DTSTAMP:20260423T221119Z
CREATED:20260423T221119Z
DTSTART:20250121T023000Z
DTEND:20250121T032000Z
LOCATION:Red Field
CONTACT:
SUMMARY:Robben You Blind VS. We Have No Name
DESCRIPTION:League Name: Winter B Soccer Session (2025) - Coed Recreational
  Division\nGame Type: Regular\nGame Status: Complete\nHome Team: Robben Yo
 u Blind\nAway Team: We Have No Name\nHome Score: 6\nAway Score: 5
END:VEVENT
BEGIN:VEVENT
UID:16194171@ezleagues.ezfacility.com
DTSTAMP:20260423T221119Z
CREATED:20260423T221119Z
DTSTART:20250130T033000Z
DTEND:20250130T042000Z
LOCATION:Blue Field
CONTACT:
SUMMARY:We Have No Name VS. Diamond Dogs
DESCRIPTION:League Name: Winter B Soccer Session (2025) - Coed Recreational
  Division\nGame Type: Regular\nGame Status: Complete\nHome Team: We Have N
 o Name\nAway Team: Diamond Dogs\nHome Score: 3\nAway Score: 3
END:VEVENT
BEGIN:VEVENT
UID:16194196@ezleagues.ezfacility.com
DTSTAMP:20260423T221119Z
CREATED:20260423T221119Z
DTSTART:20250213T023500Z
DTEND:20250213T032500Z
LOCATION:Blue Field
CONTACT:
SUMMARY:We Have No Name VS. The boys and girls
DESCRIPTION:League Name: Winter B Soccer Session (2025) - Coed Recreational
  Division\nGame Type: Regular\nGame Status: Complete\nHome Team: We Have N
 o Name\nAway Team: The boys and girls\nHome Score: 3\nAway Score: 4
END:VEVENT
BEGIN:VEVENT
UID:16194174@ezleagues.ezfacility.com
DTSTAMP:20260423T221119Z
CREATED:20260423T221119Z
DTSTART:20250218T014000Z
DTEND:20250218T023000Z
LOCATION:Red Field
CONTACT:
SUMMARY:We Have No Name VS. Loose Change
DESCRIPTION:League Name: Winter B Soccer Session (2025) - Coed Recreational
  Division\nGame Type: Regular\nGame Status: Complete\nHome Team: We Have N
 o Name\nAway Team: Loose Change\nHome Score: 6\nAway Score: 4
END:VEVENT
BEGIN:VEVENT
UID:16194273@ezleagues.ezfacility.com
DTSTAMP:20260423T221119Z
CREATED:20260423T221119Z
DTSTART:20250304T013500Z
DTEND:20250304T022500Z
LOCATION:Red Field
CONTACT:
SUMMARY:We Have No Name VS. Big Boy FC
DESCRIPTION:League Name: Winter B Soccer Session (2025) - Coed Recreational
  Division\nGame Type: Regular\nGame Status: Complete\nHome Team: We Have N
 o Name\nAway Team: Big Boy FC\nHome Score: 4\nAway Score: 6
END:VEVENT
BEGIN:VEVENT
UID:16203852@ezleagues.ezfacility.com
DTSTAMP:20260423T221119Z
CREATED:20260423T221119Z
DTSTART:20250311T023000Z
DTEND:20250311T032000Z
LOCATION:Blue Field
CONTACT:
SUMMARY:The Goats VS. We Have No Name
DESCRIPTION:League Name: Winter B Soccer Session (2025) - Coed Recreational
  Division\nGame Type: Postseason\nGame Status: Complete\nHome Team: The Go
 ats\nAway Team: We Have No Name\nHome Score: 3\nAway Score: 0
END:VEVENT
BEGIN:VEVENT
UID:16203869@ezleagues.ezfacility.com
DTSTAMP:20260423T221119Z
CREATED:20260423T221119Z
DTSTART:20250318T013500Z
DTEND:20250318T022500Z
LOCATION:Red Field
CONTACT:
SUMMARY:Mourinho's Pizza VS. We Have No Name
DESCRIPTION:League Name: Winter B Soccer Session (2025) - Coed Recreational
  Division\nGame Type: Postseason\nGame Status: Complete\nHome Team: Mourin
 ho's Pizza\nAway Team: We Have No Name\nHome Score: 7\nAway Score: 2
END:VEVENT
BEGIN:VEVENT
UID:16203861@ezleagues.ezfacility.com
DTSTAMP:20260423T221119Z
CREATED:20260423T221119Z
DTSTART:20250320T013500Z
DTEND:20250320T022500Z
LOCATION:Blue Field
CONTACT:
SUMMARY:We Have No Name VS. The Goats
DESCRIPTION:League Name: Winter B Soccer Session (2025) - Coed Recreational
  Division\nGame Type: Postseason\nGame Status: Complete\nHome Team: We Hav
 e No Name\nAway Team: The Goats\nHome Score: 6\nAway Score: 8
END:VEVENT
END:VCALENDAR
