BEGIN:VCALENDAR
VERSION:2.0
PRODID:-//EZFacility.com, Inc.//EZL 2.5.5.28621
BEGIN:VEVENT
UID:16189478@ezleagues.ezfacility.com
DTSTAMP:20260420T101845Z
CREATED:20260420T101845Z
DTSTART:20250118T233000Z
DTEND:20250119T001500Z
LOCATION:Boarded Field South Meadows
CONTACT:
SUMMARY:Truckee Allstars VS. Storm 2
DESCRIPTION:League Name: U13 Girls Winter '25\nGame Type: Regular\nGame Sta
 tus: Pending\nHome Team: Truckee Allstars\nAway Team: Storm 2\n
END:VEVENT
BEGIN:VEVENT
UID:16189483@ezleagues.ezfacility.com
DTSTAMP:20260420T101845Z
CREATED:20260420T101845Z
DTSTART:20250126T001500Z
DTEND:20250126T010000Z
LOCATION:Boarded Field South Meadows
CONTACT:
SUMMARY:Truckee Allstars VS. SSC
DESCRIPTION:League Name: U13 Girls Winter '25\nGame Type: Regular\nGame Sta
 tus: Pending\nHome Team: Truckee Allstars\nAway Team: SSC\n
END:VEVENT
BEGIN:VEVENT
UID:16189487@ezleagues.ezfacility.com
DTSTAMP:20260420T101845Z
CREATED:20260420T101845Z
DTSTART:20250201T224500Z
DTEND:20250201T233000Z
LOCATION:Boarded Field South Meadows
CONTACT:
SUMMARY:Storm VS. Truckee Allstars
DESCRIPTION:League Name: U13 Girls Winter '25\nGame Type: Regular\nGame Sta
 tus: Pending\nHome Team: Storm\nAway Team: Truckee Allstars\n
END:VEVENT
BEGIN:VEVENT
UID:16189490@ezleagues.ezfacility.com
DTSTAMP:20260420T101845Z
CREATED:20260420T101845Z
DTSTART:20250209T001500Z
DTEND:20250209T010000Z
LOCATION:Boarded Field South Meadows
CONTACT:
SUMMARY:Surf 12G VS. Truckee Allstars
DESCRIPTION:League Name: U13 Girls Winter '25\nGame Type: Regular\nGame Sta
 tus: Pending\nHome Team: Surf 12G\nAway Team: Truckee Allstars\n
END:VEVENT
BEGIN:VEVENT
UID:16189493@ezleagues.ezfacility.com
DTSTAMP:20260420T101845Z
CREATED:20260420T101845Z
DTSTART:20250215T233000Z
DTEND:20250216T001500Z
LOCATION:Boarded Field South Meadows
CONTACT:
SUMMARY:SNFC Strikers VS. Truckee Allstars
DESCRIPTION:League Name: U13 Girls Winter '25\nGame Type: Regular\nGame Sta
 tus: Pending\nHome Team: SNFC Strikers\nAway Team: Truckee Allstars\n
END:VEVENT
BEGIN:VEVENT
UID:16189496@ezleagues.ezfacility.com
DTSTAMP:20260420T101845Z
CREATED:20260420T101845Z
DTSTART:20250222T220000Z
DTEND:20250222T224500Z
LOCATION:Boarded Field South Meadows
CONTACT:
SUMMARY:Truckee Allstars VS. NV FC 12G Blue
DESCRIPTION:League Name: U13 Girls Winter '25\nGame Type: Regular\nGame Sta
 tus: Pending\nHome Team: Truckee Allstars\nAway Team: NV FC 12G Blue\n
END:VEVENT
END:VCALENDAR
