BEGIN:VCALENDAR
VERSION:2.0
PRODID:-//EZFacility.com, Inc.//EZL 2.5.5.28621
BEGIN:VEVENT
UID:16189561@ezleagues.ezfacility.com
DTSTAMP:20260424T115925Z
CREATED:20260424T115925Z
DTSTART:20250119T173000Z
DTEND:20250119T181500Z
LOCATION:Boarded Field South Meadows
CONTACT:
SUMMARY:Fallon Soccer VS. Reno Apex Silver
DESCRIPTION:League Name: U15 Girls Winter '25\nGame Type: Regular\nGame Sta
 tus: Pending\nHome Team: Fallon Soccer\nAway Team: Reno Apex Silver\n
END:VEVENT
BEGIN:VEVENT
UID:16189563@ezleagues.ezfacility.com
DTSTAMP:20260424T115925Z
CREATED:20260424T115925Z
DTSTART:20250126T164500Z
DTEND:20250126T173000Z
LOCATION:Boarded Field South Meadows
CONTACT:
SUMMARY:STFC VS. Fallon Soccer
DESCRIPTION:League Name: U15 Girls Winter '25\nGame Type: Regular\nGame Sta
 tus: Pending\nHome Team: STFC\nAway Team: Fallon Soccer\n
END:VEVENT
BEGIN:VEVENT
UID:16189565@ezleagues.ezfacility.com
DTSTAMP:20260424T115925Z
CREATED:20260424T115925Z
DTSTART:20250202T160000Z
DTEND:20250202T164500Z
LOCATION:Boarded Field South Meadows
CONTACT:
SUMMARY:Surf Black VS. Fallon Soccer
DESCRIPTION:League Name: U15 Girls Winter '25\nGame Type: Regular\nGame Sta
 tus: Pending\nHome Team: Surf Black\nAway Team: Fallon Soccer\n
END:VEVENT
BEGIN:VEVENT
UID:16189569@ezleagues.ezfacility.com
DTSTAMP:20260424T115925Z
CREATED:20260424T115925Z
DTSTART:20250209T160000Z
DTEND:20250209T164500Z
LOCATION:Boarded Field South Meadows
CONTACT:
SUMMARY:Fallon Soccer VS. Carson Venom
DESCRIPTION:League Name: U15 Girls Winter '25\nGame Type: Regular\nGame Sta
 tus: Pending\nHome Team: Fallon Soccer\nAway Team: Carson Venom\n
END:VEVENT
BEGIN:VEVENT
UID:16189573@ezleagues.ezfacility.com
DTSTAMP:20260424T115925Z
CREATED:20260424T115925Z
DTSTART:20250216T173000Z
DTEND:20250216T181500Z
LOCATION:Boarded Field South Meadows
CONTACT:
SUMMARY:Fallon Soccer VS. Chupacabras
DESCRIPTION:League Name: U15 Girls Winter '25\nGame Type: Regular\nGame Sta
 tus: Pending\nHome Team: Fallon Soccer\nAway Team: Chupacabras\n
END:VEVENT
BEGIN:VEVENT
UID:16189576@ezleagues.ezfacility.com
DTSTAMP:20260424T115925Z
CREATED:20260424T115925Z
DTSTART:20250223T173000Z
DTEND:20250223T181500Z
LOCATION:Boarded Field South Meadows
CONTACT:
SUMMARY:Reno Apex Silver VS. Fallon Soccer
DESCRIPTION:League Name: U15 Girls Winter '25\nGame Type: Regular\nGame Sta
 tus: Pending\nHome Team: Reno Apex Silver\nAway Team: Fallon Soccer\n
END:VEVENT
END:VCALENDAR
