BEGIN:VCALENDAR
VERSION:2.0
PRODID:-//EZFacility.com, Inc.//EZL 2.5.5.28621
BEGIN:VEVENT
UID:16192947@ezleagues.ezfacility.com
DTSTAMP:20260424T031800Z
CREATED:20260424T031800Z
DTSTART:20250124T025000Z
DTEND:20250124T034000Z
LOCATION:Forest Grove Sports Complex A
CONTACT:
SUMMARY:Blue Lock FC VS. ESC
DESCRIPTION:League Name: Winter 2025 Mens 2 session 2\nGame Type: Regular\n
 Game Status: Complete\nHome Team: Blue Lock FC\nAway Team: ESC\nHome Score
 : 4\nAway Score: 8
END:VEVENT
BEGIN:VEVENT
UID:16192957@ezleagues.ezfacility.com
DTSTAMP:20260424T031800Z
CREATED:20260424T031800Z
DTSTART:20250131T025000Z
DTEND:20250131T034000Z
LOCATION:Forest Grove Sports Complex B
CONTACT:
SUMMARY:ESC VS. The Red Team
DESCRIPTION:League Name: Winter 2025 Mens 2 session 2\nGame Type: Regular\n
 Game Status: Pending\nHome Team: ESC\nAway Team: The Red Team\n
END:VEVENT
BEGIN:VEVENT
UID:16192967@ezleagues.ezfacility.com
DTSTAMP:20260424T031800Z
CREATED:20260424T031800Z
DTSTART:20250207T025000Z
DTEND:20250207T034000Z
LOCATION:Forest Grove Sports Complex C
CONTACT:
SUMMARY:ESC VS. Rovers FC
DESCRIPTION:League Name: Winter 2025 Mens 2 session 2\nGame Type: Regular\n
 Game Status: Complete\nHome Team: ESC\nAway Team: Rovers FC\nHome Score: 6
 \nAway Score: 4
END:VEVENT
BEGIN:VEVENT
UID:16192977@ezleagues.ezfacility.com
DTSTAMP:20260424T031800Z
CREATED:20260424T031800Z
DTSTART:20250214T025000Z
DTEND:20250214T034000Z
LOCATION:Forest Grove Sports Complex C
CONTACT:
SUMMARY:ESC VS. EMFC
DESCRIPTION:League Name: Winter 2025 Mens 2 session 2\nGame Type: Regular\n
 Game Status: Complete\nHome Team: ESC\nAway Team: EMFC\nHome Score: 8\nAwa
 y Score: 8
END:VEVENT
BEGIN:VEVENT
UID:16192986@ezleagues.ezfacility.com
DTSTAMP:20260424T031800Z
CREATED:20260424T031800Z
DTSTART:20250221T025000Z
DTEND:20250221T034000Z
LOCATION:Forest Grove Sports Complex A
CONTACT:
SUMMARY:Pork parade VS. ESC
DESCRIPTION:League Name: Winter 2025 Mens 2 session 2\nGame Type: Regular\n
 Game Status: Complete\nHome Team: Pork parade\nAway Team: ESC\nHome Score:
  8\nAway Score: 11
END:VEVENT
BEGIN:VEVENT
UID:16192994@ezleagues.ezfacility.com
DTSTAMP:20260424T031800Z
CREATED:20260424T031800Z
DTSTART:20250228T025000Z
DTEND:20250228T034000Z
LOCATION:Forest Grove Sports Complex D
CONTACT:
SUMMARY:Underdog VS. ESC
DESCRIPTION:League Name: Winter 2025 Mens 2 session 2\nGame Type: Regular\n
 Game Status: Pending\nHome Team: Underdog\nAway Team: ESC\n
END:VEVENT
END:VCALENDAR
