BEGIN:VCALENDAR
VERSION:2.0
PRODID:-//EZFacility.com, Inc.//EZL 2.5.5.28621
BEGIN:VEVENT
UID:16196937@ezleagues.ezfacility.com
DTSTAMP:20260419T202830Z
CREATED:20260419T202830Z
DTSTART:20250125T195000Z
DTEND:20250125T204000Z
LOCATION:Full Indoor Field
CONTACT:
SUMMARY:Brandywine Bobcats VS. Edwardsburg Orange
DESCRIPTION:League Name: 24-25 Indoor 2-MS Unterliga-Blau\nGame Type: Regul
 ar\nGame Status: Complete\nHome Team: Brandywine Bobcats\nAway Team: Edwar
 dsburg Orange\nHome Score: 7\nAway Score: 1
END:VEVENT
BEGIN:VEVENT
UID:16196949@ezleagues.ezfacility.com
DTSTAMP:20260419T202830Z
CREATED:20260419T202830Z
DTSTART:20250201T195000Z
DTEND:20250201T204000Z
LOCATION:Full Indoor Field
CONTACT:
SUMMARY:SWM Red (Wall) VS. Brandywine Bobcats
DESCRIPTION:League Name: 24-25 Indoor 2-MS Unterliga-Blau\nGame Type: Regul
 ar\nGame Status: Complete\nHome Team: SWM Red (Wall)\nAway Team: Brandywin
 e Bobcats\nHome Score: 0\nAway Score: 1
END:VEVENT
BEGIN:VEVENT
UID:16196945@ezleagues.ezfacility.com
DTSTAMP:20260419T202830Z
CREATED:20260419T202830Z
DTSTART:20250208T204000Z
DTEND:20250208T213000Z
LOCATION:Full Indoor Field
CONTACT:
SUMMARY:SWM '13 White (Werner) VS. Brandywine Bobcats
DESCRIPTION:League Name: 24-25 Indoor 2-MS Unterliga-Blau\nGame Type: Regul
 ar\nGame Status: Complete\nHome Team: SWM '13 White (Werner)\nAway Team: B
 randywine Bobcats\nHome Score: 1\nAway Score: 4
END:VEVENT
BEGIN:VEVENT
UID:16196941@ezleagues.ezfacility.com
DTSTAMP:20260419T202830Z
CREATED:20260419T202830Z
DTSTART:20250215T204000Z
DTEND:20250215T213000Z
LOCATION:Full Indoor Field
CONTACT:
SUMMARY:SWM '11 Girls Blue VS. Brandywine Bobcats
DESCRIPTION:League Name: 24-25 Indoor 2-MS Unterliga-Blau\nGame Type: Regul
 ar\nGame Status: Complete\nHome Team: SWM '11 Girls Blue\nAway Team: Brand
 ywine Bobcats\nHome Score: 0\nAway Score: 4
END:VEVENT
BEGIN:VEVENT
UID:16196953@ezleagues.ezfacility.com
DTSTAMP:20260419T202830Z
CREATED:20260419T202830Z
DTSTART:20250222T204000Z
DTEND:20250222T213000Z
LOCATION:Full Indoor Field
CONTACT:
SUMMARY:SWM '12 White (Boyd) VS. Brandywine Bobcats
DESCRIPTION:League Name: 24-25 Indoor 2-MS Unterliga-Blau\nGame Type: Regul
 ar\nGame Status: Complete\nHome Team: SWM '12 White (Boyd)\nAway Team: Bra
 ndywine Bobcats\nHome Score: 2\nAway Score: 2
END:VEVENT
BEGIN:VEVENT
UID:16196957@ezleagues.ezfacility.com
DTSTAMP:20260419T202830Z
CREATED:20260419T202830Z
DTSTART:20250301T204000Z
DTEND:20250301T213000Z
LOCATION:Full Indoor Field
CONTACT:
SUMMARY:Brandywine Bobcats VS. SWM '11 Girls  Grey
DESCRIPTION:League Name: 24-25 Indoor 2-MS Unterliga-Blau\nGame Type: Regul
 ar\nGame Status: Complete\nHome Team: Brandywine Bobcats\nAway Team: SWM '
 11 Girls  Grey\nHome Score: 2\nAway Score: 2
END:VEVENT
BEGIN:VEVENT
UID:16196961@ezleagues.ezfacility.com
DTSTAMP:20260419T202830Z
CREATED:20260419T202830Z
DTSTART:20250308T204000Z
DTEND:20250308T213000Z
LOCATION:Full Indoor Field
CONTACT:
SUMMARY:Brandywine Bobcats VS. Dowagiac Chieftains
DESCRIPTION:League Name: 24-25 Indoor 2-MS Unterliga-Blau\nGame Type: Regul
 ar\nGame Status: Complete\nHome Team: Brandywine Bobcats\nAway Team: Dowag
 iac Chieftains\nHome Score: 0\nAway Score: 1
END:VEVENT
BEGIN:VEVENT
UID:16197043@ezleagues.ezfacility.com
DTSTAMP:20260419T202830Z
CREATED:20260419T202830Z
DTSTART:20250322T171000Z
DTEND:20250322T180000Z
LOCATION:Full Indoor Field
CONTACT:
SUMMARY:Brandywine Bobcats VS. SWM '11 Girls Blue
DESCRIPTION:League Name: 24-25 Indoor 2-MS Unterliga-Blau\nGame Type: Regul
 ar\nGame Status: Complete\nHome Team: Brandywine Bobcats\nAway Team: SWM '
 11 Girls Blue\nHome Score: 1\nAway Score: 2
END:VEVENT
END:VCALENDAR
