BEGIN:VCALENDAR
VERSION:2.0
PRODID:-//EZFacility.com, Inc.//EZL 2.5.5.28621
BEGIN:VEVENT
UID:16196938@ezleagues.ezfacility.com
DTSTAMP:20260421T121616Z
CREATED:20260421T121616Z
DTSTART:20250125T181000Z
DTEND:20250125T190000Z
LOCATION:Full Indoor Field
CONTACT:
SUMMARY:Dowagiac Chieftains VS. SWM '11 Girls Blue
DESCRIPTION:League Name: 24-25 Indoor 2-MS Unterliga-Blau\nGame Type: Regul
 ar\nGame Status: Complete\nHome Team: Dowagiac Chieftains\nAway Team: SWM 
 '11 Girls Blue\nHome Score: 0\nAway Score: 0
END:VEVENT
BEGIN:VEVENT
UID:16196946@ezleagues.ezfacility.com
DTSTAMP:20260421T121616Z
CREATED:20260421T121616Z
DTSTART:20250208T181000Z
DTEND:20250208T190000Z
LOCATION:Full Indoor Field
CONTACT:
SUMMARY:SWM '11 Girls Blue VS. SWM Red (Wall)
DESCRIPTION:League Name: 24-25 Indoor 2-MS Unterliga-Blau\nGame Type: Regul
 ar\nGame Status: Complete\nHome Team: SWM '11 Girls Blue\nAway Team: SWM R
 ed (Wall)\nHome Score: 1\nAway Score: 1
END:VEVENT
BEGIN:VEVENT
UID:16196941@ezleagues.ezfacility.com
DTSTAMP:20260421T121616Z
CREATED:20260421T121616Z
DTSTART:20250215T204000Z
DTEND:20250215T213000Z
LOCATION:Full Indoor Field
CONTACT:
SUMMARY:SWM '11 Girls Blue VS. Brandywine Bobcats
DESCRIPTION:League Name: 24-25 Indoor 2-MS Unterliga-Blau\nGame Type: Regul
 ar\nGame Status: Complete\nHome Team: SWM '11 Girls Blue\nAway Team: Brand
 ywine Bobcats\nHome Score: 0\nAway Score: 4
END:VEVENT
BEGIN:VEVENT
UID:16196956@ezleagues.ezfacility.com
DTSTAMP:20260421T121616Z
CREATED:20260421T121616Z
DTSTART:20250222T195000Z
DTEND:20250222T204000Z
LOCATION:Full Indoor Field
CONTACT:
SUMMARY:SWM '11 Girls Blue VS. Edwardsburg Orange
DESCRIPTION:League Name: 24-25 Indoor 2-MS Unterliga-Blau\nGame Type: Regul
 ar\nGame Status: Complete\nHome Team: SWM '11 Girls Blue\nAway Team: Edwar
 dsburg Orange\nHome Score: 4\nAway Score: 0
END:VEVENT
BEGIN:VEVENT
UID:16196960@ezleagues.ezfacility.com
DTSTAMP:20260421T121616Z
CREATED:20260421T121616Z
DTSTART:20250301T195000Z
DTEND:20250301T204000Z
LOCATION:Full Indoor Field
CONTACT:
SUMMARY:SWM '13 White (Werner) VS. SWM '11 Girls Blue
DESCRIPTION:League Name: 24-25 Indoor 2-MS Unterliga-Blau\nGame Type: Regul
 ar\nGame Status: Complete\nHome Team: SWM '13 White (Werner)\nAway Team: S
 WM '11 Girls Blue\nHome Score: 2\nAway Score: 2
END:VEVENT
BEGIN:VEVENT
UID:16196963@ezleagues.ezfacility.com
DTSTAMP:20260421T121616Z
CREATED:20260421T121616Z
DTSTART:20250308T190000Z
DTEND:20250308T195000Z
LOCATION:Full Indoor Field
CONTACT:
SUMMARY:SWM '12 White (Boyd) VS. SWM '11 Girls Blue
DESCRIPTION:League Name: 24-25 Indoor 2-MS Unterliga-Blau\nGame Type: Regul
 ar\nGame Status: Complete\nHome Team: SWM '12 White (Boyd)\nAway Team: SWM
  '11 Girls Blue\nHome Score: 0\nAway Score: 4
END:VEVENT
BEGIN:VEVENT
UID:16196951@ezleagues.ezfacility.com
DTSTAMP:20260421T121616Z
CREATED:20260421T121616Z
DTSTART:20250315T153000Z
DTEND:20250315T162000Z
LOCATION:Full Indoor Field
CONTACT:
SUMMARY:SWM '11 Girls Blue VS. SWM '11 Girls  Grey
DESCRIPTION:League Name: 24-25 Indoor 2-MS Unterliga-Blau\nGame Type: Regul
 ar\nGame Status: Complete\nHome Team: SWM '11 Girls Blue\nAway Team: SWM '
 11 Girls  Grey\nHome Score: 2\nAway Score: 2
END:VEVENT
BEGIN:VEVENT
UID:16197043@ezleagues.ezfacility.com
DTSTAMP:20260421T121616Z
CREATED:20260421T121616Z
DTSTART:20250322T171000Z
DTEND:20250322T180000Z
LOCATION:Full Indoor Field
CONTACT:
SUMMARY:Brandywine Bobcats VS. SWM '11 Girls Blue
DESCRIPTION:League Name: 24-25 Indoor 2-MS Unterliga-Blau\nGame Type: Regul
 ar\nGame Status: Complete\nHome Team: Brandywine Bobcats\nAway Team: SWM '
 11 Girls Blue\nHome Score: 1\nAway Score: 2
END:VEVENT
END:VCALENDAR
