BEGIN:VCALENDAR
VERSION:2.0
PRODID:-//EZFacility.com, Inc.//EZL 2.5.5.28621
BEGIN:VEVENT
UID:16193699@ezleagues.ezfacility.com
DTSTAMP:20260426T035145Z
CREATED:20260426T035145Z
DTSTART:20250108T030000Z
DTEND:20250108T040000Z
LOCATION:Field 2
CONTACT:Blank
SUMMARY:Cafeteros VS. SILVER LAKE
DESCRIPTION:League Name: Mon/Tues/Wed Men's Soccer League (Winter - 2025) -
 Division 3-American Conference\nGame Type: Regular\nGame Status: Complete\
 nHome Team: Cafeteros\nAway Team: SILVER LAKE\nHome Score: 3\nAway Score: 
 6
END:VEVENT
BEGIN:VEVENT
UID:16193703@ezleagues.ezfacility.com
DTSTAMP:20260426T035145Z
CREATED:20260426T035145Z
DTSTART:20250115T030000Z
DTEND:20250115T040000Z
LOCATION:Field 2
CONTACT:Blank
SUMMARY:Cafeteros VS. UNATLETICO
DESCRIPTION:League Name: Mon/Tues/Wed Men's Soccer League (Winter - 2025) -
 Division 3-American Conference\nGame Type: Regular\nGame Status: Complete\
 nHome Team: Cafeteros\nAway Team: UNATLETICO\nHome Score: 3\nAway Score: 4
END:VEVENT
BEGIN:VEVENT
UID:16193707@ezleagues.ezfacility.com
DTSTAMP:20260426T035145Z
CREATED:20260426T035145Z
DTSTART:20250124T030000Z
DTEND:20250124T040000Z
LOCATION:Field 2
CONTACT:Herrera
SUMMARY:PSC I FC VS. Cafeteros
DESCRIPTION:League Name: Mon/Tues/Wed Men's Soccer League (Winter - 2025) -
 Division 3-American Conference\nGame Type: Regular\nGame Status: Complete\
 nHome Team: PSC I FC\nAway Team: Cafeteros\nHome Score: 3\nAway Score: 5
END:VEVENT
BEGIN:VEVENT
UID:16215878@ezleagues.ezfacility.com
DTSTAMP:20260426T035145Z
CREATED:20260426T035145Z
DTSTART:20250129T040000Z
DTEND:20250129T050000Z
LOCATION:Field 2
CONTACT:Blank
SUMMARY:Cafeteros VS. SELECAO
DESCRIPTION:League Name: Mon/Tues/Wed Men's Soccer League (Winter - 2025) -
 Division 3-American Conference\nGame Type: Regular\nGame Status: Complete\
 nHome Team: Cafeteros\nAway Team: SELECAO\nHome Score: 3\nAway Score: 6
END:VEVENT
BEGIN:VEVENT
UID:16198602@ezleagues.ezfacility.com
DTSTAMP:20260426T035145Z
CREATED:20260426T035145Z
DTSTART:20250205T030000Z
DTEND:20250205T040000Z
LOCATION:Field 1
CONTACT:Kalafatis
SUMMARY:Milan FC VS. Cafeteros
DESCRIPTION:League Name: Mon/Tues/Wed Men's Soccer League (Winter - 2025) -
 Division 3-American Conference\nGame Type: Regular\nGame Status: Complete\
 nHome Team: Milan FC\nAway Team: Cafeteros\nHome Score: 10\nAway Score: 7
END:VEVENT
BEGIN:VEVENT
UID:16260868@ezleagues.ezfacility.com
DTSTAMP:20260426T035145Z
CREATED:20260426T035145Z
DTSTART:20250221T030000Z
DTEND:20250221T040000Z
LOCATION:Field 2
CONTACT:Blank
SUMMARY:Cafeteros VS. MANDEEZY
DESCRIPTION:League Name: Mon/Tues/Wed Men's Soccer League (Winter - 2025) -
 Division 3-American Conference\nGame Type: Regular\nGame Status: Complete\
 nHome Team: Cafeteros\nAway Team: MANDEEZY\nHome Score: 2\nAway Score: 15
END:VEVENT
BEGIN:VEVENT
UID:16198605@ezleagues.ezfacility.com
DTSTAMP:20260426T035145Z
CREATED:20260426T035145Z
DTSTART:20250226T040000Z
DTEND:20250226T050000Z
LOCATION:Field 1
CONTACT:Ferreira
SUMMARY:Cafeteros VS. Gladiators FC
DESCRIPTION:League Name: Mon/Tues/Wed Men's Soccer League (Winter - 2025) -
 Division 3-American Conference\nGame Type: Regular\nGame Status: Complete\
 nHome Team: Cafeteros\nAway Team: Gladiators FC\nHome Score: 5\nAway Score
 : 8
END:VEVENT
END:VCALENDAR
