BEGIN:VCALENDAR
VERSION:2.0
PRODID:-//EZFacility.com, Inc.//EZL 2.5.5.28621
BEGIN:VEVENT
UID:16194780@ezleagues.ezfacility.com
DTSTAMP:20260426T021450Z
CREATED:20260426T021450Z
DTSTART:20250125T140000Z
DTEND:20250125T150000Z
LOCATION:Futsal Court 1
CONTACT:
SUMMARY:Bethany A VS. Goshen Stars White Aaron 
DESCRIPTION:League Name: Boys 2015/16 Winter Futsal League\nGame Type: Regu
 lar\nGame Status: Complete\nHome Team: Bethany A\nAway Team: Goshen Stars 
 White Aaron \nHome Score: 11\nAway Score: 3
END:VEVENT
BEGIN:VEVENT
UID:16208744@ezleagues.ezfacility.com
DTSTAMP:20260426T021450Z
CREATED:20260426T021450Z
DTSTART:20250201T150000Z
DTEND:20250201T160000Z
LOCATION:Futsal Court 1
CONTACT:
SUMMARY:Goshen Stars White Aaron  VS. Flamingos 2016
DESCRIPTION:League Name: Boys 2015/16 Winter Futsal League\nGame Type: Regu
 lar\nGame Status: Complete\nHome Team: Goshen Stars White Aaron \nAway Tea
 m: Flamingos 2016\nHome Score: 2\nAway Score: 6
END:VEVENT
BEGIN:VEVENT
UID:16221377@ezleagues.ezfacility.com
DTSTAMP:20260426T021450Z
CREATED:20260426T021450Z
DTSTART:20250208T150000Z
DTEND:20250208T160000Z
LOCATION:Futsal Court 1
CONTACT:
SUMMARY:ECU gold 2016 VS. Goshen Stars White Aaron 
DESCRIPTION:League Name: Boys 2015/16 Winter Futsal League\nGame Type: Regu
 lar\nGame Status: Complete\nHome Team: ECU gold 2016\nAway Team: Goshen St
 ars White Aaron \nHome Score: 8\nAway Score: 1
END:VEVENT
BEGIN:VEVENT
UID:16221383@ezleagues.ezfacility.com
DTSTAMP:20260426T021450Z
CREATED:20260426T021450Z
DTSTART:20250215T150000Z
DTEND:20250215T160000Z
LOCATION:Futsal Court 1
CONTACT:
SUMMARY:Bethany B VS. Goshen Stars White Aaron 
DESCRIPTION:League Name: Boys 2015/16 Winter Futsal League\nGame Type: Regu
 lar\nGame Status: Complete\nHome Team: Bethany B\nAway Team: Goshen Stars 
 White Aaron \nHome Score: 11\nAway Score: 1
END:VEVENT
BEGIN:VEVENT
UID:16221390@ezleagues.ezfacility.com
DTSTAMP:20260426T021450Z
CREATED:20260426T021450Z
DTSTART:20250222T150000Z
DTEND:20250222T160000Z
LOCATION:Futsal Court 2
CONTACT:
SUMMARY:Goshen Stars Red Rhonal  VS. Goshen Stars White Aaron 
DESCRIPTION:League Name: Boys 2015/16 Winter Futsal League\nGame Type: Regu
 lar\nGame Status: Complete\nHome Team: Goshen Stars Red Rhonal \nAway Team
 : Goshen Stars White Aaron \nHome Score: 10\nAway Score: 2
END:VEVENT
BEGIN:VEVENT
UID:16221392@ezleagues.ezfacility.com
DTSTAMP:20260426T021450Z
CREATED:20260426T021450Z
DTSTART:20250301T150000Z
DTEND:20250301T160000Z
LOCATION:Futsal Court 1
CONTACT:
SUMMARY:Goshen Stars White Aaron  VS. Goshen Stars White Job
DESCRIPTION:League Name: Boys 2015/16 Winter Futsal League\nGame Type: Regu
 lar\nGame Status: Complete\nHome Team: Goshen Stars White Aaron \nAway Tea
 m: Goshen Stars White Job\nHome Score: 4\nAway Score: 4
END:VEVENT
BEGIN:VEVENT
UID:16269591@ezleagues.ezfacility.com
DTSTAMP:20260426T021450Z
CREATED:20260426T021450Z
DTSTART:20250308T150000Z
DTEND:20250308T160000Z
LOCATION:Futsal Court 1
CONTACT:
SUMMARY:ECU White  VS. Goshen Stars White Aaron 
DESCRIPTION:League Name: Boys 2015/16 Winter Futsal League\nGame Type: Regu
 lar\nGame Status: Complete\nHome Team: ECU White \nAway Team: Goshen Stars
  White Aaron \nHome Score: 10\nAway Score: 0
END:VEVENT
BEGIN:VEVENT
UID:16301760@ezleagues.ezfacility.com
DTSTAMP:20260426T021450Z
CREATED:20260426T021450Z
DTSTART:20250322T150000Z
DTEND:20250322T153000Z
LOCATION:Futsal Court 1
CONTACT:
SUMMARY:Goshen Stars White Job VS. Goshen Stars White Aaron 
DESCRIPTION:League Name: Boys 2015/16 Winter Futsal League\nGame Type: Post
 season\nGame Status: Pending\nHome Team: Goshen Stars White Job\nAway Team
 : Goshen Stars White Aaron \n
END:VEVENT
END:VCALENDAR
