BEGIN:VCALENDAR
VERSION:2.0
PRODID:-//EZFacility.com, Inc.//EZL 2.5.5.28621
BEGIN:VEVENT
UID:16199235@ezleagues.ezfacility.com
DTSTAMP:20260424T083510Z
CREATED:20260424T083510Z
DTSTART:20250314T234000Z
DTEND:20250315T004000Z
LOCATION:Chabill's Field
CONTACT:
SUMMARY:Avengers VS. Cougars
DESCRIPTION:League Name: 2025 Spring Baseball League - 6u CP/T-Ball Mix\nGa
 me Type: Regular\nGame Status: Complete\nHome Team: Avengers\nAway Team: C
 ougars\nHome Score: 8\nAway Score: 19
END:VEVENT
BEGIN:VEVENT
UID:16199242@ezleagues.ezfacility.com
DTSTAMP:20260424T083510Z
CREATED:20260424T083510Z
DTSTART:20250315T005000Z
DTEND:20250315T015000Z
LOCATION:Chabill's Field
CONTACT:
SUMMARY:Avengers VS. Saints
DESCRIPTION:League Name: 2025 Spring Baseball League - 6u CP/T-Ball Mix\nGa
 me Type: Regular\nGame Status: Complete\nHome Team: Avengers\nAway Team: S
 aints\nHome Score: 19\nAway Score: 18
END:VEVENT
BEGIN:VEVENT
UID:16199251@ezleagues.ezfacility.com
DTSTAMP:20260424T083510Z
CREATED:20260424T083510Z
DTSTART:20250322T005000Z
DTEND:20250322T015000Z
LOCATION:Weiler Plastic Surgery Field
CONTACT:
SUMMARY:Avengers VS. Drakes
DESCRIPTION:League Name: 2025 Spring Baseball League - 6u CP/T-Ball Mix\nGa
 me Type: Regular\nGame Status: Complete\nHome Team: Avengers\nAway Team: D
 rakes\nHome Score: 15\nAway Score: 14
END:VEVENT
BEGIN:VEVENT
UID:16199285@ezleagues.ezfacility.com
DTSTAMP:20260424T083510Z
CREATED:20260424T083510Z
DTSTART:20250412T005000Z
DTEND:20250412T015000Z
LOCATION:UCB Field
CONTACT:
SUMMARY:Trash Pandas VS. Avengers
DESCRIPTION:League Name: 2025 Spring Baseball League - 6u CP/T-Ball Mix\nGa
 me Type: Regular\nGame Status: Complete\nHome Team: Trash Pandas\nAway Tea
 m: Avengers\nHome Score: 19\nAway Score: 4
END:VEVENT
BEGIN:VEVENT
UID:16199296@ezleagues.ezfacility.com
DTSTAMP:20260424T083510Z
CREATED:20260424T083510Z
DTSTART:20250510T163000Z
DTEND:20250510T173000Z
LOCATION:UCB Field
CONTACT:
SUMMARY:Tigers VS. Avengers
DESCRIPTION:League Name: 2025 Spring Baseball League - 6u CP/T-Ball Mix\nGa
 me Type: Regular\nGame Status: Complete\nHome Team: Tigers\nAway Team: Ave
 ngers\nHome Score: 16\nAway Score: 6
END:VEVENT
BEGIN:VEVENT
UID:16227527@ezleagues.ezfacility.com
DTSTAMP:20260424T083510Z
CREATED:20260424T083510Z
DTSTART:20250510T185000Z
DTEND:20250510T195000Z
LOCATION:UCB Field
CONTACT:
SUMMARY:Avengers VS. Cougars
DESCRIPTION:League Name: 2025 Spring Baseball League - 6u CP/T-Ball Mix\nGa
 me Type: Regular\nGame Status: Complete\nHome Team: Avengers\nAway Team: C
 ougars\nHome Score: 10\nAway Score: 21
END:VEVENT
BEGIN:VEVENT
UID:16199339@ezleagues.ezfacility.com
DTSTAMP:20260424T083510Z
CREATED:20260424T083510Z
DTSTART:20250517T005000Z
DTEND:20250517T015000Z
LOCATION:UCB Field
CONTACT:
SUMMARY:Avengers VS. Blue Jays
DESCRIPTION:League Name: 2025 Spring Baseball League - 6u CP/T-Ball Mix\nGa
 me Type: Regular\nGame Status: Complete\nHome Team: Avengers\nAway Team: B
 lue Jays\nHome Score: 6\nAway Score: 21
END:VEVENT
BEGIN:VEVENT
UID:16199315@ezleagues.ezfacility.com
DTSTAMP:20260424T083510Z
CREATED:20260424T083510Z
DTSTART:20250520T234000Z
DTEND:20250521T004000Z
LOCATION:Weiler Plastic Surgery Field
CONTACT:
SUMMARY:Avengers VS. Little Canes
DESCRIPTION:League Name: 2025 Spring Baseball League - 6u CP/T-Ball Mix\nGa
 me Type: Regular\nGame Status: Complete\nHome Team: Avengers\nAway Team: L
 ittle Canes\nHome Score: 10\nAway Score: 14
END:VEVENT
BEGIN:VEVENT
UID:16199308@ezleagues.ezfacility.com
DTSTAMP:20260424T083510Z
CREATED:20260424T083510Z
DTSTART:20250521T005000Z
DTEND:20250521T015000Z
LOCATION:Parish Construction Field
CONTACT:
SUMMARY:Pirates  VS. Avengers
DESCRIPTION:League Name: 2025 Spring Baseball League - 6u CP/T-Ball Mix\nGa
 me Type: Regular\nGame Status: Complete\nHome Team: Pirates \nAway Team: A
 vengers\nHome Score: 14\nAway Score: 8
END:VEVENT
END:VCALENDAR
