BEGIN:VCALENDAR
VERSION:2.0
PRODID:-//EZFacility.com, Inc.//EZL 2.5.5.28621
BEGIN:VEVENT
UID:16199236@ezleagues.ezfacility.com
DTSTAMP:20260424T170000Z
CREATED:20260424T170000Z
DTSTART:20250314T234000Z
DTEND:20250315T004000Z
LOCATION:Weiler Plastic Surgery Field
CONTACT:
SUMMARY:Cubs VS. Drakes
DESCRIPTION:League Name: 2025 Spring Baseball League - 6u CP/T-Ball Mix\nGa
 me Type: Regular\nGame Status: Complete\nHome Team: Cubs\nAway Team: Drake
 s\nHome Score: 21\nAway Score: 5
END:VEVENT
BEGIN:VEVENT
UID:16199248@ezleagues.ezfacility.com
DTSTAMP:20260424T170000Z
CREATED:20260424T170000Z
DTSTART:20250322T005000Z
DTEND:20250322T015000Z
LOCATION:Sherman & Balhoff Field
CONTACT:
SUMMARY:Cubs VS. Lugnuts - Ashworth
DESCRIPTION:League Name: 2025 Spring Baseball League - 6u CP/T-Ball Mix\nGa
 me Type: Regular\nGame Status: Complete\nHome Team: Cubs\nAway Team: Lugnu
 ts - Ashworth\nHome Score: 20\nAway Score: 19
END:VEVENT
BEGIN:VEVENT
UID:16199281@ezleagues.ezfacility.com
DTSTAMP:20260424T170000Z
CREATED:20260424T170000Z
DTSTART:20250411T234000Z
DTEND:20250412T004000Z
LOCATION:Chabill's Field
CONTACT:
SUMMARY:Tigers VS. Cubs
DESCRIPTION:League Name: 2025 Spring Baseball League - 6u CP/T-Ball Mix\nGa
 me Type: Regular\nGame Status: Complete\nHome Team: Tigers\nAway Team: Cub
 s\nHome Score: 14\nAway Score: 21
END:VEVENT
BEGIN:VEVENT
UID:16199300@ezleagues.ezfacility.com
DTSTAMP:20260424T170000Z
CREATED:20260424T170000Z
DTSTART:20250425T223000Z
DTEND:20250425T233000Z
LOCATION:UCB Field
CONTACT:
SUMMARY:Cubs VS. Little Canes
DESCRIPTION:League Name: 2025 Spring Baseball League - 6u CP/T-Ball Mix\nGa
 me Type: Regular\nGame Status: Complete\nHome Team: Cubs\nAway Team: Littl
 e Canes\nHome Score: 16\nAway Score: 21
END:VEVENT
BEGIN:VEVENT
UID:16199256@ezleagues.ezfacility.com
DTSTAMP:20260424T170000Z
CREATED:20260424T170000Z
DTSTART:20250508T223000Z
DTEND:20250508T233000Z
LOCATION:UCB Field
CONTACT:
SUMMARY:River Dogs VS. Cubs
DESCRIPTION:League Name: 2025 Spring Baseball League - 6u CP/T-Ball Mix\nGa
 me Type: Regular\nGame Status: Complete\nHome Team: River Dogs\nAway Team:
  Cubs\nHome Score: 5\nAway Score: 21
END:VEVENT
BEGIN:VEVENT
UID:16199294@ezleagues.ezfacility.com
DTSTAMP:20260424T170000Z
CREATED:20260424T170000Z
DTSTART:20250510T185000Z
DTEND:20250510T195000Z
LOCATION:Weiler Plastic Surgery Field
CONTACT:
SUMMARY:Cubs VS. Pirates 
DESCRIPTION:League Name: 2025 Spring Baseball League - 6u CP/T-Ball Mix\nGa
 me Type: Regular\nGame Status: Complete\nHome Team: Cubs\nAway Team: Pirat
 es \nHome Score: 21\nAway Score: 9
END:VEVENT
BEGIN:VEVENT
UID:16199338@ezleagues.ezfacility.com
DTSTAMP:20260424T170000Z
CREATED:20260424T170000Z
DTSTART:20250516T234000Z
DTEND:20250517T004000Z
LOCATION:Chabill's Field
CONTACT:
SUMMARY:Barbies  VS. Cubs
DESCRIPTION:League Name: 2025 Spring Baseball League - 6u CP/T-Ball Mix\nGa
 me Type: Regular\nGame Status: Complete\nHome Team: Barbies \nAway Team: C
 ubs\nHome Score: 4\nAway Score: 21
END:VEVENT
BEGIN:VEVENT
UID:16199316@ezleagues.ezfacility.com
DTSTAMP:20260424T170000Z
CREATED:20260424T170000Z
DTSTART:20250520T223000Z
DTEND:20250520T233000Z
LOCATION:Chabill's Field
CONTACT:
SUMMARY:Cubs VS. Dragons
DESCRIPTION:League Name: 2025 Spring Baseball League - 6u CP/T-Ball Mix\nGa
 me Type: Regular\nGame Status: Complete\nHome Team: Cubs\nAway Team: Drago
 ns\nHome Score: 16\nAway Score: 1
END:VEVENT
BEGIN:VEVENT
UID:16199323@ezleagues.ezfacility.com
DTSTAMP:20260424T170000Z
CREATED:20260424T170000Z
DTSTART:20250523T005000Z
DTEND:20250523T015000Z
LOCATION:Chabill's Field
CONTACT:
SUMMARY:Blue Jays VS. Cubs
DESCRIPTION:League Name: 2025 Spring Baseball League - 6u CP/T-Ball Mix\nGa
 me Type: Regular\nGame Status: Complete\nHome Team: Blue Jays\nAway Team: 
 Cubs\nHome Score: 10\nAway Score: 18
END:VEVENT
END:VCALENDAR
