BEGIN:VCALENDAR
VERSION:2.0
PRODID:-//EZFacility.com, Inc.//EZL 2.5.5.28621
BEGIN:VEVENT
UID:16196356@ezleagues.ezfacility.com
DTSTAMP:20260422T180759Z
CREATED:20260422T180759Z
DTSTART:20250125T170000Z
DTEND:20250125T180000Z
LOCATION:Large Field 1
CONTACT:
SUMMARY:Waterville FC VS. Rising Stars
DESCRIPTION:League Name: Elevate CNY Winter Soccer 2025-U8 COED\nGame Type:
  Regular\nGame Status: Complete\nHome Team: Waterville FC\nAway Team: Risi
 ng Stars\nHome Score: 1\nAway Score: 3
END:VEVENT
BEGIN:VEVENT
UID:16196360@ezleagues.ezfacility.com
DTSTAMP:20260422T180759Z
CREATED:20260422T180759Z
DTSTART:20250201T160000Z
DTEND:20250201T170000Z
LOCATION:Large Field 1
CONTACT:
SUMMARY:Krajisnik SC VS. Waterville FC
DESCRIPTION:League Name: Elevate CNY Winter Soccer 2025-U8 COED\nGame Type:
  Regular\nGame Status: Complete\nHome Team: Krajisnik SC\nAway Team: Water
 ville FC\nHome Score: 12\nAway Score: 0
END:VEVENT
BEGIN:VEVENT
UID:16196364@ezleagues.ezfacility.com
DTSTAMP:20260422T180759Z
CREATED:20260422T180759Z
DTSTART:20250208T150000Z
DTEND:20250208T160000Z
LOCATION:Large Field 1
CONTACT:
SUMMARY:Coliseum Fire VS. Waterville FC
DESCRIPTION:League Name: Elevate CNY Winter Soccer 2025-U8 COED\nGame Type:
  Regular\nGame Status: Complete\nHome Team: Coliseum Fire\nAway Team: Wate
 rville FC\nHome Score: 9\nAway Score: 1
END:VEVENT
BEGIN:VEVENT
UID:16196368@ezleagues.ezfacility.com
DTSTAMP:20260422T180759Z
CREATED:20260422T180759Z
DTSTART:20250215T130000Z
DTEND:20250215T140000Z
LOCATION:Large Field 1
CONTACT:
SUMMARY:MVSC Wave VS. Waterville FC
DESCRIPTION:League Name: Elevate CNY Winter Soccer 2025-U8 COED\nGame Type:
  Regular\nGame Status: Complete\nHome Team: MVSC Wave\nAway Team: Watervil
 le FC\nHome Score: 3\nAway Score: 2
END:VEVENT
BEGIN:VEVENT
UID:16196372@ezleagues.ezfacility.com
DTSTAMP:20260422T180759Z
CREATED:20260422T180759Z
DTSTART:20250222T140000Z
DTEND:20250222T150000Z
LOCATION:Large Field 1
CONTACT:
SUMMARY:CNYFC 1 VS. Waterville FC
DESCRIPTION:League Name: Elevate CNY Winter Soccer 2025-U8 COED\nGame Type:
  Regular\nGame Status: Complete\nHome Team: CNYFC 1\nAway Team: Waterville
  FC\nHome Score: 5\nAway Score: 0
END:VEVENT
BEGIN:VEVENT
UID:16196384@ezleagues.ezfacility.com
DTSTAMP:20260422T180759Z
CREATED:20260422T180759Z
DTSTART:20250308T150000Z
DTEND:20250308T160000Z
LOCATION:Large Field 1
CONTACT:
SUMMARY:Waterville FC VS. CNYFC 2
DESCRIPTION:League Name: Elevate CNY Winter Soccer 2025-U8 COED\nGame Type:
  Regular\nGame Status: Complete\nHome Team: Waterville FC\nAway Team: CNYF
 C 2\nHome Score: 0\nAway Score: 13
END:VEVENT
BEGIN:VEVENT
UID:16196390@ezleagues.ezfacility.com
DTSTAMP:20260422T180759Z
CREATED:20260422T180759Z
DTSTART:20250315T150000Z
DTEND:20250315T160000Z
LOCATION:Large Field 1
CONTACT:
SUMMARY:Waterville FC VS. Krajisnik SC 2
DESCRIPTION:League Name: Elevate CNY Winter Soccer 2025-U8 COED\nGame Type:
  Regular\nGame Status: Complete\nHome Team: Waterville FC\nAway Team: Kraj
 isnik SC 2\nHome Score: 0\nAway Score: 10
END:VEVENT
BEGIN:VEVENT
UID:16196396@ezleagues.ezfacility.com
DTSTAMP:20260422T180759Z
CREATED:20260422T180759Z
DTSTART:20250322T160000Z
DTEND:20250322T170000Z
LOCATION:Large Field 1
CONTACT:
SUMMARY:Waterville FC VS. United Elite Krajisnik
DESCRIPTION:League Name: Elevate CNY Winter Soccer 2025-U8 COED\nGame Type:
  Regular\nGame Status: Complete\nHome Team: Waterville FC\nAway Team: Unit
 ed Elite Krajisnik\nHome Score: 0\nAway Score: 5
END:VEVENT
BEGIN:VEVENT
UID:16196401@ezleagues.ezfacility.com
DTSTAMP:20260422T180759Z
CREATED:20260422T180759Z
DTSTART:20250329T130000Z
DTEND:20250329T140000Z
LOCATION:Large Field 1
CONTACT:
SUMMARY:Rising Stars VS. Waterville FC
DESCRIPTION:League Name: Elevate CNY Winter Soccer 2025-U8 COED\nGame Type:
  Regular\nGame Status: Complete\nHome Team: Rising Stars\nAway Team: Water
 ville FC\nHome Score: 11\nAway Score: 2
END:VEVENT
BEGIN:VEVENT
UID:16196378@ezleagues.ezfacility.com
DTSTAMP:20260422T180759Z
CREATED:20260422T180759Z
DTSTART:20250405T130000Z
DTEND:20250405T140000Z
LOCATION:Large Field 1
CONTACT:
SUMMARY:Waterville FC VS. MVSC Thunder
DESCRIPTION:League Name: Elevate CNY Winter Soccer 2025-U8 COED\nGame Type:
  Regular\nGame Status: Complete\nHome Team: Waterville FC\nAway Team: MVSC
  Thunder\nHome Score: 2\nAway Score: 4
END:VEVENT
END:VCALENDAR
