BEGIN:VCALENDAR
VERSION:2.0
PRODID:-//EZFacility.com, Inc.//EZL 2.5.5.28621
BEGIN:VEVENT
UID:16197759@ezleagues.ezfacility.com
DTSTAMP:20260422T012445Z
CREATED:20260422T012445Z
DTSTART:20250126T000000Z
DTEND:20250126T010000Z
LOCATION:Large Field 2
CONTACT:
SUMMARY:United Elite Krajisnik VS. Oneida Manta Rays
DESCRIPTION:League Name: Elevate CNY Winter Soccer 2025-U12 Girls\nGame Typ
 e: Regular\nGame Status: Complete\nHome Team: United Elite Krajisnik\nAway
  Team: Oneida Manta Rays\nHome Score: 10\nAway Score: 0
END:VEVENT
BEGIN:VEVENT
UID:16197762@ezleagues.ezfacility.com
DTSTAMP:20260422T012445Z
CREATED:20260422T012445Z
DTSTART:20250201T210000Z
DTEND:20250201T220000Z
LOCATION:Large Field 2
CONTACT:
SUMMARY:Coliseum Knights VS. United Elite Krajisnik
DESCRIPTION:League Name: Elevate CNY Winter Soccer 2025-U12 Girls\nGame Typ
 e: Regular\nGame Status: Complete\nHome Team: Coliseum Knights\nAway Team:
  United Elite Krajisnik\nHome Score: 8\nAway Score: 1
END:VEVENT
BEGIN:VEVENT
UID:16197765@ezleagues.ezfacility.com
DTSTAMP:20260422T012445Z
CREATED:20260422T012445Z
DTSTART:20250208T210000Z
DTEND:20250208T220000Z
LOCATION:Large Field 2
CONTACT:
SUMMARY:United Elite Krajisnik VS. MVSC Rebellion
DESCRIPTION:League Name: Elevate CNY Winter Soccer 2025-U12 Girls\nGame Typ
 e: Regular\nGame Status: Complete\nHome Team: United Elite Krajisnik\nAway
  Team: MVSC Rebellion\nHome Score: 9\nAway Score: 2
END:VEVENT
BEGIN:VEVENT
UID:16197768@ezleagues.ezfacility.com
DTSTAMP:20260422T012445Z
CREATED:20260422T012445Z
DTSTART:20250215T220000Z
DTEND:20250215T230000Z
LOCATION:Large Field 2
CONTACT:
SUMMARY:United Elite Krajisnik VS. CNYFC
DESCRIPTION:League Name: Elevate CNY Winter Soccer 2025-U12 Girls\nGame Typ
 e: Regular\nGame Status: Complete\nHome Team: United Elite Krajisnik\nAway
  Team: CNYFC\nHome Score: 12\nAway Score: 0
END:VEVENT
BEGIN:VEVENT
UID:16197773@ezleagues.ezfacility.com
DTSTAMP:20260422T012445Z
CREATED:20260422T012445Z
DTSTART:20250222T230000Z
DTEND:20250223T000000Z
LOCATION:Large Field 2
CONTACT:
SUMMARY:United Elite Krajisnik VS. MVSC Comets
DESCRIPTION:League Name: Elevate CNY Winter Soccer 2025-U12 Girls\nGame Typ
 e: Regular\nGame Status: Complete\nHome Team: United Elite Krajisnik\nAway
  Team: MVSC Comets\nHome Score: 1\nAway Score: 2
END:VEVENT
BEGIN:VEVENT
UID:16197783@ezleagues.ezfacility.com
DTSTAMP:20260422T012445Z
CREATED:20260422T012445Z
DTSTART:20250308T230000Z
DTEND:20250309T000000Z
LOCATION:Large Field 2
CONTACT:
SUMMARY:United Elite Krajisnik VS. Rising Stars
DESCRIPTION:League Name: Elevate CNY Winter Soccer 2025-U12 Girls\nGame Typ
 e: Regular\nGame Status: Complete\nHome Team: United Elite Krajisnik\nAway
  Team: Rising Stars\nHome Score: 7\nAway Score: 1
END:VEVENT
BEGIN:VEVENT
UID:16197787@ezleagues.ezfacility.com
DTSTAMP:20260422T012445Z
CREATED:20260422T012445Z
DTSTART:20250315T210000Z
DTEND:20250315T220000Z
LOCATION:Large Field 2
CONTACT:
SUMMARY:Oneida Manta Rays VS. United Elite Krajisnik
DESCRIPTION:League Name: Elevate CNY Winter Soccer 2025-U12 Girls\nGame Typ
 e: Regular\nGame Status: Complete\nHome Team: Oneida Manta Rays\nAway Team
 : United Elite Krajisnik\nHome Score: 0\nAway Score: 14
END:VEVENT
BEGIN:VEVENT
UID:16197790@ezleagues.ezfacility.com
DTSTAMP:20260422T012445Z
CREATED:20260422T012445Z
DTSTART:20250322T200000Z
DTEND:20250322T210000Z
LOCATION:Large Field 2
CONTACT:
SUMMARY:Coliseum Knights VS. United Elite Krajisnik
DESCRIPTION:League Name: Elevate CNY Winter Soccer 2025-U12 Girls\nGame Typ
 e: Regular\nGame Status: Complete\nHome Team: Coliseum Knights\nAway Team:
  United Elite Krajisnik\nHome Score: 2\nAway Score: 4
END:VEVENT
BEGIN:VEVENT
UID:16197793@ezleagues.ezfacility.com
DTSTAMP:20260422T012445Z
CREATED:20260422T012445Z
DTSTART:20250329T210000Z
DTEND:20250329T220000Z
LOCATION:Large Field 2
CONTACT:
SUMMARY:MVSC Rebellion VS. United Elite Krajisnik
DESCRIPTION:League Name: Elevate CNY Winter Soccer 2025-U12 Girls\nGame Typ
 e: Regular\nGame Status: Complete\nHome Team: MVSC Rebellion\nAway Team: U
 nited Elite Krajisnik\nHome Score: 0\nAway Score: 12
END:VEVENT
BEGIN:VEVENT
UID:16197778@ezleagues.ezfacility.com
DTSTAMP:20260422T012445Z
CREATED:20260422T012445Z
DTSTART:20250405T230000Z
DTEND:20250406T000000Z
LOCATION:Large Field 2
CONTACT:
SUMMARY:MVSC Blaze VS. United Elite Krajisnik
DESCRIPTION:League Name: Elevate CNY Winter Soccer 2025-U12 Girls\nGame Typ
 e: Regular\nGame Status: Complete\nHome Team: MVSC Blaze\nAway Team: Unite
 d Elite Krajisnik\nHome Score: 2\nAway Score: 2
END:VEVENT
END:VCALENDAR
