BEGIN:VCALENDAR
VERSION:2.0
PRODID:-//EZFacility.com, Inc.//EZL 2.5.5.28621
BEGIN:VEVENT
UID:16202926@ezleagues.ezfacility.com
DTSTAMP:20260426T033823Z
CREATED:20260426T033823Z
DTSTART:20250201T233000Z
DTEND:20250202T003000Z
LOCATION:RCF East - Rio
CONTACT:
SUMMARY:Rose City Starry Strikers VS. Vancouver Futsal Academy
DESCRIPTION:League Name: Youth League 2024-2025-Winter II 5v5-Boys U11 D2\n
 Game Type: Regular\nGame Status: Complete\nHome Team: Rose City Starry Str
 ikers\nAway Team: Vancouver Futsal Academy\nHome Score: 6\nAway Score: 2
END:VEVENT
BEGIN:VEVENT
UID:16202952@ezleagues.ezfacility.com
DTSTAMP:20260426T033823Z
CREATED:20260426T033823Z
DTSTART:20250209T175000Z
DTEND:20250209T185000Z
LOCATION:RCF East - Barcelona
CONTACT:
SUMMARY:United U11 Boys VS. Rose City Starry Strikers
DESCRIPTION:League Name: Youth League 2024-2025-Winter II 5v5-Boys U11 D2\n
 Game Type: Regular\nGame Status: Complete\nHome Team: United U11 Boys\nAwa
 y Team: Rose City Starry Strikers\nHome Score: 5\nAway Score: 10
END:VEVENT
BEGIN:VEVENT
UID:16203001@ezleagues.ezfacility.com
DTSTAMP:20260426T033823Z
CREATED:20260426T033823Z
DTSTART:20250222T191000Z
DTEND:20250222T201000Z
LOCATION:RCF West - Buenos Aires
CONTACT:
SUMMARY:Rose City Starry Strikers VS. Inter PDX BU11
DESCRIPTION:League Name: Youth League 2024-2025-Winter II 5v5-Boys U11 D2\n
 Game Type: Regular\nGame Status: Complete\nHome Team: Rose City Starry Str
 ikers\nAway Team: Inter PDX BU11\nHome Score: 4\nAway Score: 7
END:VEVENT
BEGIN:VEVENT
UID:16203025@ezleagues.ezfacility.com
DTSTAMP:20260426T033823Z
CREATED:20260426T033823Z
DTSTART:20250302T205000Z
DTEND:20250302T215000Z
LOCATION:RCF East - Barcelona
CONTACT:
SUMMARY:Thunder VS. Rose City Starry Strikers
DESCRIPTION:League Name: Youth League 2024-2025-Winter II 5v5-Boys U11 D2\n
 Game Type: Regular\nGame Status: Complete\nHome Team: Thunder\nAway Team: 
 Rose City Starry Strikers\nHome Score: 4\nAway Score: 11
END:VEVENT
BEGIN:VEVENT
UID:16203507@ezleagues.ezfacility.com
DTSTAMP:20260426T033823Z
CREATED:20260426T033823Z
DTSTART:20250309T195000Z
DTEND:20250309T205000Z
LOCATION:RCF West - Tigard
CONTACT:
SUMMARY:RCF Academy U11 - Benfica VS. Rose City Starry Strikers
DESCRIPTION:League Name: Youth League 2024-2025-Winter II 5v5-Boys U11 D2\n
 Game Type: Regular\nGame Status: Complete\nHome Team: RCF Academy U11 - Be
 nfica\nAway Team: Rose City Starry Strikers\nHome Score: 2\nAway Score: 9
END:VEVENT
BEGIN:VEVENT
UID:16203073@ezleagues.ezfacility.com
DTSTAMP:20260426T033823Z
CREATED:20260426T033823Z
DTSTART:20250316T193000Z
DTEND:20250316T203000Z
LOCATION:RCF East - Rio
CONTACT:
SUMMARY:Rose City Starry Strikers VS. Baguettes
DESCRIPTION:League Name: Youth League 2024-2025-Winter II 5v5-Boys U11 D2\n
 Game Type: Regular\nGame Status: Complete\nHome Team: Rose City Starry Str
 ikers\nAway Team: Baguettes\nHome Score: 8\nAway Score: 1
END:VEVENT
BEGIN:VEVENT
UID:16203099@ezleagues.ezfacility.com
DTSTAMP:20260426T033823Z
CREATED:20260426T033823Z
DTSTART:20250323T203000Z
DTEND:20250323T213000Z
LOCATION:RCF West - Montevideo
CONTACT:
SUMMARY:Crush VS. Rose City Starry Strikers
DESCRIPTION:League Name: Youth League 2024-2025-Winter II 5v5-Boys U11 D2\n
 Game Type: Regular\nGame Status: Complete\nHome Team: Crush\nAway Team: Ro
 se City Starry Strikers\nHome Score: 0\nAway Score: 7
END:VEVENT
BEGIN:VEVENT
UID:16202977@ezleagues.ezfacility.com
DTSTAMP:20260426T033823Z
CREATED:20260426T033823Z
DTSTART:20250406T203000Z
DTEND:20250406T213000Z
LOCATION:RCF West - Montevideo
CONTACT:
SUMMARY:Laser Sharks VS. Rose City Starry Strikers
DESCRIPTION:League Name: Youth League 2024-2025-Winter II 5v5-Boys U11 D2\n
 Game Type: Regular\nGame Status: Complete\nHome Team: Laser Sharks\nAway T
 eam: Rose City Starry Strikers\nHome Score: 0\nAway Score: 7
END:VEVENT
END:VCALENDAR
