BEGIN:VCALENDAR
VERSION:2.0
PRODID:-//EZFacility.com, Inc.//EZL 2.5.5.28621
BEGIN:VEVENT
UID:16200396@ezleagues.ezfacility.com
DTSTAMP:20260420T143216Z
CREATED:20260420T143216Z
DTSTART:20250204T053000Z
DTEND:20250204T063000Z
LOCATION:RCF West - Montevideo
CONTACT:
SUMMARY:Soul Place VS. La Venega PDX
DESCRIPTION:League Name: RCF Winter II AL 2025 Champions League - Men's (M)
 \nGame Type: Regular\nGame Status: Complete\nHome Team: Soul Place\nAway T
 eam: La Venega PDX\nHome Score: 1\nAway Score: 11
END:VEVENT
BEGIN:VEVENT
UID:16200400@ezleagues.ezfacility.com
DTSTAMP:20260420T143216Z
CREATED:20260420T143216Z
DTSTART:20250211T063000Z
DTEND:20250211T073000Z
LOCATION:RCF East - Rio
CONTACT:
SUMMARY:La Venega PDX VS. Futsoul Redux 
DESCRIPTION:League Name: RCF Winter II AL 2025 Champions League - Men's (M)
 \nGame Type: Regular\nGame Status: Pending\nHome Team: La Venega PDX\nAway
  Team: Futsoul Redux \n
END:VEVENT
BEGIN:VEVENT
UID:16200403@ezleagues.ezfacility.com
DTSTAMP:20260420T143216Z
CREATED:20260420T143216Z
DTSTART:20250218T043000Z
DTEND:20250218T053000Z
LOCATION:RCF West - Montevideo
CONTACT:
SUMMARY:La Venega PDX VS. FutsalClinics.com
DESCRIPTION:League Name: RCF Winter II AL 2025 Champions League - Men's (M)
 \nGame Type: Regular\nGame Status: Complete\nHome Team: La Venega PDX\nAwa
 y Team: FutsalClinics.com\nHome Score: 6\nAway Score: 4
END:VEVENT
BEGIN:VEVENT
UID:16200406@ezleagues.ezfacility.com
DTSTAMP:20260420T143216Z
CREATED:20260420T143216Z
DTSTART:20250225T023000Z
DTEND:20250225T033000Z
LOCATION:RCF East - Rio
CONTACT:
SUMMARY:PacU VS. La Venega PDX
DESCRIPTION:League Name: RCF Winter II AL 2025 Champions League - Men's (M)
 \nGame Type: Regular\nGame Status: Complete\nHome Team: PacU\nAway Team: L
 a Venega PDX\nHome Score: 3\nAway Score: 7
END:VEVENT
BEGIN:VEVENT
UID:16200409@ezleagues.ezfacility.com
DTSTAMP:20260420T143216Z
CREATED:20260420T143216Z
DTSTART:20250304T033000Z
DTEND:20250304T043000Z
LOCATION:RCF West - Montevideo
CONTACT:
SUMMARY:All Luck No Tekkers VS. La Venega PDX
DESCRIPTION:League Name: RCF Winter II AL 2025 Champions League - Men's (M)
 \nGame Type: Regular\nGame Status: Complete\nHome Team: All Luck No Tekker
 s\nAway Team: La Venega PDX\nHome Score: 4\nAway Score: 2
END:VEVENT
BEGIN:VEVENT
UID:16200414@ezleagues.ezfacility.com
DTSTAMP:20260420T143216Z
CREATED:20260420T143216Z
DTSTART:20250311T033000Z
DTEND:20250311T043000Z
LOCATION:RCF East - Rio
CONTACT:
SUMMARY:La Venega PDX VS. Deportivo Rose City 
DESCRIPTION:League Name: RCF Winter II AL 2025 Champions League - Men's (M)
 \nGame Type: Regular\nGame Status: Complete\nHome Team: La Venega PDX\nAwa
 y Team: Deportivo Rose City \nHome Score: 8\nAway Score: 8
END:VEVENT
BEGIN:VEVENT
UID:16200419@ezleagues.ezfacility.com
DTSTAMP:20260420T143216Z
CREATED:20260420T143216Z
DTSTART:20250318T013000Z
DTEND:20250318T023000Z
LOCATION:RCF West - Montevideo
CONTACT:
SUMMARY:La Venega PDX VS. JHKelly 
DESCRIPTION:League Name: RCF Winter II AL 2025 Champions League - Men's (M)
 \nGame Type: Regular\nGame Status: Complete\nHome Team: La Venega PDX\nAwa
 y Team: JHKelly \nHome Score: 3\nAway Score: 5
END:VEVENT
BEGIN:VEVENT
UID:16200428@ezleagues.ezfacility.com
DTSTAMP:20260420T143216Z
CREATED:20260420T143216Z
DTSTART:20250401T023000Z
DTEND:20250401T033000Z
LOCATION:RCF East - Rio
CONTACT:
SUMMARY:Futsoul Redux  VS. La Venega PDX
DESCRIPTION:League Name: RCF Winter II AL 2025 Champions League - Men's (M)
 \nGame Type: Regular\nGame Status: Complete\nHome Team: Futsoul Redux \nAw
 ay Team: La Venega PDX\nHome Score: 7\nAway Score: 5
END:VEVENT
BEGIN:VEVENT
UID:16200431@ezleagues.ezfacility.com
DTSTAMP:20260420T143216Z
CREATED:20260420T143216Z
DTSTART:20250408T043000Z
DTEND:20250408T053000Z
LOCATION:RCF West - Montevideo
CONTACT:
SUMMARY:FutsalClinics.com VS. La Venega PDX
DESCRIPTION:League Name: RCF Winter II AL 2025 Champions League - Men's (M)
 \nGame Type: Regular\nGame Status: Complete\nHome Team: FutsalClinics.com\
 nAway Team: La Venega PDX\nHome Score: 8\nAway Score: 6
END:VEVENT
BEGIN:VEVENT
UID:16200424@ezleagues.ezfacility.com
DTSTAMP:20260420T143216Z
CREATED:20260420T143216Z
DTSTART:20250415T023000Z
DTEND:20250415T033000Z
LOCATION:RCF East - Rio
CONTACT:
SUMMARY:La Venega PDX VS. Soul Place
DESCRIPTION:League Name: RCF Winter II AL 2025 Champions League - Men's (M)
 \nGame Type: Regular\nGame Status: Complete\nHome Team: La Venega PDX\nAwa
 y Team: Soul Place\nHome Score: 5\nAway Score: 3
END:VEVENT
END:VCALENDAR
