BEGIN:VCALENDAR
VERSION:2.0
PRODID:-//EZFacility.com, Inc.//EZL 2.5.5.28621
BEGIN:VEVENT
UID:1373215@ezleagues.ezfacility.com
DTSTAMP:20260424T044158Z
CREATED:20260424T044158Z
DTSTART:20080503T104500Z
DTEND:20080503T114500Z
LOCATION:Rink 2
CONTACT:
SUMMARY:Purple VS. Green
DESCRIPTION:League Name: Spring Middle School\nGame Type: Friendly\nGame St
 atus: Complete\nHome Team: Purple\nAway Team: Green\nHome Score: 3\nAway S
 core: 9
END:VEVENT
BEGIN:VEVENT
UID:1373219@ezleagues.ezfacility.com
DTSTAMP:20260424T044158Z
CREATED:20260424T044158Z
DTSTART:20080504T114500Z
DTEND:20080504T124500Z
LOCATION:Rink 2
CONTACT:
SUMMARY:Green VS. Black
DESCRIPTION:League Name: Spring Middle School\nGame Type: Friendly\nGame St
 atus: Complete\nHome Team: Green\nAway Team: Black\nHome Score: 8\nAway Sc
 ore: 13
END:VEVENT
BEGIN:VEVENT
UID:1373221@ezleagues.ezfacility.com
DTSTAMP:20260424T044158Z
CREATED:20260424T044158Z
DTSTART:20080517T120000Z
DTEND:20080517T130000Z
LOCATION:Rink 1
CONTACT:
SUMMARY:Green VS. Light Blue
DESCRIPTION:League Name: Spring Middle School\nGame Type: Friendly\nGame St
 atus: Complete\nHome Team: Green\nAway Team: Light Blue\nHome Score: 7\nAw
 ay Score: 8
END:VEVENT
BEGIN:VEVENT
UID:1373224@ezleagues.ezfacility.com
DTSTAMP:20260424T044158Z
CREATED:20260424T044158Z
DTSTART:20080518T110000Z
DTEND:20080518T120000Z
LOCATION:Rink 1
CONTACT:
SUMMARY:Green VS. Orange
DESCRIPTION:League Name: Spring Middle School\nGame Type: Friendly\nGame St
 atus: Complete\nHome Team: Green\nAway Team: Orange\nHome Score: 10\nAway 
 Score: 5
END:VEVENT
BEGIN:VEVENT
UID:1373225@ezleagues.ezfacility.com
DTSTAMP:20260424T044158Z
CREATED:20260424T044158Z
DTSTART:20080521T173000Z
DTEND:20080521T183000Z
LOCATION:Rink 1
CONTACT:
SUMMARY:Green VS. Purple
DESCRIPTION:League Name: Spring Middle School\nGame Type: Friendly\nGame St
 atus: Complete\nHome Team: Green\nAway Team: Purple\nHome Score: 13\nAway 
 Score: 2
END:VEVENT
BEGIN:VEVENT
UID:1373228@ezleagues.ezfacility.com
DTSTAMP:20260424T044158Z
CREATED:20260424T044158Z
DTSTART:20080531T104500Z
DTEND:20080531T114500Z
LOCATION:Rink 2
CONTACT:
SUMMARY:Black VS. Green
DESCRIPTION:League Name: Spring Middle School\nGame Type: Friendly\nGame St
 atus: Complete\nHome Team: Black\nAway Team: Green\nHome Score: 3\nAway Sc
 ore: 6
END:VEVENT
BEGIN:VEVENT
UID:1373231@ezleagues.ezfacility.com
DTSTAMP:20260424T044158Z
CREATED:20260424T044158Z
DTSTART:20080601T110000Z
DTEND:20080601T120000Z
LOCATION:Rink 1
CONTACT:
SUMMARY:Light Blue VS. Green
DESCRIPTION:League Name: Spring Middle School\nGame Type: Friendly\nGame St
 atus: Complete\nHome Team: Light Blue\nAway Team: Green\nHome Score: 6\nAw
 ay Score: 8
END:VEVENT
BEGIN:VEVENT
UID:1373234@ezleagues.ezfacility.com
DTSTAMP:20260424T044158Z
CREATED:20260424T044158Z
DTSTART:20080608T104500Z
DTEND:20080608T114500Z
LOCATION:Rink 1
CONTACT:
SUMMARY:Orange VS. Green
DESCRIPTION:League Name: Spring Middle School\nGame Type: Friendly\nGame St
 atus: Complete\nHome Team: Orange\nAway Team: Green\nHome Score: 5\nAway S
 core: 8
END:VEVENT
BEGIN:VEVENT
UID:1373236@ezleagues.ezfacility.com
DTSTAMP:20260424T044158Z
CREATED:20260424T044158Z
DTSTART:20080614T104500Z
DTEND:20080614T114500Z
LOCATION:Rink 2
CONTACT:
SUMMARY:Purple VS. Green
DESCRIPTION:League Name: Spring Middle School\nGame Type: Friendly\nGame St
 atus: Complete\nHome Team: Purple\nAway Team: Green\nHome Score: 14\nAway 
 Score: 15
END:VEVENT
BEGIN:VEVENT
UID:1373238@ezleagues.ezfacility.com
DTSTAMP:20260424T044158Z
CREATED:20260424T044158Z
DTSTART:20080615T093000Z
DTEND:20080615T103000Z
LOCATION:Rink 1
CONTACT:
SUMMARY:Green VS. Black
DESCRIPTION:League Name: Spring Middle School\nGame Type: Friendly\nGame St
 atus: Complete\nHome Team: Green\nAway Team: Black\nHome Score: 7\nAway Sc
 ore: 1
END:VEVENT
END:VCALENDAR
