BEGIN:VCALENDAR
VERSION:2.0
PRODID:-//EZFacility.com, Inc.//EZL 2.5.5.28621
BEGIN:VEVENT
UID:16202868@ezleagues.ezfacility.com
DTSTAMP:20260422T053748Z
CREATED:20260422T053748Z
DTSTART:20250204T015000Z
DTEND:20250204T024500Z
LOCATION:PFFC Field House - C
CONTACT:
SUMMARY:The LAB FC (Black) VS. GCC FC (Royal Blue)
DESCRIPTION:League Name: MSL Winter 2025 - CO-ED First Games \nGame Type: R
 egular\nGame Status: Complete\nHome Team: The LAB FC (Black)\nAway Team: G
 CC FC (Royal Blue)\nHome Score: 1\nAway Score: 1
END:VEVENT
BEGIN:VEVENT
UID:16226035@ezleagues.ezfacility.com
DTSTAMP:20260422T053748Z
CREATED:20260422T053748Z
DTSTART:20250211T024500Z
DTEND:20250211T034000Z
LOCATION:PFFC Field House - A
CONTACT:
SUMMARY:Just Try'na Kick It (Teal) VS. The LAB FC (Black)
DESCRIPTION:League Name: MSL Winter 2025 - CO-ED First Games \nGame Type: R
 egular\nGame Status: Complete\nHome Team: Just Try'na Kick It (Teal)\nAway
  Team: The LAB FC (Black)\nHome Score: 0\nAway Score: 1
END:VEVENT
BEGIN:VEVENT
UID:16231505@ezleagues.ezfacility.com
DTSTAMP:20260422T053748Z
CREATED:20260422T053748Z
DTSTART:20250218T015000Z
DTEND:20250218T024500Z
LOCATION:PFFC Dome - 4
CONTACT:
SUMMARY:Rebel FC  VS. The LAB FC (Black)
DESCRIPTION:League Name: MSL Winter 2025 - CO-ED First Games \nGame Type: R
 egular\nGame Status: Complete\nHome Team: Rebel FC \nAway Team: The LAB FC
  (Black)\nHome Score: 2\nAway Score: 5
END:VEVENT
END:VCALENDAR
