BEGIN:VCALENDAR
VERSION:2.0
PRODID:-//EZFacility.com, Inc.//EZL 2.5.5.28621
BEGIN:VEVENT
UID:16447845@ezleagues.ezfacility.com
DTSTAMP:20260426T033841Z
CREATED:20260426T033841Z
DTSTART:20250522T223000Z
DTEND:20250522T233000Z
LOCATION:Weiler Plastic Surgery Field
CONTACT:
SUMMARY:Sliders VS. 225U Bombers
DESCRIPTION:League Name: 2025 Traction Baseball 8u CP League Champ Tourney\
 nGame Type: Regular\nGame Status: Complete\nHome Team: Sliders\nAway Team:
  225U Bombers\nHome Score: 2\nAway Score: 8
END:VEVENT
BEGIN:VEVENT
UID:16447848@ezleagues.ezfacility.com
DTSTAMP:20260426T033841Z
CREATED:20260426T033841Z
DTSTART:20250522T234000Z
DTEND:20250523T004000Z
LOCATION:Weiler Plastic Surgery Field
CONTACT:
SUMMARY:225U Bombers VS. Leopard Dawgs TG
DESCRIPTION:League Name: 2025 Traction Baseball 8u CP League Champ Tourney\
 nGame Type: Regular\nGame Status: Complete\nHome Team: 225U Bombers\nAway 
 Team: Leopard Dawgs TG\nHome Score: 12\nAway Score: 5
END:VEVENT
BEGIN:VEVENT
UID:16447849@ezleagues.ezfacility.com
DTSTAMP:20260426T033841Z
CREATED:20260426T033841Z
DTSTART:20250523T005000Z
DTEND:20250523T015000Z
LOCATION:Parish Construction Field
CONTACT:
SUMMARY:Leopard Dawgs ES VS. 225U Bombers
DESCRIPTION:League Name: 2025 Traction Baseball 8u CP League Champ Tourney\
 nGame Type: Regular\nGame Status: Complete\nHome Team: Leopard Dawgs ES\nA
 way Team: 225U Bombers\nHome Score: 12\nAway Score: 5
END:VEVENT
END:VCALENDAR
