BEGIN:VCALENDAR
VERSION:2.0
PRODID:-//EZFacility.com, Inc.//EZL 2.5.5.28621
BEGIN:VEVENT
UID:16208263@ezleagues.ezfacility.com
DTSTAMP:20260426T035033Z
CREATED:20260426T035033Z
DTSTART:20250206T045000Z
DTEND:20250206T055000Z
LOCATION:RCF East - Barcelona
CONTACT:
SUMMARY:Puzzles VS. Diamond Dogs
DESCRIPTION:League Name: RCF East Winter II AL 2025 - Coed D5 Gold (W/F)\nG
 ame Type: Regular\nGame Status: Complete\nHome Team: Puzzles\nAway Team: D
 iamond Dogs\nHome Score: 3\nAway Score: 10
END:VEVENT
BEGIN:VEVENT
UID:16208266@ezleagues.ezfacility.com
DTSTAMP:20260426T035033Z
CREATED:20260426T035033Z
DTSTART:20250213T063000Z
DTEND:20250213T073000Z
LOCATION:RCF East - Rio
CONTACT:
SUMMARY:Bad News Beers  VS. Puzzles
DESCRIPTION:League Name: RCF East Winter II AL 2025 - Coed D5 Gold (W/F)\nG
 ame Type: Regular\nGame Status: Complete\nHome Team: Bad News Beers \nAway
  Team: Puzzles\nHome Score: 11\nAway Score: 4
END:VEVENT
BEGIN:VEVENT
UID:16208271@ezleagues.ezfacility.com
DTSTAMP:20260426T035033Z
CREATED:20260426T035033Z
DTSTART:20250220T031000Z
DTEND:20250220T041000Z
LOCATION:RCF East - Portland
CONTACT:
SUMMARY:Voodoo Unleashed Season 2 Episode 3 Wins  Sheninigans VS. Puzzles
DESCRIPTION:League Name: RCF East Winter II AL 2025 - Coed D5 Gold (W/F)\nG
 ame Type: Regular\nGame Status: Complete\nHome Team: Voodoo Unleashed Seas
 on 2 Episode 3 Wins  Sheninigans\nAway Team: Puzzles\nHome Score: 8\nAway 
 Score: 6
END:VEVENT
BEGIN:VEVENT
UID:16208276@ezleagues.ezfacility.com
DTSTAMP:20260426T035033Z
CREATED:20260426T035033Z
DTSTART:20250227T055000Z
DTEND:20250227T065000Z
LOCATION:RCF East - Barcelona
CONTACT:
SUMMARY:Puzzles VS. Goats scoring goals
DESCRIPTION:League Name: RCF East Winter II AL 2025 - Coed D5 Gold (W/F)\nG
 ame Type: Regular\nGame Status: Complete\nHome Team: Puzzles\nAway Team: G
 oats scoring goals\nHome Score: 11\nAway Score: 7
END:VEVENT
BEGIN:VEVENT
UID:16208281@ezleagues.ezfacility.com
DTSTAMP:20260426T035033Z
CREATED:20260426T035033Z
DTSTART:20250306T031000Z
DTEND:20250306T041000Z
LOCATION:RCF East - Portland
CONTACT:
SUMMARY:Puzzles VS. MCHU
DESCRIPTION:League Name: RCF East Winter II AL 2025 - Coed D5 Gold (W/F)\nG
 ame Type: Regular\nGame Status: Complete\nHome Team: Puzzles\nAway Team: M
 CHU\nHome Score: 4\nAway Score: 10
END:VEVENT
BEGIN:VEVENT
UID:16208285@ezleagues.ezfacility.com
DTSTAMP:20260426T035033Z
CREATED:20260426T035033Z
DTSTART:20250315T035000Z
DTEND:20250315T045000Z
LOCATION:RCF East - Barcelona
CONTACT:
SUMMARY:Thundercats United VS. Puzzles
DESCRIPTION:League Name: RCF East Winter II AL 2025 - Coed D5 Gold (W/F)\nG
 ame Type: Regular\nGame Status: Complete\nHome Team: Thundercats United\nA
 way Team: Puzzles\nHome Score: 6\nAway Score: 4
END:VEVENT
BEGIN:VEVENT
UID:16208288@ezleagues.ezfacility.com
DTSTAMP:20260426T035033Z
CREATED:20260426T035033Z
DTSTART:20250320T021000Z
DTEND:20250320T031000Z
LOCATION:RCF East - Portland
CONTACT:
SUMMARY:Raining Champs  VS. Puzzles
DESCRIPTION:League Name: RCF East Winter II AL 2025 - Coed D5 Gold (W/F)\nG
 ame Type: Regular\nGame Status: Complete\nHome Team: Raining Champs \nAway
  Team: Puzzles\nHome Score: 6\nAway Score: 6
END:VEVENT
BEGIN:VEVENT
UID:16208294@ezleagues.ezfacility.com
DTSTAMP:20260426T035033Z
CREATED:20260426T035033Z
DTSTART:20250403T041000Z
DTEND:20250403T051000Z
LOCATION:RCF East - Portland
CONTACT:
SUMMARY:Puzzles VS. Bad News Beers 
DESCRIPTION:League Name: RCF East Winter II AL 2025 - Coed D5 Gold (W/F)\nG
 ame Type: Regular\nGame Status: Complete\nHome Team: Puzzles\nAway Team: B
 ad News Beers \nHome Score: 9\nAway Score: 6
END:VEVENT
BEGIN:VEVENT
UID:16208299@ezleagues.ezfacility.com
DTSTAMP:20260426T035033Z
CREATED:20260426T035033Z
DTSTART:20250410T035000Z
DTEND:20250410T045000Z
LOCATION:RCF East - Barcelona
CONTACT:
SUMMARY:Puzzles VS. Voodoo Unleashed Season 2 Episode 3 Wins  Sheninigans
DESCRIPTION:League Name: RCF East Winter II AL 2025 - Coed D5 Gold (W/F)\nG
 ame Type: Regular\nGame Status: Complete\nHome Team: Puzzles\nAway Team: V
 oodoo Unleashed Season 2 Episode 3 Wins  Sheninigans\nHome Score: 2\nAway 
 Score: 6
END:VEVENT
BEGIN:VEVENT
UID:16208291@ezleagues.ezfacility.com
DTSTAMP:20260426T035033Z
CREATED:20260426T035033Z
DTSTART:20250417T045000Z
DTEND:20250417T055000Z
LOCATION:RCF East - Barcelona
CONTACT:
SUMMARY:Diamond Dogs VS. Puzzles
DESCRIPTION:League Name: RCF East Winter II AL 2025 - Coed D5 Gold (W/F)\nG
 ame Type: Regular\nGame Status: Complete\nHome Team: Diamond Dogs\nAway Te
 am: Puzzles\nHome Score: 10\nAway Score: 3
END:VEVENT
END:VCALENDAR
