BEGIN:VCALENDAR
VERSION:2.0
PRODID:-//EZFacility.com, Inc.//EZL 2.5.5.28621
BEGIN:VEVENT
UID:16211269@ezleagues.ezfacility.com
DTSTAMP:20260424T044050Z
CREATED:20260424T044050Z
DTSTART:20250131T031500Z
DTEND:20250131T040000Z
LOCATION:FIELD
CONTACT:Molina
SUMMARY:Living Legendz VS. Savage Crew
DESCRIPTION:League Name: WOMEN'S-Winter 2\nGame Type: Regular\nGame Status:
  Complete\nHome Team: Living Legendz\nAway Team: Savage Crew\nHome Score: 
 5\nAway Score: 5
END:VEVENT
BEGIN:VEVENT
UID:16211271@ezleagues.ezfacility.com
DTSTAMP:20260424T044050Z
CREATED:20260424T044050Z
DTSTART:20250207T023000Z
DTEND:20250207T031500Z
LOCATION:FIELD
CONTACT:Lightfoot
SUMMARY:Gallegos VS. Savage Crew
DESCRIPTION:League Name: WOMEN'S-Winter 2\nGame Type: Regular\nGame Status:
  Complete\nHome Team: Gallegos\nAway Team: Savage Crew\nHome Score: 7\nAwa
 y Score: 8
END:VEVENT
BEGIN:VEVENT
UID:16211275@ezleagues.ezfacility.com
DTSTAMP:20260424T044050Z
CREATED:20260424T044050Z
DTSTART:20250214T010000Z
DTEND:20250214T014500Z
LOCATION:FIELD
CONTACT:
SUMMARY:Savage Crew VS. S.O.L.
DESCRIPTION:League Name: WOMEN'S-Winter 2\nGame Type: Regular\nGame Status:
  Complete\nHome Team: Savage Crew\nAway Team: S.O.L.\nHome Score: 20\nAway
  Score: 0
END:VEVENT
BEGIN:VEVENT
UID:16211279@ezleagues.ezfacility.com
DTSTAMP:20260424T044050Z
CREATED:20260424T044050Z
DTSTART:20250221T010000Z
DTEND:20250221T014500Z
LOCATION:FIELD
CONTACT:Molina
SUMMARY:Purple Bandits VS. Savage Crew
DESCRIPTION:League Name: WOMEN'S-Winter 2\nGame Type: Regular\nGame Status:
  Complete\nHome Team: Purple Bandits\nAway Team: Savage Crew\nHome Score: 
 4\nAway Score: 16
END:VEVENT
BEGIN:VEVENT
UID:16211284@ezleagues.ezfacility.com
DTSTAMP:20260424T044050Z
CREATED:20260424T044050Z
DTSTART:20250307T010000Z
DTEND:20250307T014500Z
LOCATION:FIELD
CONTACT:
SUMMARY:Savage Crew VS. Living Legendz
DESCRIPTION:League Name: WOMEN'S-Winter 2\nGame Type: Regular\nGame Status:
  Complete\nHome Team: Savage Crew\nAway Team: Living Legendz\nHome Score: 
 3\nAway Score: 2
END:VEVENT
BEGIN:VEVENT
UID:16211286@ezleagues.ezfacility.com
DTSTAMP:20260424T044050Z
CREATED:20260424T044050Z
DTSTART:20250314T004500Z
DTEND:20250314T013000Z
LOCATION:FIELD
CONTACT:Lightfoot
SUMMARY:Savage Crew VS. Gallegos
DESCRIPTION:League Name: WOMEN'S-Winter 2\nGame Type: Regular\nGame Status:
  Complete\nHome Team: Savage Crew\nAway Team: Gallegos\nHome Score: 5\nAwa
 y Score: 6
END:VEVENT
BEGIN:VEVENT
UID:16211290@ezleagues.ezfacility.com
DTSTAMP:20260424T044050Z
CREATED:20260424T044050Z
DTSTART:20250321T000000Z
DTEND:20250321T004500Z
LOCATION:FIELD
CONTACT:
SUMMARY:S.O.L. VS. Savage Crew
DESCRIPTION:League Name: WOMEN'S-Winter 2\nGame Type: Regular\nGame Status:
  Complete\nHome Team: S.O.L.\nAway Team: Savage Crew\nHome Score: 0\nAway 
 Score: 6
END:VEVENT
BEGIN:VEVENT
UID:16211294@ezleagues.ezfacility.com
DTSTAMP:20260424T044050Z
CREATED:20260424T044050Z
DTSTART:20250328T000000Z
DTEND:20250328T004500Z
LOCATION:FIELD
CONTACT:
SUMMARY:Savage Crew VS. Purple Bandits
DESCRIPTION:League Name: WOMEN'S-Winter 2\nGame Type: Regular\nGame Status:
  Complete\nHome Team: Savage Crew\nAway Team: Purple Bandits\nHome Score: 
 32\nAway Score: 0
END:VEVENT
END:VCALENDAR
