BEGIN:VCALENDAR
VERSION:2.0
PRODID:-//EZFacility.com, Inc.//EZL 2.5.5.28621
BEGIN:VEVENT
UID:16450423@ezleagues.ezfacility.com
DTSTAMP:20260423T160809Z
CREATED:20260423T160809Z
DTSTART:20210606T003000Z
DTEND:20210606T013000Z
LOCATION:Field 2
CONTACT:
SUMMARY:Charlotte FC VS. WS FC
DESCRIPTION:League Name: WS Futbol Sala Thursday Over 35's League 7V7 Winte
 r 2025\nGame Type: Postseason\nGame Status: Complete\nHome Team: Charlotte
  FC\nAway Team: WS FC\nHome Score: 10\nAway Score: 0
END:VEVENT
BEGIN:VEVENT
UID:16211713@ezleagues.ezfacility.com
DTSTAMP:20260423T160809Z
CREATED:20260423T160809Z
DTSTART:20250131T013000Z
DTEND:20250131T023000Z
LOCATION:Field 2
CONTACT:
SUMMARY:Perspolis VS. Charlotte FC
DESCRIPTION:League Name: WS Futbol Sala Thursday Over 35's League 7V7 Winte
 r 2025\nGame Type: Regular\nGame Status: Complete\nHome Team: Perspolis\nA
 way Team: Charlotte FC\nHome Score: 7\nAway Score: 5
END:VEVENT
BEGIN:VEVENT
UID:16211721@ezleagues.ezfacility.com
DTSTAMP:20260423T160809Z
CREATED:20260423T160809Z
DTSTART:20250207T023000Z
DTEND:20250207T033000Z
LOCATION:Field 2
CONTACT:
SUMMARY:WS FC VS. Charlotte FC
DESCRIPTION:League Name: WS Futbol Sala Thursday Over 35's League 7V7 Winte
 r 2025\nGame Type: Regular\nGame Status: Complete\nHome Team: WS FC\nAway 
 Team: Charlotte FC\nHome Score: 5\nAway Score: 4
END:VEVENT
BEGIN:VEVENT
UID:16211717@ezleagues.ezfacility.com
DTSTAMP:20260423T160809Z
CREATED:20260423T160809Z
DTSTART:20250214T020000Z
DTEND:20250214T030000Z
LOCATION:Field 2
CONTACT:
SUMMARY:Charlotte FC VS. SSNS FC
DESCRIPTION:League Name: WS Futbol Sala Thursday Over 35's League 7V7 Winte
 r 2025\nGame Type: Regular\nGame Status: Complete\nHome Team: Charlotte FC
 \nAway Team: SSNS FC\nHome Score: 2\nAway Score: 2
END:VEVENT
BEGIN:VEVENT
UID:16211729@ezleagues.ezfacility.com
DTSTAMP:20260423T160809Z
CREATED:20260423T160809Z
DTSTART:20250228T010000Z
DTEND:20250228T020000Z
LOCATION:Field 2
CONTACT:
SUMMARY:Foosball Thruball VS. Charlotte FC
DESCRIPTION:League Name: WS Futbol Sala Thursday Over 35's League 7V7 Winte
 r 2025\nGame Type: Regular\nGame Status: Complete\nHome Team: Foosball Thr
 uball\nAway Team: Charlotte FC\nHome Score: 5\nAway Score: 5
END:VEVENT
BEGIN:VEVENT
UID:16211733@ezleagues.ezfacility.com
DTSTAMP:20260423T160809Z
CREATED:20260423T160809Z
DTSTART:20250307T003000Z
DTEND:20250307T013000Z
LOCATION:Field 2
CONTACT:
SUMMARY:Charlotte FC VS. La Banda
DESCRIPTION:League Name: WS Futbol Sala Thursday Over 35's League 7V7 Winte
 r 2025\nGame Type: Regular\nGame Status: Complete\nHome Team: Charlotte FC
 \nAway Team: La Banda\nHome Score: 3\nAway Score: 1
END:VEVENT
BEGIN:VEVENT
UID:16211737@ezleagues.ezfacility.com
DTSTAMP:20260423T160809Z
CREATED:20260423T160809Z
DTSTART:20250314T003000Z
DTEND:20250314T013000Z
LOCATION:Field 2
CONTACT:
SUMMARY:Interbarrios VS. Charlotte FC
DESCRIPTION:League Name: WS Futbol Sala Thursday Over 35's League 7V7 Winte
 r 2025\nGame Type: Regular\nGame Status: Complete\nHome Team: Interbarrios
 \nAway Team: Charlotte FC\nHome Score: 2\nAway Score: 3
END:VEVENT
BEGIN:VEVENT
UID:16211761@ezleagues.ezfacility.com
DTSTAMP:20260423T160809Z
CREATED:20260423T160809Z
DTSTART:20250321T003000Z
DTEND:20250321T013000Z
LOCATION:Field 2
CONTACT:
SUMMARY:La Banda VS. Charlotte FC
DESCRIPTION:League Name: WS Futbol Sala Thursday Over 35's League 7V7 Winte
 r 2025\nGame Type: Regular\nGame Status: Complete\nHome Team: La Banda\nAw
 ay Team: Charlotte FC\nHome Score: 1\nAway Score: 3
END:VEVENT
BEGIN:VEVENT
UID:16211745@ezleagues.ezfacility.com
DTSTAMP:20260423T160809Z
CREATED:20260423T160809Z
DTSTART:20250328T003000Z
DTEND:20250328T013000Z
LOCATION:Field 2
CONTACT:
SUMMARY:SSNS FC VS. Charlotte FC
DESCRIPTION:League Name: WS Futbol Sala Thursday Over 35's League 7V7 Winte
 r 2025\nGame Type: Regular\nGame Status: Complete\nHome Team: SSNS FC\nAwa
 y Team: Charlotte FC\nHome Score: 2\nAway Score: 3
END:VEVENT
BEGIN:VEVENT
UID:16211749@ezleagues.ezfacility.com
DTSTAMP:20260423T160809Z
CREATED:20260423T160809Z
DTSTART:20250404T013000Z
DTEND:20250404T023000Z
LOCATION:Field 2
CONTACT:
SUMMARY:Charlotte FC VS. WS FC
DESCRIPTION:League Name: WS Futbol Sala Thursday Over 35's League 7V7 Winte
 r 2025\nGame Type: Regular\nGame Status: Complete\nHome Team: Charlotte FC
 \nAway Team: WS FC\nHome Score: 7\nAway Score: 2
END:VEVENT
BEGIN:VEVENT
UID:16211741@ezleagues.ezfacility.com
DTSTAMP:20260423T160809Z
CREATED:20260423T160809Z
DTSTART:20250411T003000Z
DTEND:20250411T013000Z
LOCATION:Field 2
CONTACT:
SUMMARY:Charlotte FC VS. Perspolis
DESCRIPTION:League Name: WS Futbol Sala Thursday Over 35's League 7V7 Winte
 r 2025\nGame Type: Regular\nGame Status: Complete\nHome Team: Charlotte FC
 \nAway Team: Perspolis\nHome Score: 5\nAway Score: 3
END:VEVENT
BEGIN:VEVENT
UID:16211765@ezleagues.ezfacility.com
DTSTAMP:20260423T160809Z
CREATED:20260423T160809Z
DTSTART:20250502T013000Z
DTEND:20250502T023000Z
LOCATION:Field 2
CONTACT:
SUMMARY:Charlotte FC VS. Interbarrios
DESCRIPTION:League Name: WS Futbol Sala Thursday Over 35's League 7V7 Winte
 r 2025\nGame Type: Regular\nGame Status: Complete\nHome Team: Charlotte FC
 \nAway Team: Interbarrios\nHome Score: 7\nAway Score: 6
END:VEVENT
BEGIN:VEVENT
UID:16211757@ezleagues.ezfacility.com
DTSTAMP:20260423T160809Z
CREATED:20260423T160809Z
DTSTART:20250508T233000Z
DTEND:20250509T003000Z
LOCATION:Field 2
CONTACT:
SUMMARY:Charlotte FC VS. Foosball Thruball
DESCRIPTION:League Name: WS Futbol Sala Thursday Over 35's League 7V7 Winte
 r 2025\nGame Type: Regular\nGame Status: Complete\nHome Team: Charlotte FC
 \nAway Team: Foosball Thruball\nHome Score: 2\nAway Score: 7
END:VEVENT
BEGIN:VEVENT
UID:16489758@ezleagues.ezfacility.com
DTSTAMP:20260423T160809Z
CREATED:20260423T160809Z
DTSTART:20250613T000000Z
DTEND:20250613T010000Z
LOCATION:Field 2
CONTACT:
SUMMARY:Charlotte FC VS. Foosball Thruball
DESCRIPTION:League Name: WS Futbol Sala Thursday Over 35's League 7V7 Winte
 r 2025\nGame Type: Postseason\nGame Status: Complete\nHome Team: Charlotte
  FC\nAway Team: Foosball Thruball\nHome Score: 3\nAway Score: 4
END:VEVENT
END:VCALENDAR
