BEGIN:VCALENDAR
VERSION:2.0
PRODID:-//EZFacility.com, Inc.//EZL 2.5.5.28621
BEGIN:VEVENT
UID:16214828@ezleagues.ezfacility.com
DTSTAMP:20260421T231844Z
CREATED:20260421T231844Z
DTSTART:20250205T054000Z
DTEND:20250205T063000Z
LOCATION:INDOOR FIELD
CONTACT:Ahern\, Knapp
SUMMARY:Starz At Midnight VS. Not Sure Yet
DESCRIPTION:League Name: Adult Soccer Winter S2 2025-Men's A\nGame Type: Re
 gular\nGame Status: Complete\nHome Team: Starz At Midnight\nAway Team: Not
  Sure Yet\nHome Score: 3\nAway Score: 8
END:VEVENT
BEGIN:VEVENT
UID:16214833@ezleagues.ezfacility.com
DTSTAMP:20260421T231844Z
CREATED:20260421T231844Z
DTSTART:20250212T031000Z
DTEND:20250212T040000Z
LOCATION:INDOOR FIELD
CONTACT:Ahern\, Knapp
SUMMARY:Starz At Midnight VS. COCC
DESCRIPTION:League Name: Adult Soccer Winter S2 2025-Men's A\nGame Type: Re
 gular\nGame Status: Complete\nHome Team: Starz At Midnight\nAway Team: COC
 C\nHome Score: 5\nAway Score: 3
END:VEVENT
BEGIN:VEVENT
UID:16214838@ezleagues.ezfacility.com
DTSTAMP:20260421T231844Z
CREATED:20260421T231844Z
DTSTART:20250219T045000Z
DTEND:20250219T054000Z
LOCATION:INDOOR FIELD
CONTACT:Ahern\, Knapp
SUMMARY:Momentasize FC VS. Starz At Midnight
DESCRIPTION:League Name: Adult Soccer Winter S2 2025-Men's A\nGame Type: Re
 gular\nGame Status: Complete\nHome Team: Momentasize FC\nAway Team: Starz 
 At Midnight\nHome Score: 8\nAway Score: 0
END:VEVENT
BEGIN:VEVENT
UID:16214848@ezleagues.ezfacility.com
DTSTAMP:20260421T231844Z
CREATED:20260421T231844Z
DTSTART:20250226T063000Z
DTEND:20250226T072000Z
LOCATION:INDOOR FIELD
CONTACT:Ahern\, Knapp
SUMMARY:Starz At Midnight VS. Madras
DESCRIPTION:League Name: Adult Soccer Winter S2 2025-Men's A\nGame Type: Re
 gular\nGame Status: Complete\nHome Team: Starz At Midnight\nAway Team: Mad
 ras\nHome Score: 3\nAway Score: 10
END:VEVENT
BEGIN:VEVENT
UID:16214857@ezleagues.ezfacility.com
DTSTAMP:20260421T231844Z
CREATED:20260421T231844Z
DTSTART:20250312T035000Z
DTEND:20250312T044000Z
LOCATION:INDOOR FIELD
CONTACT:Ahern\, Knapp
SUMMARY:Santa Cruz VS. Starz At Midnight
DESCRIPTION:League Name: Adult Soccer Winter S2 2025-Men's A\nGame Type: Re
 gular\nGame Status: Complete\nHome Team: Santa Cruz\nAway Team: Starz At M
 idnight\nHome Score: 3\nAway Score: 8
END:VEVENT
BEGIN:VEVENT
UID:16214863@ezleagues.ezfacility.com
DTSTAMP:20260421T231844Z
CREATED:20260421T231844Z
DTSTART:20250319T044000Z
DTEND:20250319T053000Z
LOCATION:INDOOR FIELD
CONTACT:Ahern\, Knapp
SUMMARY:Tigers FC VS. Starz At Midnight
DESCRIPTION:League Name: Adult Soccer Winter S2 2025-Men's A\nGame Type: Re
 gular\nGame Status: Complete\nHome Team: Tigers FC\nAway Team: Starz At Mi
 dnight\nHome Score: 2\nAway Score: 6
END:VEVENT
BEGIN:VEVENT
UID:16214871@ezleagues.ezfacility.com
DTSTAMP:20260421T231844Z
CREATED:20260421T231844Z
DTSTART:20250402T020000Z
DTEND:20250402T025000Z
LOCATION:INDOOR FIELD
CONTACT:Ahern\, Knapp
SUMMARY:Galaxy VS. Starz At Midnight
DESCRIPTION:League Name: Adult Soccer Winter S2 2025-Men's A\nGame Type: Re
 gular\nGame Status: Complete\nHome Team: Galaxy\nAway Team: Starz At Midni
 ght\nHome Score: 6\nAway Score: 7
END:VEVENT
BEGIN:VEVENT
UID:16351050@ezleagues.ezfacility.com
DTSTAMP:20260421T231844Z
CREATED:20260421T231844Z
DTSTART:20250409T034000Z
DTEND:20250409T040500Z
LOCATION:INDOOR FIELD
CONTACT:
SUMMARY:Momentasize FC VS. Starz At Midnight
DESCRIPTION:League Name: Adult Soccer Winter S2 2025-Men's A\nGame Type: Po
 stseason\nGame Status: Pending\nHome Team: Momentasize FC\nAway Team: Star
 z At Midnight\n
END:VEVENT
END:VCALENDAR
