BEGIN:VCALENDAR
VERSION:2.0
PRODID:-//EZFacility.com, Inc.//EZL 2.5.5.28621
BEGIN:VEVENT
UID:16215068@ezleagues.ezfacility.com
DTSTAMP:20260421T223803Z
CREATED:20260421T223803Z
DTSTART:20250204T224500Z
DTEND:20250204T231500Z
LOCATION:Pickleball Court C
CONTACT:
SUMMARY:Brute Force Boyz VS. Accounting Aces
DESCRIPTION:League Name: 2025 Pickleball Doubles League - Season 1\nGame Ty
 pe: Regular\nGame Status: Complete\nHome Team: Brute Force Boyz\nAway Team
 : Accounting Aces\nHome Score: 0\nAway Score: 2
END:VEVENT
BEGIN:VEVENT
UID:16215073@ezleagues.ezfacility.com
DTSTAMP:20260421T223803Z
CREATED:20260421T223803Z
DTSTART:20250204T234500Z
DTEND:20250205T001500Z
LOCATION:Pickleball Court B
CONTACT:
SUMMARY:Accounting Aces VS. Granessa
DESCRIPTION:League Name: 2025 Pickleball Doubles League - Season 1\nGame Ty
 pe: Regular\nGame Status: Complete\nHome Team: Accounting Aces\nAway Team:
  Granessa\nHome Score: 2\nAway Score: 0
END:VEVENT
BEGIN:VEVENT
UID:16215132@ezleagues.ezfacility.com
DTSTAMP:20260421T223803Z
CREATED:20260421T223803Z
DTSTART:20250218T234500Z
DTEND:20250219T001500Z
LOCATION:Pickleball Court A
CONTACT:
SUMMARY:Accounting Aces VS. Carolina Picklers
DESCRIPTION:League Name: 2025 Pickleball Doubles League - Season 1\nGame Ty
 pe: Regular\nGame Status: Complete\nHome Team: Accounting Aces\nAway Team:
  Carolina Picklers\nHome Score: 2\nAway Score: 0
END:VEVENT
BEGIN:VEVENT
UID:16215137@ezleagues.ezfacility.com
DTSTAMP:20260421T223803Z
CREATED:20260421T223803Z
DTSTART:20250219T001500Z
DTEND:20250219T004500Z
LOCATION:Pickleball Court C
CONTACT:
SUMMARY:Accounting Aces VS. Legally Brined
DESCRIPTION:League Name: 2025 Pickleball Doubles League - Season 1\nGame Ty
 pe: Regular\nGame Status: Complete\nHome Team: Accounting Aces\nAway Team:
  Legally Brined\nHome Score: 2\nAway Score: 0
END:VEVENT
BEGIN:VEVENT
UID:16248765@ezleagues.ezfacility.com
DTSTAMP:20260421T223803Z
CREATED:20260421T223803Z
DTSTART:20250228T001500Z
DTEND:20250228T004500Z
LOCATION:Pickleball Court C
CONTACT:
SUMMARY:Meowsketeers  VS. Accounting Aces
DESCRIPTION:League Name: 2025 Pickleball Doubles League - Season 1\nGame Ty
 pe: Regular\nGame Status: Complete\nHome Team: Meowsketeers \nAway Team: A
 ccounting Aces\nHome Score: 2\nAway Score: 1
END:VEVENT
BEGIN:VEVENT
UID:16248766@ezleagues.ezfacility.com
DTSTAMP:20260421T223803Z
CREATED:20260421T223803Z
DTSTART:20250228T004500Z
DTEND:20250228T011500Z
LOCATION:Pickleball Court A
CONTACT:
SUMMARY:Pickle Me Twice\, Shame on You VS. Accounting Aces
DESCRIPTION:League Name: 2025 Pickleball Doubles League - Season 1\nGame Ty
 pe: Regular\nGame Status: Complete\nHome Team: Pickle Me Twice, Shame on Y
 ou\nAway Team: Accounting Aces\nHome Score: 2\nAway Score: 1
END:VEVENT
BEGIN:VEVENT
UID:16248772@ezleagues.ezfacility.com
DTSTAMP:20260421T223803Z
CREATED:20260421T223803Z
DTSTART:20250304T224500Z
DTEND:20250304T231500Z
LOCATION:Pickleball Court C
CONTACT:
SUMMARY:Accounting Aces VS. PwC
DESCRIPTION:League Name: 2025 Pickleball Doubles League - Season 1\nGame Ty
 pe: Regular\nGame Status: Complete\nHome Team: Accounting Aces\nAway Team:
  PwC\nHome Score: 0\nAway Score: 2
END:VEVENT
BEGIN:VEVENT
UID:16248774@ezleagues.ezfacility.com
DTSTAMP:20260421T223803Z
CREATED:20260421T223803Z
DTSTART:20250304T231500Z
DTEND:20250304T234500Z
LOCATION:Pickleball Court A
CONTACT:
SUMMARY:So You're Sayin' There's a Chance VS. Accounting Aces
DESCRIPTION:League Name: 2025 Pickleball Doubles League - Season 1\nGame Ty
 pe: Regular\nGame Status: Complete\nHome Team: So You're Sayin' There's a 
 Chance\nAway Team: Accounting Aces\nHome Score: 2\nAway Score: 0
END:VEVENT
BEGIN:VEVENT
UID:16248808@ezleagues.ezfacility.com
DTSTAMP:20260421T223803Z
CREATED:20260421T223803Z
DTSTART:20250311T214500Z
DTEND:20250311T221500Z
LOCATION:Pickleball Court B
CONTACT:
SUMMARY:Morning Crew VS. Accounting Aces
DESCRIPTION:League Name: 2025 Pickleball Doubles League - Season 1\nGame Ty
 pe: Regular\nGame Status: Complete\nHome Team: Morning Crew\nAway Team: Ac
 counting Aces\nHome Score: 0\nAway Score: 2
END:VEVENT
BEGIN:VEVENT
UID:16248811@ezleagues.ezfacility.com
DTSTAMP:20260421T223803Z
CREATED:20260421T223803Z
DTSTART:20250311T221500Z
DTEND:20250311T224500Z
LOCATION:Pickleball Court B
CONTACT:
SUMMARY:In a Pickle VS. Accounting Aces
DESCRIPTION:League Name: 2025 Pickleball Doubles League - Season 1\nGame Ty
 pe: Regular\nGame Status: Complete\nHome Team: In a Pickle\nAway Team: Acc
 ounting Aces\nHome Score: 0\nAway Score: 2
END:VEVENT
BEGIN:VEVENT
UID:16291154@ezleagues.ezfacility.com
DTSTAMP:20260421T223803Z
CREATED:20260421T223803Z
DTSTART:20250318T214500Z
DTEND:20250318T221500Z
LOCATION:Pickleball Court C
CONTACT:
SUMMARY:Accounting Aces VS. Bread and Butter
DESCRIPTION:League Name: 2025 Pickleball Doubles League - Season 1\nGame Ty
 pe: Regular\nGame Status: Complete\nHome Team: Accounting Aces\nAway Team:
  Bread and Butter\nHome Score: 0\nAway Score: 2
END:VEVENT
BEGIN:VEVENT
UID:16291156@ezleagues.ezfacility.com
DTSTAMP:20260421T223803Z
CREATED:20260421T223803Z
DTSTART:20250318T221500Z
DTEND:20250318T224500Z
LOCATION:Pickleball Court B
CONTACT:
SUMMARY:Accounting Aces VS. BumbleBees
DESCRIPTION:League Name: 2025 Pickleball Doubles League - Season 1\nGame Ty
 pe: Regular\nGame Status: Complete\nHome Team: Accounting Aces\nAway Team:
  BumbleBees\nHome Score: 2\nAway Score: 0
END:VEVENT
END:VCALENDAR
