BEGIN:VCALENDAR
VERSION:2.0
PRODID:-//EZFacility.com, Inc.//EZL 2.5.5.28621
BEGIN:VEVENT
UID:16215081@ezleagues.ezfacility.com
DTSTAMP:20260421T210316Z
CREATED:20260421T210316Z
DTSTART:20250206T224500Z
DTEND:20250206T231500Z
LOCATION:Pickleball Court A
CONTACT:
SUMMARY:Meowsketeers  VS. Two Docs and a Dork
DESCRIPTION:League Name: 2025 Pickleball Doubles League - Season 1\nGame Ty
 pe: Regular\nGame Status: Complete\nHome Team: Meowsketeers \nAway Team: T
 wo Docs and a Dork\nHome Score: 2\nAway Score: 1
END:VEVENT
BEGIN:VEVENT
UID:16215086@ezleagues.ezfacility.com
DTSTAMP:20260421T210316Z
CREATED:20260421T210316Z
DTSTART:20250206T231500Z
DTEND:20250206T234500Z
LOCATION:Pickleball Court C
CONTACT:
SUMMARY:Meowsketeers  VS. Good Wins
DESCRIPTION:League Name: 2025 Pickleball Doubles League - Season 1\nGame Ty
 pe: Regular\nGame Status: Complete\nHome Team: Meowsketeers \nAway Team: G
 ood Wins\nHome Score: 2\nAway Score: 0
END:VEVENT
BEGIN:VEVENT
UID:16215088@ezleagues.ezfacility.com
DTSTAMP:20260421T210316Z
CREATED:20260421T210316Z
DTSTART:20250206T234500Z
DTEND:20250207T001500Z
LOCATION:Pickleball Court B
CONTACT:
SUMMARY:Meowsketeers  VS. IT Joes
DESCRIPTION:League Name: 2025 Pickleball Doubles League - Season 1\nGame Ty
 pe: Regular\nGame Status: Complete\nHome Team: Meowsketeers \nAway Team: I
 T Joes\nHome Score: 2\nAway Score: 0
END:VEVENT
BEGIN:VEVENT
UID:16215145@ezleagues.ezfacility.com
DTSTAMP:20260421T210316Z
CREATED:20260421T210316Z
DTSTART:20250220T231500Z
DTEND:20250220T234500Z
LOCATION:Pickleball Court B
CONTACT:
SUMMARY:Bread and Butter VS. Meowsketeers 
DESCRIPTION:League Name: 2025 Pickleball Doubles League - Season 1\nGame Ty
 pe: Regular\nGame Status: Complete\nHome Team: Bread and Butter\nAway Team
 : Meowsketeers \nHome Score: 2\nAway Score: 0
END:VEVENT
BEGIN:VEVENT
UID:16215147@ezleagues.ezfacility.com
DTSTAMP:20260421T210316Z
CREATED:20260421T210316Z
DTSTART:20250220T234500Z
DTEND:20250221T001500Z
LOCATION:Pickleball Court A
CONTACT:
SUMMARY:Dill-icious VS. Meowsketeers 
DESCRIPTION:League Name: 2025 Pickleball Doubles League - Season 1\nGame Ty
 pe: Regular\nGame Status: Complete\nHome Team: Dill-icious\nAway Team: Meo
 wsketeers \nHome Score: 2\nAway Score: 1
END:VEVENT
BEGIN:VEVENT
UID:16215150@ezleagues.ezfacility.com
DTSTAMP:20260421T210316Z
CREATED:20260421T210316Z
DTSTART:20250221T001500Z
DTEND:20250221T004500Z
LOCATION:Pickleball Court A
CONTACT:
SUMMARY:Meowsketeers  VS. So You're Sayin' There's a Chance
DESCRIPTION:League Name: 2025 Pickleball Doubles League - Season 1\nGame Ty
 pe: Regular\nGame Status: Complete\nHome Team: Meowsketeers \nAway Team: S
 o You're Sayin' There's a Chance\nHome Score: 0\nAway Score: 2
END:VEVENT
BEGIN:VEVENT
UID:16248765@ezleagues.ezfacility.com
DTSTAMP:20260421T210316Z
CREATED:20260421T210316Z
DTSTART:20250228T001500Z
DTEND:20250228T004500Z
LOCATION:Pickleball Court C
CONTACT:
SUMMARY:Meowsketeers  VS. Accounting Aces
DESCRIPTION:League Name: 2025 Pickleball Doubles League - Season 1\nGame Ty
 pe: Regular\nGame Status: Complete\nHome Team: Meowsketeers \nAway Team: A
 ccounting Aces\nHome Score: 2\nAway Score: 1
END:VEVENT
BEGIN:VEVENT
UID:16248767@ezleagues.ezfacility.com
DTSTAMP:20260421T210316Z
CREATED:20260421T210316Z
DTSTART:20250228T004500Z
DTEND:20250228T011500Z
LOCATION:Pickleball Court B
CONTACT:
SUMMARY:Chill Gang VS. Meowsketeers 
DESCRIPTION:League Name: 2025 Pickleball Doubles League - Season 1\nGame Ty
 pe: Regular\nGame Status: Complete\nHome Team: Chill Gang\nAway Team: Meow
 sketeers \nHome Score: 2\nAway Score: 0
END:VEVENT
BEGIN:VEVENT
UID:16248796@ezleagues.ezfacility.com
DTSTAMP:20260421T210316Z
CREATED:20260421T210316Z
DTSTART:20250306T231500Z
DTEND:20250306T234500Z
LOCATION:Pickleball Court B
CONTACT:
SUMMARY:Meowsketeers  VS. Free Agents
DESCRIPTION:League Name: 2025 Pickleball Doubles League - Season 1\nGame Ty
 pe: Regular\nGame Status: Complete\nHome Team: Meowsketeers \nAway Team: F
 ree Agents\nHome Score: 0\nAway Score: 2
END:VEVENT
BEGIN:VEVENT
UID:16248800@ezleagues.ezfacility.com
DTSTAMP:20260421T210316Z
CREATED:20260421T210316Z
DTSTART:20250306T234500Z
DTEND:20250307T001500Z
LOCATION:Pickleball Court C
CONTACT:
SUMMARY:Double Trouble VS. Meowsketeers 
DESCRIPTION:League Name: 2025 Pickleball Doubles League - Season 1\nGame Ty
 pe: Regular\nGame Status: Complete\nHome Team: Double Trouble\nAway Team: 
 Meowsketeers \nHome Score: 0\nAway Score: 2
END:VEVENT
BEGIN:VEVENT
UID:16248823@ezleagues.ezfacility.com
DTSTAMP:20260421T210316Z
CREATED:20260421T210316Z
DTSTART:20250313T214500Z
DTEND:20250313T221500Z
LOCATION:Pickleball Court B
CONTACT:
SUMMARY:Legally Brined VS. Meowsketeers 
DESCRIPTION:League Name: 2025 Pickleball Doubles League - Season 1\nGame Ty
 pe: Regular\nGame Status: Complete\nHome Team: Legally Brined\nAway Team: 
 Meowsketeers \nHome Score: 1\nAway Score: 2
END:VEVENT
BEGIN:VEVENT
UID:16248828@ezleagues.ezfacility.com
DTSTAMP:20260421T210316Z
CREATED:20260421T210316Z
DTSTART:20250313T224500Z
DTEND:20250313T231500Z
LOCATION:Pickleball Court A
CONTACT:
SUMMARY:EKRockz VS. Meowsketeers 
DESCRIPTION:League Name: 2025 Pickleball Doubles League - Season 1\nGame Ty
 pe: Regular\nGame Status: Complete\nHome Team: EKRockz\nAway Team: Meowske
 teers \nHome Score: 2\nAway Score: 0
END:VEVENT
BEGIN:VEVENT
UID:16291169@ezleagues.ezfacility.com
DTSTAMP:20260421T210316Z
CREATED:20260421T210316Z
DTSTART:20250320T214500Z
DTEND:20250320T221500Z
LOCATION:Pickleball Court C
CONTACT:
SUMMARY:Free Agents VS. Meowsketeers 
DESCRIPTION:League Name: 2025 Pickleball Doubles League - Season 1\nGame Ty
 pe: Regular\nGame Status: Complete\nHome Team: Free Agents\nAway Team: Meo
 wsketeers \nHome Score: 1\nAway Score: 2
END:VEVENT
BEGIN:VEVENT
UID:16291173@ezleagues.ezfacility.com
DTSTAMP:20260421T210316Z
CREATED:20260421T210316Z
DTSTART:20250320T224500Z
DTEND:20250320T231500Z
LOCATION:Pickleball Court A
CONTACT:
SUMMARY:Rogers VS. Meowsketeers 
DESCRIPTION:League Name: 2025 Pickleball Doubles League - Season 1\nGame Ty
 pe: Regular\nGame Status: Complete\nHome Team: Rogers\nAway Team: Meowsket
 eers \nHome Score: 0\nAway Score: 2
END:VEVENT
END:VCALENDAR
