BEGIN:VCALENDAR
VERSION:2.0
PRODID:-//EZFacility.com, Inc.//EZL 2.5.5.28621
BEGIN:VEVENT
UID:16217677@ezleagues.ezfacility.com
DTSTAMP:20260424T044119Z
CREATED:20260424T044119Z
DTSTART:20250207T050000Z
DTEND:20250207T060000Z
LOCATION:Field 1
CONTACT:
SUMMARY:Botafogo VS. Cali F.C.
DESCRIPTION:League Name: Men's Over 40\nGame Type: Regular\nGame Status: Co
 mplete\nHome Team: Botafogo\nAway Team: Cali F.C.\nHome Score: 4\nAway Sco
 re: 2
END:VEVENT
BEGIN:VEVENT
UID:16217683@ezleagues.ezfacility.com
DTSTAMP:20260424T044119Z
CREATED:20260424T044119Z
DTSTART:20250214T050000Z
DTEND:20250214T060000Z
LOCATION:Field 1
CONTACT:
SUMMARY:Cuervos F.C. VS. Botafogo
DESCRIPTION:League Name: Men's Over 40\nGame Type: Regular\nGame Status: Co
 mplete\nHome Team: Cuervos F.C.\nAway Team: Botafogo\nHome Score: 8\nAway 
 Score: 0
END:VEVENT
BEGIN:VEVENT
UID:16217688@ezleagues.ezfacility.com
DTSTAMP:20260424T044119Z
CREATED:20260424T044119Z
DTSTART:20250221T020000Z
DTEND:20250221T030000Z
LOCATION:Field 2
CONTACT:
SUMMARY:Jacona VS. Botafogo
DESCRIPTION:League Name: Men's Over 40\nGame Type: Regular\nGame Status: Co
 mplete\nHome Team: Jacona\nAway Team: Botafogo\nHome Score: 4\nAway Score:
  9
END:VEVENT
BEGIN:VEVENT
UID:16217693@ezleagues.ezfacility.com
DTSTAMP:20260424T044119Z
CREATED:20260424T044119Z
DTSTART:20250228T040000Z
DTEND:20250228T050000Z
LOCATION:Field 2
CONTACT:
SUMMARY:Relic FC VS. Botafogo
DESCRIPTION:League Name: Men's Over 40\nGame Type: Regular\nGame Status: Co
 mplete\nHome Team: Relic FC\nAway Team: Botafogo\nHome Score: 1\nAway Scor
 e: 12
END:VEVENT
BEGIN:VEVENT
UID:16217698@ezleagues.ezfacility.com
DTSTAMP:20260424T044119Z
CREATED:20260424T044119Z
DTSTART:20250307T050000Z
DTEND:20250307T060000Z
LOCATION:Field 2
CONTACT:
SUMMARY:Botafogo VS. Extra Anejo
DESCRIPTION:League Name: Men's Over 40\nGame Type: Regular\nGame Status: Co
 mplete\nHome Team: Botafogo\nAway Team: Extra Anejo\nHome Score: 4\nAway S
 core: 8
END:VEVENT
BEGIN:VEVENT
UID:16217703@ezleagues.ezfacility.com
DTSTAMP:20260424T044119Z
CREATED:20260424T044119Z
DTSTART:20250314T010000Z
DTEND:20250314T020000Z
LOCATION:Field 2
CONTACT:
SUMMARY:A.C. Babylon VS. Botafogo
DESCRIPTION:League Name: Men's Over 40\nGame Type: Regular\nGame Status: Co
 mplete\nHome Team: A.C. Babylon\nAway Team: Botafogo\nHome Score: 6\nAway 
 Score: 0
END:VEVENT
BEGIN:VEVENT
UID:16217708@ezleagues.ezfacility.com
DTSTAMP:20260424T044119Z
CREATED:20260424T044119Z
DTSTART:20250321T020000Z
DTEND:20250321T030000Z
LOCATION:Field 2
CONTACT:
SUMMARY:Botafogo VS. Inter Modesto
DESCRIPTION:League Name: Men's Over 40\nGame Type: Regular\nGame Status: Co
 mplete\nHome Team: Botafogo\nAway Team: Inter Modesto\nHome Score: 4\nAway
  Score: 3
END:VEVENT
BEGIN:VEVENT
UID:16217715@ezleagues.ezfacility.com
DTSTAMP:20260424T044119Z
CREATED:20260424T044119Z
DTSTART:20250328T045500Z
DTEND:20250328T055500Z
LOCATION:Field 1
CONTACT:
SUMMARY:Botafogo VS. CDL
DESCRIPTION:League Name: Men's Over 40\nGame Type: Regular\nGame Status: Co
 mplete\nHome Team: Botafogo\nAway Team: CDL\nHome Score: 4\nAway Score: 4
END:VEVENT
END:VCALENDAR
