BEGIN:VCALENDAR
VERSION:2.0
PRODID:-//EZFacility.com, Inc.//EZL 2.5.5.28621
BEGIN:VEVENT
UID:16222662@ezleagues.ezfacility.com
DTSTAMP:20260424T043910Z
CREATED:20260424T043910Z
DTSTART:20250206T020000Z
DTEND:20250206T030000Z
LOCATION:Field 1
CONTACT:
SUMMARY:F.C. United VS. J.L Soccer
DESCRIPTION:League Name: Wednesday Open Men's\nGame Type: Regular\nGame Sta
 tus: Complete\nHome Team: F.C. United\nAway Team: J.L Soccer\nHome Score: 
 3\nAway Score: 8
END:VEVENT
BEGIN:VEVENT
UID:16222668@ezleagues.ezfacility.com
DTSTAMP:20260424T043910Z
CREATED:20260424T043910Z
DTSTART:20250213T040000Z
DTEND:20250213T050000Z
LOCATION:Field 2
CONTACT:
SUMMARY:F.C. United VS. Lobos United
DESCRIPTION:League Name: Wednesday Open Men's\nGame Type: Regular\nGame Sta
 tus: Complete\nHome Team: F.C. United\nAway Team: Lobos United\nHome Score
 : 10\nAway Score: 5
END:VEVENT
BEGIN:VEVENT
UID:16222674@ezleagues.ezfacility.com
DTSTAMP:20260424T043910Z
CREATED:20260424T043910Z
DTSTART:20250220T050000Z
DTEND:20250220T060000Z
LOCATION:Field 2
CONTACT:
SUMMARY:F.C. United VS. Deportivo Livingston
DESCRIPTION:League Name: Wednesday Open Men's\nGame Type: Regular\nGame Sta
 tus: Complete\nHome Team: F.C. United\nAway Team: Deportivo Livingston\nHo
 me Score: 10\nAway Score: 5
END:VEVENT
BEGIN:VEVENT
UID:16222680@ezleagues.ezfacility.com
DTSTAMP:20260424T043910Z
CREATED:20260424T043910Z
DTSTART:20250227T030000Z
DTEND:20250227T040000Z
LOCATION:Field 1
CONTACT:
SUMMARY:F.C. United VS. Jaguares
DESCRIPTION:League Name: Wednesday Open Men's\nGame Type: Regular\nGame Sta
 tus: Complete\nHome Team: F.C. United\nAway Team: Jaguares\nHome Score: 2\
 nAway Score: 6
END:VEVENT
BEGIN:VEVENT
UID:16222686@ezleagues.ezfacility.com
DTSTAMP:20260424T043910Z
CREATED:20260424T043910Z
DTSTART:20250306T050000Z
DTEND:20250306T060000Z
LOCATION:Field 2
CONTACT:
SUMMARY:JM FC VS. F.C. United
DESCRIPTION:League Name: Wednesday Open Men's\nGame Type: Regular\nGame Sta
 tus: Complete\nHome Team: JM FC\nAway Team: F.C. United\nHome Score: 3\nAw
 ay Score: 10
END:VEVENT
BEGIN:VEVENT
UID:16222692@ezleagues.ezfacility.com
DTSTAMP:20260424T043910Z
CREATED:20260424T043910Z
DTSTART:20250313T010000Z
DTEND:20250313T020000Z
LOCATION:Field 1
CONTACT:
SUMMARY:Guanajuato VS. F.C. United
DESCRIPTION:League Name: Wednesday Open Men's\nGame Type: Regular\nGame Sta
 tus: Complete\nHome Team: Guanajuato\nAway Team: F.C. United\nHome Score: 
 3\nAway Score: 8
END:VEVENT
BEGIN:VEVENT
UID:16222698@ezleagues.ezfacility.com
DTSTAMP:20260424T043910Z
CREATED:20260424T043910Z
DTSTART:20250320T030000Z
DTEND:20250320T040000Z
LOCATION:Field 1
CONTACT:
SUMMARY:Club Oro VS. F.C. United
DESCRIPTION:League Name: Wednesday Open Men's\nGame Type: Regular\nGame Sta
 tus: Complete\nHome Team: Club Oro\nAway Team: F.C. United\nHome Score: 6\
 nAway Score: 8
END:VEVENT
BEGIN:VEVENT
UID:16222704@ezleagues.ezfacility.com
DTSTAMP:20260424T043910Z
CREATED:20260424T043910Z
DTSTART:20250327T010000Z
DTEND:20250327T020000Z
LOCATION:Field 1
CONTACT:
SUMMARY:Los Giros VS. F.C. United
DESCRIPTION:League Name: Wednesday Open Men's\nGame Type: Regular\nGame Sta
 tus: Complete\nHome Team: Los Giros\nAway Team: F.C. United\nHome Score: 0
 \nAway Score: 5
END:VEVENT
BEGIN:VEVENT
UID:16336386@ezleagues.ezfacility.com
DTSTAMP:20260424T043910Z
CREATED:20260424T043910Z
DTSTART:20250403T020000Z
DTEND:20250403T024800Z
LOCATION:Field 1
CONTACT:
SUMMARY:F.C. United VS. Los Giros
DESCRIPTION:League Name: Wednesday Open Men's\nGame Type: Postseason\nGame 
 Status: Complete\nHome Team: F.C. United\nAway Team: Los Giros\nHome Score
 : 4\nAway Score: 3
END:VEVENT
BEGIN:VEVENT
UID:16336381@ezleagues.ezfacility.com
DTSTAMP:20260424T043910Z
CREATED:20260424T043910Z
DTSTART:20250403T030000Z
DTEND:20250403T034800Z
LOCATION:Field 1
CONTACT:
SUMMARY:Jaguares VS. F.C. United
DESCRIPTION:League Name: Wednesday Open Men's\nGame Type: Postseason\nGame 
 Status: Complete\nHome Team: Jaguares\nAway Team: F.C. United\nHome Score:
  6\nAway Score: 7
END:VEVENT
BEGIN:VEVENT
UID:16351415@ezleagues.ezfacility.com
DTSTAMP:20260424T043910Z
CREATED:20260424T043910Z
DTSTART:20250410T030000Z
DTEND:20250410T034800Z
LOCATION:Field 1
CONTACT:
SUMMARY:Los Galacticos VS. F.C. United
DESCRIPTION:League Name: Wednesday Open Men's\nGame Type: Postseason\nGame 
 Status: Complete\nHome Team: Los Galacticos\nAway Team: F.C. United\nHome 
 Score: 5\nAway Score: 3
END:VEVENT
END:VCALENDAR
