BEGIN:VCALENDAR
VERSION:2.0
PRODID:-//EZFacility.com, Inc.//EZL 2.5.5.28621
BEGIN:VEVENT
UID:16218033@ezleagues.ezfacility.com
DTSTAMP:20260424T030601Z
CREATED:20260424T030601Z
DTSTART:20250205T032000Z
DTEND:20250205T041000Z
LOCATION:Large Field
CONTACT:
SUMMARY:Midlo FC VS. Hachie FC
DESCRIPTION:League Name: Men's Tuesday League Winter 2 2025\nGame Type: Reg
 ular\nGame Status: Complete\nHome Team: Midlo FC\nAway Team: Hachie FC\nHo
 me Score: 11\nAway Score: 5
END:VEVENT
BEGIN:VEVENT
UID:16218039@ezleagues.ezfacility.com
DTSTAMP:20260424T030601Z
CREATED:20260424T030601Z
DTSTART:20250212T023000Z
DTEND:20250212T032000Z
LOCATION:Large Field
CONTACT:
SUMMARY:Cuervos VS. Hachie FC
DESCRIPTION:League Name: Men's Tuesday League Winter 2 2025\nGame Type: Reg
 ular\nGame Status: Complete\nHome Team: Cuervos\nAway Team: Hachie FC\nHom
 e Score: 15\nAway Score: 4
END:VEVENT
BEGIN:VEVENT
UID:16218051@ezleagues.ezfacility.com
DTSTAMP:20260424T030601Z
CREATED:20260424T030601Z
DTSTART:20250226T023000Z
DTEND:20250226T032000Z
LOCATION:Large Field
CONTACT:
SUMMARY:X FC VS. Hachie FC
DESCRIPTION:League Name: Men's Tuesday League Winter 2 2025\nGame Type: Reg
 ular\nGame Status: Complete\nHome Team: X FC\nAway Team: Hachie FC\nHome S
 core: 19\nAway Score: 11
END:VEVENT
BEGIN:VEVENT
UID:16218056@ezleagues.ezfacility.com
DTSTAMP:20260424T030601Z
CREATED:20260424T030601Z
DTSTART:20250305T041000Z
DTEND:20250305T050000Z
LOCATION:Large Field
CONTACT:
SUMMARY:Wolves FC VS. Hachie FC
DESCRIPTION:League Name: Men's Tuesday League Winter 2 2025\nGame Type: Reg
 ular\nGame Status: Complete\nHome Team: Wolves FC\nAway Team: Hachie FC\nH
 ome Score: 20\nAway Score: 6
END:VEVENT
BEGIN:VEVENT
UID:16218060@ezleagues.ezfacility.com
DTSTAMP:20260424T030601Z
CREATED:20260424T030601Z
DTSTART:20250312T022000Z
DTEND:20250312T031000Z
LOCATION:Large Field
CONTACT:
SUMMARY:Hachie FC VS. Galaxy
DESCRIPTION:League Name: Men's Tuesday League Winter 2 2025\nGame Type: Reg
 ular\nGame Status: Complete\nHome Team: Hachie FC\nAway Team: Galaxy\nHome
  Score: 7\nAway Score: 8
END:VEVENT
BEGIN:VEVENT
UID:16218068@ezleagues.ezfacility.com
DTSTAMP:20260424T030601Z
CREATED:20260424T030601Z
DTSTART:20250326T022000Z
DTEND:20250326T031000Z
LOCATION:Large Field
CONTACT:
SUMMARY:Hachie FC VS. TMB
DESCRIPTION:League Name: Men's Tuesday League Winter 2 2025\nGame Type: Reg
 ular\nGame Status: Complete\nHome Team: Hachie FC\nAway Team: TMB\nHome Sc
 ore: 11\nAway Score: 9
END:VEVENT
BEGIN:VEVENT
UID:16218072@ezleagues.ezfacility.com
DTSTAMP:20260424T030601Z
CREATED:20260424T030601Z
DTSTART:20250416T010000Z
DTEND:20250416T015000Z
LOCATION:Large Field
CONTACT:
SUMMARY:Hachie FC VS. GTO FC
DESCRIPTION:League Name: Men's Tuesday League Winter 2 2025\nGame Type: Reg
 ular\nGame Status: Complete\nHome Team: Hachie FC\nAway Team: GTO FC\nHome
  Score: 18\nAway Score: 5
END:VEVENT
BEGIN:VEVENT
UID:16218045@ezleagues.ezfacility.com
DTSTAMP:20260424T030601Z
CREATED:20260424T030601Z
DTSTART:20250507T024000Z
DTEND:20250507T033000Z
LOCATION:Large Field
CONTACT:
SUMMARY:Hachie FC VS. FC Gordos
DESCRIPTION:League Name: Men's Tuesday League Winter 2 2025\nGame Type: Reg
 ular\nGame Status: Complete\nHome Team: Hachie FC\nAway Team: FC Gordos\nH
 ome Score: 6\nAway Score: 21
END:VEVENT
BEGIN:VEVENT
UID:16427069@ezleagues.ezfacility.com
DTSTAMP:20260424T030601Z
CREATED:20260424T030601Z
DTSTART:20250514T013000Z
DTEND:20250514T021500Z
LOCATION:Large Field
CONTACT:
SUMMARY:Wolves FC VS. Hachie FC
DESCRIPTION:League Name: Men's Tuesday League Winter 2 2025\nGame Type: Reg
 ular\nGame Status: Complete\nHome Team: Wolves FC\nAway Team: Hachie FC\nH
 ome Score: 18\nAway Score: 14
END:VEVENT
END:VCALENDAR
