BEGIN:VCALENDAR
VERSION:2.0
PRODID:-//EZFacility.com, Inc.//EZL 2.5.5.28621
BEGIN:VEVENT
UID:16218538@ezleagues.ezfacility.com
DTSTAMP:20260424T063617Z
CREATED:20260424T063617Z
DTSTART:20250222T234500Z
DTEND:20250223T003000Z
LOCATION:Court 4
CONTACT:
SUMMARY:EBU Classic 1 VS. Raptors
DESCRIPTION:League Name: WINTER LEAGUES 24-25 II-U12-U12/13 BOYS BLUE\nGame
  Type: Regular\nGame Status: Complete\nHome Team: EBU Classic 1\nAway Team
 : Raptors\nHome Score: 9\nAway Score: 0
END:VEVENT
BEGIN:VEVENT
UID:16218554@ezleagues.ezfacility.com
DTSTAMP:20260424T063617Z
CREATED:20260424T063617Z
DTSTART:20250302T211500Z
DTEND:20250302T220000Z
LOCATION:Court 2
CONTACT:
SUMMARY:HUSC U12 Black VS. Raptors
DESCRIPTION:League Name: WINTER LEAGUES 24-25 II-U12-U12/13 BOYS BLUE\nGame
  Type: Regular\nGame Status: Complete\nHome Team: HUSC U12 Black\nAway Tea
 m: Raptors\nHome Score: 7\nAway Score: 4
END:VEVENT
BEGIN:VEVENT
UID:16218570@ezleagues.ezfacility.com
DTSTAMP:20260424T063617Z
CREATED:20260424T063617Z
DTSTART:20250308T233000Z
DTEND:20250309T001500Z
LOCATION:Court 3
CONTACT:
SUMMARY:Raptors VS. 11/12uB MMA Futsal- Lemke
DESCRIPTION:League Name: WINTER LEAGUES 24-25 II-U12-U12/13 BOYS BLUE\nGame
  Type: Regular\nGame Status: Complete\nHome Team: Raptors\nAway Team: 11/1
 2uB MMA Futsal- Lemke\nHome Score: 2\nAway Score: 15
END:VEVENT
BEGIN:VEVENT
UID:16218588@ezleagues.ezfacility.com
DTSTAMP:20260424T063617Z
CREATED:20260424T063617Z
DTSTART:20250315T234500Z
DTEND:20250316T003000Z
LOCATION:Court 1
CONTACT:
SUMMARY:Raptors VS. U12 Mukwonago Blue
DESCRIPTION:League Name: WINTER LEAGUES 24-25 II-U12-U12/13 BOYS BLUE\nGame
  Type: Regular\nGame Status: Complete\nHome Team: Raptors\nAway Team: U12 
 Mukwonago Blue\nHome Score: 3\nAway Score: 3
END:VEVENT
BEGIN:VEVENT
UID:16218522@ezleagues.ezfacility.com
DTSTAMP:20260424T063617Z
CREATED:20260424T063617Z
DTSTART:20250316T121500Z
DTEND:20250316T130000Z
LOCATION:Court 2
CONTACT:
SUMMARY:CC 2013B State VS. Raptors
DESCRIPTION:League Name: WINTER LEAGUES 24-25 II-U12-U12/13 BOYS BLUE\nGame
  Type: Regular\nGame Status: Complete\nHome Team: CC 2013B State\nAway Tea
 m: Raptors\nHome Score: 19\nAway Score: 0
END:VEVENT
BEGIN:VEVENT
UID:16218506@ezleagues.ezfacility.com
DTSTAMP:20260424T063617Z
CREATED:20260424T063617Z
DTSTART:20250316T211500Z
DTEND:20250316T220000Z
LOCATION:Court 2
CONTACT:
SUMMARY:Mukwonago U12 White VS. Raptors
DESCRIPTION:League Name: WINTER LEAGUES 24-25 II-U12-U12/13 BOYS BLUE\nGame
  Type: Regular\nGame Status: Complete\nHome Team: Mukwonago U12 White\nAwa
 y Team: Raptors\nHome Score: 11\nAway Score: 3
END:VEVENT
BEGIN:VEVENT
UID:16282441@ezleagues.ezfacility.com
DTSTAMP:20260424T063617Z
CREATED:20260424T063617Z
DTSTART:20250322T134500Z
DTEND:20250322T143000Z
LOCATION:Court 4
CONTACT:
SUMMARY:EBU Classic Blue VS. Raptors
DESCRIPTION:League Name: WINTER LEAGUES 24-25 II-U12-U12/13 BOYS BLUE\nGame
  Type: Postseason\nGame Status: Pending\nHome Team: EBU Classic Blue\nAway
  Team: Raptors\n
END:VEVENT
END:VCALENDAR
