BEGIN:VCALENDAR
VERSION:2.0
PRODID:-//EZFacility.com, Inc.//EZL 2.5.5.28621
BEGIN:VEVENT
UID:16219405@ezleagues.ezfacility.com
DTSTAMP:20260422T152912Z
CREATED:20260422T152912Z
DTSTART:20250208T173000Z
DTEND:20250208T182000Z
LOCATION:Indoor 2AB
CONTACT:
SUMMARY:NEPTUNE AVALANCHE VS. JERSEY BOCA RODRI
DESCRIPTION:League Name: CSX Winter II (U9/U10) 2016/15 Boys 2 2024\nGame T
 ype: Regular\nGame Status: Complete\nHome Team: NEPTUNE AVALANCHE\nAway Te
 am: JERSEY BOCA RODRI\nHome Score: 9\nAway Score: 2
END:VEVENT
BEGIN:VEVENT
UID:16219408@ezleagues.ezfacility.com
DTSTAMP:20260422T152912Z
CREATED:20260422T152912Z
DTSTART:20250215T201500Z
DTEND:20250215T210500Z
LOCATION:Indoor 2AB
CONTACT:
SUMMARY:WIT GEORGIA 2016 NJ VS. JERSEY BOCA RODRI
DESCRIPTION:League Name: CSX Winter II (U9/U10) 2016/15 Boys 2 2024\nGame T
 ype: Regular\nGame Status: Complete\nHome Team: WIT GEORGIA 2016 NJ\nAway 
 Team: JERSEY BOCA RODRI\nHome Score: 4\nAway Score: 3
END:VEVENT
BEGIN:VEVENT
UID:16219410@ezleagues.ezfacility.com
DTSTAMP:20260422T152912Z
CREATED:20260422T152912Z
DTSTART:20250222T164000Z
DTEND:20250222T173000Z
LOCATION:Indoor 4AB
CONTACT:
SUMMARY:JERSEY BOCA RODRI VS. MONMOUTH UNITED 2016 BOYS BLUE
DESCRIPTION:League Name: CSX Winter II (U9/U10) 2016/15 Boys 2 2024\nGame T
 ype: Regular\nGame Status: Complete\nHome Team: JERSEY BOCA RODRI\nAway Te
 am: MONMOUTH UNITED 2016 BOYS BLUE\nHome Score: 6\nAway Score: 3
END:VEVENT
BEGIN:VEVENT
UID:16219411@ezleagues.ezfacility.com
DTSTAMP:20260422T152912Z
CREATED:20260422T152912Z
DTSTART:20250301T182500Z
DTEND:20250301T191500Z
LOCATION:Indoor 2AB
CONTACT:
SUMMARY:NEPTUNE AVALANCHE VS. JERSEY BOCA RODRI
DESCRIPTION:League Name: CSX Winter II (U9/U10) 2016/15 Boys 2 2024\nGame T
 ype: Regular\nGame Status: Complete\nHome Team: NEPTUNE AVALANCHE\nAway Te
 am: JERSEY BOCA RODRI\nHome Score: 5\nAway Score: 5
END:VEVENT
BEGIN:VEVENT
UID:16219414@ezleagues.ezfacility.com
DTSTAMP:20260422T152912Z
CREATED:20260422T152912Z
DTSTART:20250308T192000Z
DTEND:20250308T201000Z
LOCATION:Indoor 2AB
CONTACT:
SUMMARY:JERSEY BOCA RODRI VS. WIT GEORGIA 2016 NJ
DESCRIPTION:League Name: CSX Winter II (U9/U10) 2016/15 Boys 2 2024\nGame T
 ype: Regular\nGame Status: Complete\nHome Team: JERSEY BOCA RODRI\nAway Te
 am: WIT GEORGIA 2016 NJ\nHome Score: 1\nAway Score: 1
END:VEVENT
BEGIN:VEVENT
UID:16219416@ezleagues.ezfacility.com
DTSTAMP:20260422T152912Z
CREATED:20260422T152912Z
DTSTART:20250315T182000Z
DTEND:20250315T191000Z
LOCATION:Indoor 2AB
CONTACT:
SUMMARY:MONMOUTH UNITED 2016 BOYS BLUE VS. JERSEY BOCA RODRI
DESCRIPTION:League Name: CSX Winter II (U9/U10) 2016/15 Boys 2 2024\nGame T
 ype: Regular\nGame Status: Complete\nHome Team: MONMOUTH UNITED 2016 BOYS 
 BLUE\nAway Team: JERSEY BOCA RODRI\nHome Score: 1\nAway Score: 3
END:VEVENT
BEGIN:VEVENT
UID:16219417@ezleagues.ezfacility.com
DTSTAMP:20260422T152912Z
CREATED:20260422T152912Z
DTSTART:20250322T172500Z
DTEND:20250322T181500Z
LOCATION:Indoor 2AB
CONTACT:
SUMMARY:JERSEY BOCA RODRI VS. NEPTUNE AVALANCHE
DESCRIPTION:League Name: CSX Winter II (U9/U10) 2016/15 Boys 2 2024\nGame T
 ype: Regular\nGame Status: Complete\nHome Team: JERSEY BOCA RODRI\nAway Te
 am: NEPTUNE AVALANCHE\nHome Score: 1\nAway Score: 7
END:VEVENT
BEGIN:VEVENT
UID:16219420@ezleagues.ezfacility.com
DTSTAMP:20260422T152912Z
CREATED:20260422T152912Z
DTSTART:20250329T182000Z
DTEND:20250329T191000Z
LOCATION:Indoor 2AB
CONTACT:
SUMMARY:JERSEY BOCA RODRI VS. WIT GEORGIA 2016 NJ
DESCRIPTION:League Name: CSX Winter II (U9/U10) 2016/15 Boys 2 2024\nGame T
 ype: Regular\nGame Status: Complete\nHome Team: JERSEY BOCA RODRI\nAway Te
 am: WIT GEORGIA 2016 NJ\nHome Score: 5\nAway Score: 2
END:VEVENT
END:VCALENDAR
