BEGIN:VCALENDAR
VERSION:2.0
PRODID:-//EZFacility.com, Inc.//EZL 2.5.5.28621
BEGIN:VEVENT
UID:16222835@ezleagues.ezfacility.com
DTSTAMP:20260420T114118Z
CREATED:20260420T114118Z
DTSTART:20250125T000000Z
DTEND:20250125T005500Z
LOCATION:PFFC Dome - 3
CONTACT:
SUMMARY:GBC VS. Desperados FC (White)
DESCRIPTION:League Name: MSL Winter 2025 - Friday Men's 035 Div 6\nGame Typ
 e: Regular\nGame Status: Complete\nHome Team: GBC\nAway Team: Desperados F
 C (White)\nHome Score: 3\nAway Score: 2
END:VEVENT
BEGIN:VEVENT
UID:16222836@ezleagues.ezfacility.com
DTSTAMP:20260420T114118Z
CREATED:20260420T114118Z
DTSTART:20250201T034000Z
DTEND:20250201T043500Z
LOCATION:PFFC Field House - A
CONTACT:
SUMMARY:Desperados FC (White) VS. Green Eales
DESCRIPTION:League Name: MSL Winter 2025 - Friday Men's 035 Div 6\nGame Typ
 e: Regular\nGame Status: Complete\nHome Team: Desperados FC (White)\nAway
  Team: Green Eales\nHome Score: 3\nAway Score: 10
END:VEVENT
BEGIN:VEVENT
UID:16221790@ezleagues.ezfacility.com
DTSTAMP:20260420T114118Z
CREATED:20260420T114118Z
DTSTART:20250207T230500Z
DTEND:20250208T000000Z
LOCATION:PFFC Dome - 1
CONTACT:
SUMMARY:Desperados FC (White) VS. Goals - R- Us (Green)
DESCRIPTION:League Name: MSL Winter 2025 - Friday Men's 035 Div 6\nGame Typ
 e: Regular\nGame Status: Complete\nHome Team: Desperados FC (White)\nAway
  Team: Goals - R- Us (Green)\nHome Score: 9\nAway Score: 0
END:VEVENT
BEGIN:VEVENT
UID:16231015@ezleagues.ezfacility.com
DTSTAMP:20260420T114118Z
CREATED:20260420T114118Z
DTSTART:20250215T024500Z
DTEND:20250215T034000Z
LOCATION:PFFC Field House - A
CONTACT:
SUMMARY:Desperados FC (White) VS. United (Black)
DESCRIPTION:League Name: MSL Winter 2025 - Friday Men's 035 Div 6\nGame Typ
 e: Regular\nGame Status: Complete\nHome Team: Desperados FC (White)\nAway
  Team: United (Black)\nHome Score: 2\nAway Score: 6
END:VEVENT
BEGIN:VEVENT
UID:16231051@ezleagues.ezfacility.com
DTSTAMP:20260420T114118Z
CREATED:20260420T114118Z
DTSTART:20250222T034000Z
DTEND:20250222T043500Z
LOCATION:PFFC Dome - 3
CONTACT:
SUMMARY:Legends FC (Light Blue) VS. Desperados FC (White)
DESCRIPTION:League Name: MSL Winter 2025 - Friday Men's 035 Div 6\nGame Typ
 e: Regular\nGame Status: Complete\nHome Team: Legends FC (Light Blue)\nAwa
 y Team: Desperados FC (White)\nHome Score: 1\nAway Score: 3
END:VEVENT
BEGIN:VEVENT
UID:16257888@ezleagues.ezfacility.com
DTSTAMP:20260420T114118Z
CREATED:20260420T114118Z
DTSTART:20250301T000000Z
DTEND:20250301T005500Z
LOCATION:PFFC Field House - A
CONTACT:
SUMMARY:Desperados FC (White) VS. Sheffield Fridays AK (White)
DESCRIPTION:League Name: MSL Winter 2025 - Friday Men's 035 Div 6\nGame Typ
 e: Regular\nGame Status: Complete\nHome Team: Desperados FC (White)\nAway
  Team: Sheffield Fridays AK (White)\nHome Score: 2\nAway Score: 6
END:VEVENT
BEGIN:VEVENT
UID:16257927@ezleagues.ezfacility.com
DTSTAMP:20260420T114118Z
CREATED:20260420T114118Z
DTSTART:20250308T015000Z
DTEND:20250308T024500Z
LOCATION:PFFC Field House - A
CONTACT:
SUMMARY:FC Trembita (Royal Blue) VS. Desperados FC (White)
DESCRIPTION:League Name: MSL Winter 2025 - Friday Men's 035 Div 6\nGame Typ
 e: Regular\nGame Status: Complete\nHome Team: FC Trembita (Royal Blue)\nA
 way Team: Desperados FC (White)\nHome Score: 3\nAway Score: 5
END:VEVENT
BEGIN:VEVENT
UID:16257961@ezleagues.ezfacility.com
DTSTAMP:20260420T114118Z
CREATED:20260420T114118Z
DTSTART:20250314T230000Z
DTEND:20250314T235500Z
LOCATION:PFFC Dome - 1
CONTACT:
SUMMARY:Maadi FC (Blue) VS. Desperados FC (White)
DESCRIPTION:League Name: MSL Winter 2025 - Friday Men's 035 Div 6\nGame Typ
 e: Regular\nGame Status: Complete\nHome Team: Maadi FC (Blue)\nAway Team: 
 Desperados FC (White)\nHome Score: 5\nAway Score: 2
END:VEVENT
BEGIN:VEVENT
UID:16257996@ezleagues.ezfacility.com
DTSTAMP:20260420T114118Z
CREATED:20260420T114118Z
DTSTART:20250322T014500Z
DTEND:20250322T024000Z
LOCATION:PFFC Field House - D
CONTACT:
SUMMARY:Strikers FC (Orange) VS. Desperados FC (White)
DESCRIPTION:League Name: MSL Winter 2025 - Friday Men's 035 Div 6\nGame Typ
 e: Regular\nGame Status: Complete\nHome Team: Strikers FC (Orange)\nAway T
 eam: Desperados FC (White)\nHome Score: 4\nAway Score: 8
END:VEVENT
BEGIN:VEVENT
UID:16258030@ezleagues.ezfacility.com
DTSTAMP:20260420T114118Z
CREATED:20260420T114118Z
DTSTART:20250328T230000Z
DTEND:20250328T235500Z
LOCATION:PFFC Dome - 3
CONTACT:
SUMMARY:Desperados FC (White) VS. Triply by Pass (Dark Blue)
DESCRIPTION:League Name: MSL Winter 2025 - Friday Men's 035 Div 6\nGame Typ
 e: Regular\nGame Status: Complete\nHome Team: Desperados FC (White)\nAway
  Team: Triply by Pass (Dark Blue)\nHome Score: 4\nAway Score: 3
END:VEVENT
BEGIN:VEVENT
UID:16258064@ezleagues.ezfacility.com
DTSTAMP:20260420T114118Z
CREATED:20260420T114118Z
DTSTART:20250405T005000Z
DTEND:20250405T014500Z
LOCATION:PFFC Field House - D
CONTACT:
SUMMARY:Desperados FC (White) VS. Goals - R- Us (Green)
DESCRIPTION:League Name: MSL Winter 2025 - Friday Men's 035 Div 6\nGame Typ
 e: Regular\nGame Status: Complete\nHome Team: Desperados FC (White)\nAway
  Team: Goals - R- Us (Green)\nHome Score: 5\nAway Score: 3
END:VEVENT
BEGIN:VEVENT
UID:16258102@ezleagues.ezfacility.com
DTSTAMP:20260420T114118Z
CREATED:20260420T114118Z
DTSTART:20250412T024000Z
DTEND:20250412T033500Z
LOCATION:PFFC Dome - 3
CONTACT:
SUMMARY:Desperados FC (White) VS. BEERCELONA (Green)
DESCRIPTION:League Name: MSL Winter 2025 - Friday Men's 035 Div 6\nGame Typ
 e: Regular\nGame Status: Complete\nHome Team: Desperados FC (White)\nAway
  Team: BEERCELONA (Green)\nHome Score: 2\nAway Score: 3
END:VEVENT
BEGIN:VEVENT
UID:16258140@ezleagues.ezfacility.com
DTSTAMP:20260420T114118Z
CREATED:20260420T114118Z
DTSTART:20250425T235500Z
DTEND:20250426T005000Z
LOCATION:PFFC Field House - A
CONTACT:
SUMMARY:Desperados FC (White) VS. United (Black)
DESCRIPTION:League Name: MSL Winter 2025 - Friday Men's 035 Div 6\nGame Typ
 e: Regular\nGame Status: Complete\nHome Team: Desperados FC (White)\nAway
  Team: United (Black)\nHome Score: 5\nAway Score: 4
END:VEVENT
BEGIN:VEVENT
UID:16381605@ezleagues.ezfacility.com
DTSTAMP:20260420T114118Z
CREATED:20260420T114118Z
DTSTART:20250503T033500Z
DTEND:20250503T043000Z
LOCATION:PFFC Field House - D
CONTACT:
SUMMARY:Maadi FC (Blue) VS. Desperados FC (White)
DESCRIPTION:League Name: MSL Winter 2025 - Friday Men's 035 Div 6\nGame Typ
 e: Postseason\nGame Status: Complete\nHome Team: Maadi FC (Blue)\nAway Tea
 m: Desperados FC (White)\nHome Score: 4\nAway Score: 3
END:VEVENT
END:VCALENDAR
