BEGIN:VCALENDAR
VERSION:2.0
PRODID:-//EZFacility.com, Inc.//EZL 2.5.5.28621
BEGIN:VEVENT
UID:16226106@ezleagues.ezfacility.com
DTSTAMP:20260424T044422Z
CREATED:20260424T044422Z
DTSTART:20250211T003000Z
DTEND:20250211T011500Z
LOCATION:Indoor 1
CONTACT:
SUMMARY:Just kickin it VS. Grass Kickers
DESCRIPTION:League Name: Spring 2025 Adult Co-ed\nGame Type: Regular\nGame 
 Status: Complete\nHome Team: Just kickin it\nAway Team: Grass Kickers\nHom
 e Score: 2\nAway Score: 5
END:VEVENT
BEGIN:VEVENT
UID:16234440@ezleagues.ezfacility.com
DTSTAMP:20260424T044422Z
CREATED:20260424T044422Z
DTSTART:20250228T003000Z
DTEND:20250228T011500Z
LOCATION:Indoor 1
CONTACT:
SUMMARY:Just kickin it VS. Kick Acidosis
DESCRIPTION:League Name: Spring 2025 Adult Co-ed\nGame Type: Regular\nGame 
 Status: Complete\nHome Team: Just kickin it\nAway Team: Kick Acidosis\nHom
 e Score: 5\nAway Score: 3
END:VEVENT
BEGIN:VEVENT
UID:16237810@ezleagues.ezfacility.com
DTSTAMP:20260424T044422Z
CREATED:20260424T044422Z
DTSTART:20250307T003000Z
DTEND:20250307T011500Z
LOCATION:Indoor 1
CONTACT:
SUMMARY:Everything Hurts FC VS. Just kickin it
DESCRIPTION:League Name: Spring 2025 Adult Co-ed\nGame Type: Regular\nGame 
 Status: Complete\nHome Team: Everything Hurts FC\nAway Team: Just kickin i
 t\nHome Score: 5\nAway Score: 6
END:VEVENT
BEGIN:VEVENT
UID:16234447@ezleagues.ezfacility.com
DTSTAMP:20260424T044422Z
CREATED:20260424T044422Z
DTSTART:20250317T233000Z
DTEND:20250318T001500Z
LOCATION:Indoor 1
CONTACT:
SUMMARY:Just kickin it VS. Kick Acidosis
DESCRIPTION:League Name: Spring 2025 Adult Co-ed\nGame Type: Regular\nGame 
 Status: Complete\nHome Team: Just kickin it\nAway Team: Kick Acidosis\nHom
 e Score: 12\nAway Score: 2
END:VEVENT
BEGIN:VEVENT
UID:16234437@ezleagues.ezfacility.com
DTSTAMP:20260424T044422Z
CREATED:20260424T044422Z
DTSTART:20250320T233000Z
DTEND:20250321T001500Z
LOCATION:Indoor 1
CONTACT:
SUMMARY:Just kickin it VS. Everything Hurts FC
DESCRIPTION:League Name: Spring 2025 Adult Co-ed\nGame Type: Regular\nGame 
 Status: Complete\nHome Team: Just kickin it\nAway Team: Everything Hurts F
 C\nHome Score: 4\nAway Score: 5
END:VEVENT
BEGIN:VEVENT
UID:16234454@ezleagues.ezfacility.com
DTSTAMP:20260424T044422Z
CREATED:20260424T044422Z
DTSTART:20250324T233000Z
DTEND:20250325T001500Z
LOCATION:Indoor 1
CONTACT:
SUMMARY:Grass Kickers VS. Just kickin it
DESCRIPTION:League Name: Spring 2025 Adult Co-ed\nGame Type: Regular\nGame 
 Status: Complete\nHome Team: Grass Kickers\nAway Team: Just kickin it\nHom
 e Score: 5\nAway Score: 5
END:VEVENT
BEGIN:VEVENT
UID:16237801@ezleagues.ezfacility.com
DTSTAMP:20260424T044422Z
CREATED:20260424T044422Z
DTSTART:20250409T233000Z
DTEND:20250410T001500Z
LOCATION:Indoor 1
CONTACT:
SUMMARY:Just kickin it VS. Kick Acidosis
DESCRIPTION:League Name: Spring 2025 Adult Co-ed\nGame Type: Regular\nGame 
 Status: Complete\nHome Team: Just kickin it\nAway Team: Kick Acidosis\nHom
 e Score: 6\nAway Score: 4
END:VEVENT
BEGIN:VEVENT
UID:16237796@ezleagues.ezfacility.com
DTSTAMP:20260424T044422Z
CREATED:20260424T044422Z
DTSTART:20250410T233000Z
DTEND:20250411T001500Z
LOCATION:Indoor 1
CONTACT:
SUMMARY:Just kickin it VS. Everything Hurts FC
DESCRIPTION:League Name: Spring 2025 Adult Co-ed\nGame Type: Regular\nGame 
 Status: Complete\nHome Team: Just kickin it\nAway Team: Everything Hurts F
 C\nHome Score: 7\nAway Score: 4
END:VEVENT
BEGIN:VEVENT
UID:16381637@ezleagues.ezfacility.com
DTSTAMP:20260424T044422Z
CREATED:20260424T044422Z
DTSTART:20250416T233000Z
DTEND:20250417T001500Z
LOCATION:Indoor 1
CONTACT:
SUMMARY:Just kickin it VS. Everything Hurts FC
DESCRIPTION:League Name: Spring 2025 Adult Co-ed\nGame Type: Postseason\nGa
 me Status: Complete\nHome Team: Just kickin it\nAway Team: Everything Hurt
 s FC\nHome Score: 2\nAway Score: 3
END:VEVENT
END:VCALENDAR
