BEGIN:VCALENDAR
VERSION:2.0
PRODID:-//EZFacility.com, Inc.//EZL 2.5.5.28621
BEGIN:VEVENT
UID:16223169@ezleagues.ezfacility.com
DTSTAMP:20260422T004845Z
CREATED:20260422T004845Z
DTSTART:20250209T133000Z
DTEND:20250209T143000Z
LOCATION:Red Field
CONTACT:Soule
SUMMARY:Red Arrow Soccer Club VS. Eagles (Blue)
DESCRIPTION:League Name: 8U Coed Red YOUTH 3 2024/2025\nGame Type: Regular\
 nGame Status: Complete\nHome Team: Red Arrow Soccer Club\nAway Team: Eagle
 s (Blue)\nHome Score: 6\nAway Score: 6
END:VEVENT
BEGIN:VEVENT
UID:16223171@ezleagues.ezfacility.com
DTSTAMP:20260422T004845Z
CREATED:20260422T004845Z
DTSTART:20250215T183000Z
DTEND:20250215T193000Z
LOCATION:Red Field
CONTACT:Ntsiful
SUMMARY:Black Mambas VS. Red Arrow Soccer Club
DESCRIPTION:League Name: 8U Coed Red YOUTH 3 2024/2025\nGame Type: Regular\
 nGame Status: Complete\nHome Team: Black Mambas\nAway Team: Red Arrow Socc
 er Club\nHome Score: 6\nAway Score: 1
END:VEVENT
BEGIN:VEVENT
UID:16223175@ezleagues.ezfacility.com
DTSTAMP:20260422T004845Z
CREATED:20260422T004845Z
DTSTART:20250223T183000Z
DTEND:20250223T193000Z
LOCATION:Black Field
CONTACT:Ntsiful
SUMMARY:PSC Academy VS. Red Arrow Soccer Club
DESCRIPTION:League Name: 8U Coed Red YOUTH 3 2024/2025\nGame Type: Regular\
 nGame Status: Complete\nHome Team: PSC Academy\nAway Team: Red Arrow Socce
 r Club\nHome Score: 7\nAway Score: 2
END:VEVENT
BEGIN:VEVENT
UID:16223179@ezleagues.ezfacility.com
DTSTAMP:20260422T004845Z
CREATED:20260422T004845Z
DTSTART:20250302T123000Z
DTEND:20250302T133000Z
LOCATION:Red Field
CONTACT:Torres
SUMMARY:Red Arrow Soccer Club VS. Marshall Jaguars 2017 Green 
DESCRIPTION:League Name: 8U Coed Red YOUTH 3 2024/2025\nGame Type: Regular\
 nGame Status: Complete\nHome Team: Red Arrow Soccer Club\nAway Team: Marsh
 all Jaguars 2017 Green \nHome Score: 6\nAway Score: 4
END:VEVENT
BEGIN:VEVENT
UID:16223182@ezleagues.ezfacility.com
DTSTAMP:20260422T004845Z
CREATED:20260422T004845Z
DTSTART:20250308T183000Z
DTEND:20250308T193000Z
LOCATION:Red Field
CONTACT:Ntsiful
SUMMARY:Red Reindeer VS. Red Arrow Soccer Club
DESCRIPTION:League Name: 8U Coed Red YOUTH 3 2024/2025\nGame Type: Regular\
 nGame Status: Complete\nHome Team: Red Reindeer\nAway Team: Red Arrow Socc
 er Club\nHome Score: 7\nAway Score: 1
END:VEVENT
BEGIN:VEVENT
UID:16223184@ezleagues.ezfacility.com
DTSTAMP:20260422T004845Z
CREATED:20260422T004845Z
DTSTART:20250316T133000Z
DTEND:20250316T143000Z
LOCATION:Black Field
CONTACT:C Santos
SUMMARY:Eagles (Blue) VS. Red Arrow Soccer Club
DESCRIPTION:League Name: 8U Coed Red YOUTH 3 2024/2025\nGame Type: Regular\
 nGame Status: Complete\nHome Team: Eagles (Blue)\nAway Team: Red Arrow Soc
 cer Club\nHome Score: 2\nAway Score: 3
END:VEVENT
BEGIN:VEVENT
UID:16223186@ezleagues.ezfacility.com
DTSTAMP:20260422T004845Z
CREATED:20260422T004845Z
DTSTART:20250322T163000Z
DTEND:20250322T173000Z
LOCATION:Black Field
CONTACT:Soule
SUMMARY:Red Arrow Soccer Club VS. Black Mambas
DESCRIPTION:League Name: 8U Coed Red YOUTH 3 2024/2025\nGame Type: Regular\
 nGame Status: Complete\nHome Team: Red Arrow Soccer Club\nAway Team: Black
  Mambas\nHome Score: 3\nAway Score: 1
END:VEVENT
BEGIN:VEVENT
UID:16223190@ezleagues.ezfacility.com
DTSTAMP:20260422T004845Z
CREATED:20260422T004845Z
DTSTART:20250329T183000Z
DTEND:20250329T193000Z
LOCATION:Red Field
CONTACT:Torres
SUMMARY:Red Arrow Soccer Club VS. PSC Academy
DESCRIPTION:League Name: 8U Coed Red YOUTH 3 2024/2025\nGame Type: Regular\
 nGame Status: Complete\nHome Team: Red Arrow Soccer Club\nAway Team: PSC A
 cademy\nHome Score: 7\nAway Score: 11
END:VEVENT
END:VCALENDAR
