BEGIN:VCALENDAR
VERSION:2.0
PRODID:-//EZFacility.com, Inc.//EZL 2.5.5.28621
BEGIN:VEVENT
UID:16223367@ezleagues.ezfacility.com
DTSTAMP:20260424T043219Z
CREATED:20260424T043219Z
DTSTART:20250209T173000Z
DTEND:20250209T183000Z
LOCATION:Red Field
CONTACT:Soule
SUMMARY:Sturgis FC VS. PSC 2016 Green
DESCRIPTION:League Name: 9u Boys Red YOUTH 3 2024/2025 \nGame Type: Regular
 \nGame Status: Complete\nHome Team: Sturgis FC\nAway Team: PSC 2016 Green\
 nHome Score: 1\nAway Score: 0
END:VEVENT
BEGIN:VEVENT
UID:16223371@ezleagues.ezfacility.com
DTSTAMP:20260424T043219Z
CREATED:20260424T043219Z
DTSTART:20250216T173000Z
DTEND:20250216T183000Z
LOCATION:Red Field
CONTACT:Velten
SUMMARY:Force Destroyers 2016 Green VS. PSC 2016 Green
DESCRIPTION:League Name: 9u Boys Red YOUTH 3 2024/2025 \nGame Type: Regular
 \nGame Status: Complete\nHome Team: Force Destroyers 2016 Green\nAway Team
 : PSC 2016 Green\nHome Score: 1\nAway Score: 2
END:VEVENT
BEGIN:VEVENT
UID:16223374@ezleagues.ezfacility.com
DTSTAMP:20260424T043219Z
CREATED:20260424T043219Z
DTSTART:20250223T163000Z
DTEND:20250223T173000Z
LOCATION:Red Field
CONTACT:C Santos
SUMMARY:Force Ballhawks White VS. PSC 2016 Green
DESCRIPTION:League Name: 9u Boys Red YOUTH 3 2024/2025 \nGame Type: Regular
 \nGame Status: Complete\nHome Team: Force Ballhawks White\nAway Team: PSC 
 2016 Green\nHome Score: 5\nAway Score: 6
END:VEVENT
BEGIN:VEVENT
UID:16223377@ezleagues.ezfacility.com
DTSTAMP:20260424T043219Z
CREATED:20260424T043219Z
DTSTART:20250302T133000Z
DTEND:20250302T143000Z
LOCATION:Black Field
CONTACT:Launt
SUMMARY:Red Ninjas VS. PSC 2016 Green
DESCRIPTION:League Name: 9u Boys Red YOUTH 3 2024/2025 \nGame Type: Regular
 \nGame Status: Complete\nHome Team: Red Ninjas\nAway Team: PSC 2016 Green\
 nHome Score: 3\nAway Score: 3
END:VEVENT
BEGIN:VEVENT
UID:16223380@ezleagues.ezfacility.com
DTSTAMP:20260424T043219Z
CREATED:20260424T043219Z
DTSTART:20250308T213000Z
DTEND:20250308T223000Z
LOCATION:Black Field
CONTACT:Velten
SUMMARY:PSC 2016 Green VS. 2017 Portage United
DESCRIPTION:League Name: 9u Boys Red YOUTH 3 2024/2025 \nGame Type: Regular
 \nGame Status: Complete\nHome Team: PSC 2016 Green\nAway Team: 2017 Portag
 e United\nHome Score: 9\nAway Score: 2
END:VEVENT
BEGIN:VEVENT
UID:16223395@ezleagues.ezfacility.com
DTSTAMP:20260424T043219Z
CREATED:20260424T043219Z
DTSTART:20250316T213000Z
DTEND:20250316T223000Z
LOCATION:Kingdom Field
CONTACT:Ramos-Lopez
SUMMARY:PSC 2016 Green VS. Sturgis FC
DESCRIPTION:League Name: 9u Boys Red YOUTH 3 2024/2025 \nGame Type: Regular
 \nGame Status: Complete\nHome Team: PSC 2016 Green\nAway Team: Sturgis FC\
 nHome Score: 6\nAway Score: 0
END:VEVENT
BEGIN:VEVENT
UID:16223385@ezleagues.ezfacility.com
DTSTAMP:20260424T043219Z
CREATED:20260424T043219Z
DTSTART:20250321T220000Z
DTEND:20250321T230000Z
LOCATION:Red Field
CONTACT:Schnell
SUMMARY:PSC 2016 Green VS. Average Joes
DESCRIPTION:League Name: 9u Boys Red YOUTH 3 2024/2025 \nGame Type: Regular
 \nGame Status: Complete\nHome Team: PSC 2016 Green\nAway Team: Average Joe
 s\nHome Score: 3\nAway Score: 1
END:VEVENT
BEGIN:VEVENT
UID:16223390@ezleagues.ezfacility.com
DTSTAMP:20260424T043219Z
CREATED:20260424T043219Z
DTSTART:20250323T133000Z
DTEND:20250323T143000Z
LOCATION:Red Field
CONTACT:Stough
SUMMARY:PSC 2016 Green VS. Mellow Yellow 2016B 
DESCRIPTION:League Name: 9u Boys Red YOUTH 3 2024/2025 \nGame Type: Regular
 \nGame Status: Complete\nHome Team: PSC 2016 Green\nAway Team: Mellow Yell
 ow 2016B \nHome Score: 3\nAway Score: 5
END:VEVENT
END:VCALENDAR
