BEGIN:VCALENDAR
VERSION:2.0
PRODID:-//EZFacility.com, Inc.//EZL 2.5.5.28621
BEGIN:VEVENT
UID:16225100@ezleagues.ezfacility.com
DTSTAMP:20260422T111431Z
CREATED:20260422T111431Z
DTSTART:20250209T163000Z
DTEND:20250209T173000Z
LOCATION:Black Field
CONTACT:C Santos
SUMMARY:2017 Portage Lightning Green VS. Pink Strikers
DESCRIPTION:League Name: U9 Girls YOUTH 3 2024/2025\nGame Type: Regular\nGa
 me Status: Complete\nHome Team: 2017 Portage Lightning Green\nAway Team: P
 ink Strikers\nHome Score: 3\nAway Score: 10
END:VEVENT
BEGIN:VEVENT
UID:16225110@ezleagues.ezfacility.com
DTSTAMP:20260422T111431Z
CREATED:20260422T111431Z
DTSTART:20250222T213000Z
DTEND:20250222T223000Z
LOCATION:Black Field
CONTACT:Ntsiful
SUMMARY:Pink Strikers VS. RASC 2016
DESCRIPTION:League Name: U9 Girls YOUTH 3 2024/2025\nGame Type: Regular\nGa
 me Status: Complete\nHome Team: Pink Strikers\nAway Team: RASC 2016\nHome 
 Score: 4\nAway Score: 9
END:VEVENT
BEGIN:VEVENT
UID:16225105@ezleagues.ezfacility.com
DTSTAMP:20260422T111431Z
CREATED:20260422T111431Z
DTSTART:20250222T233000Z
DTEND:20250223T003000Z
LOCATION:Black Field
CONTACT:Ntsiful
SUMMARY:Pink Strikers VS. SFC 2016/2015
DESCRIPTION:League Name: U9 Girls YOUTH 3 2024/2025\nGame Type: Regular\nGa
 me Status: Complete\nHome Team: Pink Strikers\nAway Team: SFC 2016/2015\nH
 ome Score: 0\nAway Score: 7
END:VEVENT
BEGIN:VEVENT
UID:16225115@ezleagues.ezfacility.com
DTSTAMP:20260422T111431Z
CREATED:20260422T111431Z
DTSTART:20250301T173000Z
DTEND:20250301T183000Z
LOCATION:Black Field
CONTACT:Ramos-Lopez
SUMMARY:Pink Strikers VS. Fearless Force Girls U10
DESCRIPTION:League Name: U9 Girls YOUTH 3 2024/2025\nGame Type: Regular\nGa
 me Status: Complete\nHome Team: Pink Strikers\nAway Team: Fearless Force G
 irls U10\nHome Score: 4\nAway Score: 8
END:VEVENT
BEGIN:VEVENT
UID:16225119@ezleagues.ezfacility.com
DTSTAMP:20260422T111431Z
CREATED:20260422T111431Z
DTSTART:20250309T233000Z
DTEND:20250310T003000Z
LOCATION:Black Field
CONTACT:Ntsiful
SUMMARY:RASC 2015 Girls Red VS. Pink Strikers
DESCRIPTION:League Name: U9 Girls YOUTH 3 2024/2025\nGame Type: Regular\nGa
 me Status: Complete\nHome Team: RASC 2015 Girls Red\nAway Team: Pink Strik
 ers\nHome Score: 6\nAway Score: 2
END:VEVENT
BEGIN:VEVENT
UID:16225128@ezleagues.ezfacility.com
DTSTAMP:20260422T111431Z
CREATED:20260422T111431Z
DTSTART:20250315T223000Z
DTEND:20250315T233000Z
LOCATION:Red Field
CONTACT:O Leslie
SUMMARY:Pink Strikers VS. 2017 Portage Lightning Green
DESCRIPTION:League Name: U9 Girls YOUTH 3 2024/2025\nGame Type: Regular\nGa
 me Status: Complete\nHome Team: Pink Strikers\nAway Team: 2017 Portage Lig
 htning Green\nHome Score: 3\nAway Score: 3
END:VEVENT
BEGIN:VEVENT
UID:16225122@ezleagues.ezfacility.com
DTSTAMP:20260422T111431Z
CREATED:20260422T111431Z
DTSTART:20250316T133000Z
DTEND:20250316T143000Z
LOCATION:Red Field
CONTACT:Ntsiful
SUMMARY:Snowy Owls VS. Pink Strikers
DESCRIPTION:League Name: U9 Girls YOUTH 3 2024/2025\nGame Type: Regular\nGa
 me Status: Complete\nHome Team: Snowy Owls\nAway Team: Pink Strikers\nHome
  Score: 4\nAway Score: 11
END:VEVENT
BEGIN:VEVENT
UID:16225125@ezleagues.ezfacility.com
DTSTAMP:20260422T111431Z
CREATED:20260422T111431Z
DTSTART:20250323T223000Z
DTEND:20250323T233000Z
LOCATION:Red Field
CONTACT:Torres
SUMMARY:PSC 2015G Yellow VS. Pink Strikers
DESCRIPTION:League Name: U9 Girls YOUTH 3 2024/2025\nGame Type: Regular\nGa
 me Status: Complete\nHome Team: PSC 2015G Yellow\nAway Team: Pink Strikers
 \nHome Score: 4\nAway Score: 3
END:VEVENT
END:VCALENDAR
