BEGIN:VCALENDAR
VERSION:2.0
PRODID:-//EZFacility.com, Inc.//EZL 2.5.5.28621
BEGIN:VEVENT
UID:16227578@ezleagues.ezfacility.com
DTSTAMP:20260425T144102Z
CREATED:20260425T144102Z
DTSTART:20250215T015500Z
DTEND:20250215T025000Z
LOCATION:Field 1
CONTACT:Pedemonte
SUMMARY:Sporting Boys VS. Toro City 
DESCRIPTION:League Name: Friday, February 14, 2025 Men's Over - 40\nGame Ty
 pe: Regular\nGame Status: Complete\nHome Team: Sporting Boys\nAway Team: T
 oro City \nHome Score: 9\nAway Score: 7
END:VEVENT
BEGIN:VEVENT
UID:16236921@ezleagues.ezfacility.com
DTSTAMP:20260425T144102Z
CREATED:20260425T144102Z
DTSTART:20250301T025000Z
DTEND:20250301T034500Z
LOCATION:VA Army National Guard Field 2
CONTACT:Pedemonte
SUMMARY:Toro City  VS. Invincbles
DESCRIPTION:League Name: Friday, February 14, 2025 Men's Over - 40\nGame Ty
 pe: Regular\nGame Status: Complete\nHome Team: Toro City \nAway Team: Invi
 ncbles\nHome Score: 4\nAway Score: 10
END:VEVENT
BEGIN:VEVENT
UID:16236934@ezleagues.ezfacility.com
DTSTAMP:20260425T144102Z
CREATED:20260425T144102Z
DTSTART:20250308T015000Z
DTEND:20250308T024500Z
LOCATION:VA Army National Guard Field 2
CONTACT:Pinault
SUMMARY:Toro City  VS. Going for the goal
DESCRIPTION:League Name: Friday, February 14, 2025 Men's Over - 40\nGame Ty
 pe: Regular\nGame Status: Complete\nHome Team: Toro City \nAway Team: Goin
 g for the goal\nHome Score: 8\nAway Score: 6
END:VEVENT
BEGIN:VEVENT
UID:16236943@ezleagues.ezfacility.com
DTSTAMP:20260425T144102Z
CREATED:20260425T144102Z
DTSTART:20250314T230000Z
DTEND:20250314T235500Z
LOCATION:VA Army National Guard Field 2
CONTACT:Pinault
SUMMARY:Tiki Taka VS. Toro City 
DESCRIPTION:League Name: Friday, February 14, 2025 Men's Over - 40\nGame Ty
 pe: Regular\nGame Status: Complete\nHome Team: Tiki Taka\nAway Team: Toro 
 City \nHome Score: 9\nAway Score: 7
END:VEVENT
BEGIN:VEVENT
UID:16236954@ezleagues.ezfacility.com
DTSTAMP:20260425T144102Z
CREATED:20260425T144102Z
DTSTART:20250404T235500Z
DTEND:20250405T005000Z
LOCATION:VA Army National Guard Field 2
CONTACT:Alafandi
SUMMARY:Sporting Boys VS. Toro City 
DESCRIPTION:League Name: Friday, February 14, 2025 Men's Over - 40\nGame Ty
 pe: Regular\nGame Status: Complete\nHome Team: Sporting Boys\nAway Team: T
 oro City \nHome Score: 8\nAway Score: 3
END:VEVENT
BEGIN:VEVENT
UID:16236913@ezleagues.ezfacility.com
DTSTAMP:20260425T144102Z
CREATED:20260425T144102Z
DTSTART:20250405T014500Z
DTEND:20250405T024000Z
LOCATION:VA Army National Guard Field 2
CONTACT:Alafandi
SUMMARY:Caspian VS. Toro City 
DESCRIPTION:League Name: Friday, February 14, 2025 Men's Over - 40\nGame Ty
 pe: Regular\nGame Status: Complete\nHome Team: Caspian\nAway Team: Toro Ci
 ty \nHome Score: 9\nAway Score: 4
END:VEVENT
BEGIN:VEVENT
UID:16236958@ezleagues.ezfacility.com
DTSTAMP:20260425T144102Z
CREATED:20260425T144102Z
DTSTART:20250418T235500Z
DTEND:20250419T005000Z
LOCATION:VA Army National Guard Field 2
CONTACT:
SUMMARY:Toro City  VS. Caspian
DESCRIPTION:League Name: Friday, February 14, 2025 Men's Over - 40\nGame Ty
 pe: Postseason\nGame Status: Complete\nHome Team: Toro City \nAway Team: C
 aspian\nHome Score: 3\nAway Score: 7
END:VEVENT
END:VCALENDAR
