BEGIN:VCALENDAR
VERSION:2.0
PRODID:-//EZFacility.com, Inc.//EZL 2.5.5.28621
BEGIN:VEVENT
UID:16229972@ezleagues.ezfacility.com
DTSTAMP:20260424T044417Z
CREATED:20260424T044417Z
DTSTART:20250215T230000Z
DTEND:20250216T000000Z
LOCATION:Black
CONTACT:
SUMMARY:The Nights VS. Blue Lightning
DESCRIPTION:League Name: Boys High School Soccer S3\nGame Type: Regular\nGa
 me Status: Complete\nHome Team: The Nights\nAway Team: Blue Lightning\nHom
 e Score: 8\nAway Score: 0
END:VEVENT
BEGIN:VEVENT
UID:16229975@ezleagues.ezfacility.com
DTSTAMP:20260424T044417Z
CREATED:20260424T044417Z
DTSTART:20250222T230000Z
DTEND:20250223T000000Z
LOCATION:Maroon
CONTACT:
SUMMARY:The Nights VS. Coventry
DESCRIPTION:League Name: Boys High School Soccer S3\nGame Type: Regular\nGa
 me Status: Complete\nHome Team: The Nights\nAway Team: Coventry\nHome Scor
 e: 4\nAway Score: 7
END:VEVENT
BEGIN:VEVENT
UID:16229982@ezleagues.ezfacility.com
DTSTAMP:20260424T044417Z
CREATED:20260424T044417Z
DTSTART:20250301T230000Z
DTEND:20250302T000000Z
LOCATION:Maroon
CONTACT:
SUMMARY:Davy Jones”Locker VS. The Nights
DESCRIPTION:League Name: Boys High School Soccer S3\nGame Type: Regular\nGa
 me Status: Complete\nHome Team: Davy Jones”Locker\nAway Team: The Nights
 \nHome Score: 6\nAway Score: 7
END:VEVENT
BEGIN:VEVENT
UID:16229990@ezleagues.ezfacility.com
DTSTAMP:20260424T044417Z
CREATED:20260424T044417Z
DTSTART:20250308T230000Z
DTEND:20250309T000000Z
LOCATION:Black
CONTACT:
SUMMARY:Rockville VS. The Nights
DESCRIPTION:League Name: Boys High School Soccer S3\nGame Type: Regular\nGa
 me Status: Complete\nHome Team: Rockville\nAway Team: The Nights\nHome Sco
 re: 11\nAway Score: 8
END:VEVENT
BEGIN:VEVENT
UID:16229992@ezleagues.ezfacility.com
DTSTAMP:20260424T044417Z
CREATED:20260424T044417Z
DTSTART:20250315T210000Z
DTEND:20250315T220000Z
LOCATION:Black
CONTACT:
SUMMARY:Eagles VS. The Nights
DESCRIPTION:League Name: Boys High School Soccer S3\nGame Type: Regular\nGa
 me Status: Complete\nHome Team: Eagles\nAway Team: The Nights\nHome Score:
  7\nAway Score: 5
END:VEVENT
BEGIN:VEVENT
UID:16230010@ezleagues.ezfacility.com
DTSTAMP:20260424T044417Z
CREATED:20260424T044417Z
DTSTART:20250322T210000Z
DTEND:20250322T220000Z
LOCATION:Maroon
CONTACT:
SUMMARY:The Nights VS. Panthers
DESCRIPTION:League Name: Boys High School Soccer S3\nGame Type: Regular\nGa
 me Status: Complete\nHome Team: The Nights\nAway Team: Panthers\nHome Scor
 e: 5\nAway Score: 1
END:VEVENT
BEGIN:VEVENT
UID:16230020@ezleagues.ezfacility.com
DTSTAMP:20260424T044417Z
CREATED:20260424T044417Z
DTSTART:20250329T220000Z
DTEND:20250329T230000Z
LOCATION:Maroon
CONTACT:
SUMMARY:The Nights VS. Blue Lightning
DESCRIPTION:League Name: Boys High School Soccer S3\nGame Type: Regular\nGa
 me Status: Complete\nHome Team: The Nights\nAway Team: Blue Lightning\nHom
 e Score: 10\nAway Score: 5
END:VEVENT
BEGIN:VEVENT
UID:16230012@ezleagues.ezfacility.com
DTSTAMP:20260424T044417Z
CREATED:20260424T044417Z
DTSTART:20250405T210000Z
DTEND:20250405T220000Z
LOCATION:Black
CONTACT:
SUMMARY:ThunderDucks VS. The Nights
DESCRIPTION:League Name: Boys High School Soccer S3\nGame Type: Regular\nGa
 me Status: Complete\nHome Team: ThunderDucks\nAway Team: The Nights\nHome 
 Score: 3\nAway Score: 5
END:VEVENT
END:VCALENDAR
