BEGIN:VCALENDAR
VERSION:2.0
PRODID:-//EZFacility.com, Inc.//EZL 2.5.5.28621
BEGIN:VEVENT
UID:16228881@ezleagues.ezfacility.com
DTSTAMP:20260426T034834Z
CREATED:20260426T034834Z
DTSTART:20250216T180000Z
DTEND:20250216T190000Z
LOCATION:Basketball Court South
CONTACT:
SUMMARY:ASAPWORLD VS. Spartans
DESCRIPTION:League Name: Men's Basketball League\nGame Type: Regular\nGame 
 Status: Complete\nHome Team: ASAPWORLD\nAway Team: Spartans\nHome Score: 6
 3\nAway Score: 59
END:VEVENT
BEGIN:VEVENT
UID:16228830@ezleagues.ezfacility.com
DTSTAMP:20260426T034834Z
CREATED:20260426T034834Z
DTSTART:20250223T180000Z
DTEND:20250223T190000Z
LOCATION:Basketball Court South
CONTACT:
SUMMARY:ASAPWORLD VS. Red Raiders
DESCRIPTION:League Name: Men's Basketball League\nGame Type: Regular\nGame 
 Status: Complete\nHome Team: ASAPWORLD\nAway Team: Red Raiders\nHome Score
 : 43\nAway Score: 83
END:VEVENT
BEGIN:VEVENT
UID:16228835@ezleagues.ezfacility.com
DTSTAMP:20260426T034834Z
CREATED:20260426T034834Z
DTSTART:20250302T140000Z
DTEND:20250302T150000Z
LOCATION:Basketball Court South
CONTACT:
SUMMARY:Wilke Enguinity VS. ASAPWORLD
DESCRIPTION:League Name: Men's Basketball League\nGame Type: Regular\nGame 
 Status: Complete\nHome Team: Wilke Enguinity\nAway Team: ASAPWORLD\nHome S
 core: 83\nAway Score: 30
END:VEVENT
BEGIN:VEVENT
UID:16228840@ezleagues.ezfacility.com
DTSTAMP:20260426T034834Z
CREATED:20260426T034834Z
DTSTART:20250309T160000Z
DTEND:20250309T170000Z
LOCATION:Basketball Court South
CONTACT:
SUMMARY:ASAPWORLD VS. Born 2 Shine
DESCRIPTION:League Name: Men's Basketball League\nGame Type: Regular\nGame 
 Status: Complete\nHome Team: ASAPWORLD\nAway Team: Born 2 Shine\nHome Scor
 e: 51\nAway Score: 62
END:VEVENT
BEGIN:VEVENT
UID:16228845@ezleagues.ezfacility.com
DTSTAMP:20260426T034834Z
CREATED:20260426T034834Z
DTSTART:20250316T150000Z
DTEND:20250316T160000Z
LOCATION:Basketball Court South
CONTACT:
SUMMARY:Gettysburg Finest VS. ASAPWORLD
DESCRIPTION:League Name: Men's Basketball League\nGame Type: Regular\nGame 
 Status: Complete\nHome Team: Gettysburg Finest\nAway Team: ASAPWORLD\nHome
  Score: 76\nAway Score: 48
END:VEVENT
BEGIN:VEVENT
UID:16228850@ezleagues.ezfacility.com
DTSTAMP:20260426T034834Z
CREATED:20260426T034834Z
DTSTART:20250323T140000Z
DTEND:20250323T150000Z
LOCATION:Basketball Court South
CONTACT:
SUMMARY:ASAPWORLD VS. Sykesville Bulldawgs 
DESCRIPTION:League Name: Men's Basketball League\nGame Type: Regular\nGame 
 Status: Complete\nHome Team: ASAPWORLD\nAway Team: Sykesville Bulldawgs \n
 Home Score: 60\nAway Score: 82
END:VEVENT
BEGIN:VEVENT
UID:16228855@ezleagues.ezfacility.com
DTSTAMP:20260426T034834Z
CREATED:20260426T034834Z
DTSTART:20250330T170000Z
DTEND:20250330T180000Z
LOCATION:Basketball Court South
CONTACT:
SUMMARY:ASAPWORLD VS. Famous B.O.A
DESCRIPTION:League Name: Men's Basketball League\nGame Type: Regular\nGame 
 Status: Complete\nHome Team: ASAPWORLD\nAway Team: Famous B.O.A\nHome Scor
 e: 63\nAway Score: 60
END:VEVENT
BEGIN:VEVENT
UID:16228862@ezleagues.ezfacility.com
DTSTAMP:20260426T034834Z
CREATED:20260426T034834Z
DTSTART:20250406T130000Z
DTEND:20250406T140000Z
LOCATION:Basketball Court South
CONTACT:
SUMMARY:Bring It Garage VS. ASAPWORLD
DESCRIPTION:League Name: Men's Basketball League\nGame Type: Regular\nGame 
 Status: Pending\nHome Team: Bring It Garage\nAway Team: ASAPWORLD\n
END:VEVENT
BEGIN:VEVENT
UID:16228869@ezleagues.ezfacility.com
DTSTAMP:20260426T034834Z
CREATED:20260426T034834Z
DTSTART:20250413T180000Z
DTEND:20250413T190000Z
LOCATION:Basketball Court South
CONTACT:
SUMMARY:ASAPWORLD VS. DaMizFitz
DESCRIPTION:League Name: Men's Basketball League\nGame Type: Regular\nGame 
 Status: Complete\nHome Team: ASAPWORLD\nAway Team: DaMizFitz\nHome Score: 
 83\nAway Score: 94
END:VEVENT
BEGIN:VEVENT
UID:16228876@ezleagues.ezfacility.com
DTSTAMP:20260426T034834Z
CREATED:20260426T034834Z
DTSTART:20250427T180000Z
DTEND:20250427T190000Z
LOCATION:Basketball Court South
CONTACT:
SUMMARY:Underdogs VS. ASAPWORLD
DESCRIPTION:League Name: Men's Basketball League\nGame Type: Regular\nGame 
 Status: Complete\nHome Team: Underdogs\nAway Team: ASAPWORLD\nHome Score: 
 103\nAway Score: 55
END:VEVENT
END:VCALENDAR
