BEGIN:VCALENDAR
VERSION:2.0
PRODID:-//EZFacility.com, Inc.//EZL 2.5.5.28621
BEGIN:VEVENT
UID:16232000@ezleagues.ezfacility.com
DTSTAMP:20260424T044416Z
CREATED:20260424T044416Z
DTSTART:20250216T233500Z
DTEND:20250217T001000Z
LOCATION:Field 1
CONTACT:
SUMMARY:UNITED BARBER FC VS. #7/#10
DESCRIPTION:League Name: LATINO LEAGUE PLAYOFFFS 2ND SESSION WINTER 2025\nG
 ame Type: Postseason\nGame Status: Pending\nHome Team: UNITED BARBER FC\nA
 way Team: #7/#10\n
END:VEVENT
END:VCALENDAR
