BEGIN:VCALENDAR
VERSION:2.0
PRODID:-//EZFacility.com, Inc.//EZL 2.5.5.28621
BEGIN:VEVENT
UID:16247225@ezleagues.ezfacility.com
DTSTAMP:20260426T035131Z
CREATED:20260426T035131Z
DTSTART:20250226T011500Z
DTEND:20250226T021500Z
LOCATION:Basketball Court #2
CONTACT:Esparza\, Dragon\, Josh
SUMMARY:Double Dribble - 4th VS. SA Kings
DESCRIPTION:League Name: SAT - Spring 5v5 Basketball League\nGame Type: Reg
 ular\nGame Status: Complete\nHome Team: Double Dribble - 4th\nAway Team: S
 A Kings\nHome Score: 72\nAway Score: 29
END:VEVENT
BEGIN:VEVENT
UID:16247229@ezleagues.ezfacility.com
DTSTAMP:20260426T035131Z
CREATED:20260426T035131Z
DTSTART:20250305T001500Z
DTEND:20250305T011500Z
LOCATION:Basketball Court #1
CONTACT:Martinez\, Prince\, Josh
SUMMARY:The Monstars VS. SA Kings
DESCRIPTION:League Name: SAT - Spring 5v5 Basketball League\nGame Type: Reg
 ular\nGame Status: Complete\nHome Team: The Monstars\nAway Team: SA Kings\
 nHome Score: 2\nAway Score: 0
END:VEVENT
BEGIN:VEVENT
UID:16247233@ezleagues.ezfacility.com
DTSTAMP:20260426T035131Z
CREATED:20260426T035131Z
DTSTART:20250311T231500Z
DTEND:20250312T001500Z
LOCATION:Basketball Court #1
CONTACT:Martinez\, Prince\, Josh
SUMMARY:Night Shift VS. SA Kings
DESCRIPTION:League Name: SAT - Spring 5v5 Basketball League\nGame Type: Reg
 ular\nGame Status: Complete\nHome Team: Night Shift\nAway Team: SA Kings\n
 Home Score: 2\nAway Score: 0
END:VEVENT
BEGIN:VEVENT
UID:16247237@ezleagues.ezfacility.com
DTSTAMP:20260426T035131Z
CREATED:20260426T035131Z
DTSTART:20250318T231500Z
DTEND:20250319T001500Z
LOCATION:Basketball Court #2
CONTACT:Alaniz\, Dragon\, Josh
SUMMARY:The Tribe - 3rd VS. SA Kings
DESCRIPTION:League Name: SAT - Spring 5v5 Basketball League\nGame Type: Reg
 ular\nGame Status: Complete\nHome Team: The Tribe - 3rd\nAway Team: SA Kin
 gs\nHome Score: 65\nAway Score: 34
END:VEVENT
BEGIN:VEVENT
UID:16247241@ezleagues.ezfacility.com
DTSTAMP:20260426T035131Z
CREATED:20260426T035131Z
DTSTART:20250326T010500Z
DTEND:20250326T020500Z
LOCATION:Basketball Court #1
CONTACT:Martinez\, Prince\, Cammie
SUMMARY:SA Kings VS. 210 Ballers - 1st
DESCRIPTION:League Name: SAT - Spring 5v5 Basketball League\nGame Type: Reg
 ular\nGame Status: Complete\nHome Team: SA Kings\nAway Team: 210 Ballers -
  1st\nHome Score: 37\nAway Score: 81
END:VEVENT
BEGIN:VEVENT
UID:16247247@ezleagues.ezfacility.com
DTSTAMP:20260426T035131Z
CREATED:20260426T035131Z
DTSTART:20250402T001000Z
DTEND:20250402T011000Z
LOCATION:Basketball Court #1
CONTACT:Martinez\, Prince\, Josh
SUMMARY:SA Kings VS. Strength  Honor
DESCRIPTION:League Name: SAT - Spring 5v5 Basketball League\nGame Type: Reg
 ular\nGame Status: Complete\nHome Team: SA Kings\nAway Team: Strength  Hon
 or\nHome Score: 38\nAway Score: 52
END:VEVENT
BEGIN:VEVENT
UID:16247253@ezleagues.ezfacility.com
DTSTAMP:20260426T035131Z
CREATED:20260426T035131Z
DTSTART:20250409T001000Z
DTEND:20250409T011000Z
LOCATION:Basketball Court #2
CONTACT:Esparza\, Josh
SUMMARY:SA Kings VS. Hoop There It Is
DESCRIPTION:League Name: SAT - Spring 5v5 Basketball League\nGame Type: Reg
 ular\nGame Status: Complete\nHome Team: SA Kings\nAway Team: Hoop There It
  Is\nHome Score: 41\nAway Score: 57
END:VEVENT
BEGIN:VEVENT
UID:16247259@ezleagues.ezfacility.com
DTSTAMP:20260426T035131Z
CREATED:20260426T035131Z
DTSTART:20250415T231500Z
DTEND:20250416T001500Z
LOCATION:Basketball Court #1
CONTACT:Martinez\, Prince\, Cammie
SUMMARY:SA Kings VS. Slim Reapers
DESCRIPTION:League Name: SAT - Spring 5v5 Basketball League\nGame Type: Reg
 ular\nGame Status: Complete\nHome Team: SA Kings\nAway Team: Slim Reapers\
 nHome Score: 35\nAway Score: 40
END:VEVENT
BEGIN:VEVENT
UID:16247265@ezleagues.ezfacility.com
DTSTAMP:20260426T035131Z
CREATED:20260426T035131Z
DTSTART:20250422T231500Z
DTEND:20250423T001500Z
LOCATION:Basketball Court #1
CONTACT:Cammie\, Martinez\, Prince
SUMMARY:SA Kings VS. Longhorns - 2nd
DESCRIPTION:League Name: SAT - Spring 5v5 Basketball League\nGame Type: Reg
 ular\nGame Status: Complete\nHome Team: SA Kings\nAway Team: Longhorns - 2
 nd\nHome Score: 0\nAway Score: 2
END:VEVENT
END:VCALENDAR
