BEGIN:VCALENDAR
VERSION:2.0
PRODID:-//EZFacility.com, Inc.//EZL 2.5.5.28621
BEGIN:VEVENT
UID:16234539@ezleagues.ezfacility.com
DTSTAMP:20260424T044129Z
CREATED:20260424T044129Z
DTSTART:20250214T231500Z
DTEND:20250215T001500Z
LOCATION:Kotler Ice Arena
CONTACT:
SUMMARY:Boise/SV 12U VS. ID/WY 12U
DESCRIPTION:League Name: Teton Valley Girls Jamboree\nGame Type: Regular\nG
 ame Status: Pending\nHome Team: Boise/SV 12U\nAway Team: ID/WY 12U\n
END:VEVENT
BEGIN:VEVENT
UID:16234547@ezleagues.ezfacility.com
DTSTAMP:20260424T044129Z
CREATED:20260424T044129Z
DTSTART:20250215T220000Z
DTEND:20250215T230000Z
LOCATION:Kotler Ice Arena
CONTACT:
SUMMARY:NV/Teton 12U VS. Boise/SV 12U
DESCRIPTION:League Name: Teton Valley Girls Jamboree\nGame Type: Regular\nG
 ame Status: Pending\nHome Team: NV/Teton 12U\nAway Team: Boise/SV 12U\n
END:VEVENT
BEGIN:VEVENT
UID:16234551@ezleagues.ezfacility.com
DTSTAMP:20260424T044129Z
CREATED:20260424T044129Z
DTSTART:20250216T020000Z
DTEND:20250216T030000Z
LOCATION:Kotler Ice Arena
CONTACT:
SUMMARY:Boise/SV 12U VS. ID/WY 12U
DESCRIPTION:League Name: Teton Valley Girls Jamboree\nGame Type: Regular\nG
 ame Status: Pending\nHome Team: Boise/SV 12U\nAway Team: ID/WY 12U\n
END:VEVENT
BEGIN:VEVENT
UID:16234553@ezleagues.ezfacility.com
DTSTAMP:20260424T044129Z
CREATED:20260424T044129Z
DTSTART:20250216T140000Z
DTEND:20250216T150000Z
LOCATION:Kotler Ice Arena
CONTACT:
SUMMARY:NV/Teton 12U VS. Boise/SV 12U
DESCRIPTION:League Name: Teton Valley Girls Jamboree\nGame Type: Regular\nG
 ame Status: Pending\nHome Team: NV/Teton 12U\nAway Team: Boise/SV 12U\n
END:VEVENT
END:VCALENDAR
