BEGIN:VCALENDAR
VERSION:2.0
PRODID:-//EZFacility.com, Inc.//EZL 2.5.5.28621
BEGIN:VEVENT
UID:16235252@ezleagues.ezfacility.com
DTSTAMP:20260426T035137Z
CREATED:20260426T035137Z
DTSTART:20250225T014000Z
DTEND:20250225T023000Z
LOCATION:Indoor Field
CONTACT:
SUMMARY:ETU Martinez VS. Supra United
DESCRIPTION:League Name: 2014/2015 Premier 2025\nGame Type: Regular\nGame S
 tatus: Complete\nHome Team: ETU Martinez\nAway Team: Supra United\nHome Sc
 ore: 3\nAway Score: 8
END:VEVENT
BEGIN:VEVENT
UID:16235258@ezleagues.ezfacility.com
DTSTAMP:20260426T035137Z
CREATED:20260426T035137Z
DTSTART:20250305T000000Z
DTEND:20250305T005000Z
LOCATION:Outdoor Field
CONTACT:
SUMMARY:Supra United VS. East Texas Matadors-Black
DESCRIPTION:League Name: 2014/2015 Premier 2025\nGame Type: Regular\nGame S
 tatus: Complete\nHome Team: Supra United\nAway Team: East Texas Matadors-B
 lack\nHome Score: 12\nAway Score: 2
END:VEVENT
BEGIN:VEVENT
UID:16235264@ezleagues.ezfacility.com
DTSTAMP:20260426T035137Z
CREATED:20260426T035137Z
DTSTART:20250311T230000Z
DTEND:20250311T235000Z
LOCATION:Outdoor Field
CONTACT:
SUMMARY:Elite Premier FC 15/16 VS. Supra United
DESCRIPTION:League Name: 2014/2015 Premier 2025\nGame Type: Regular\nGame S
 tatus: Complete\nHome Team: Elite Premier FC 15/16\nAway Team: Supra Unite
 d\nHome Score: 3\nAway Score: 19
END:VEVENT
BEGIN:VEVENT
UID:16235270@ezleagues.ezfacility.com
DTSTAMP:20260426T035137Z
CREATED:20260426T035137Z
DTSTART:20250318T230000Z
DTEND:20250318T235000Z
LOCATION:Indoor Field
CONTACT:
SUMMARY:Marshall FC VS. Supra United
DESCRIPTION:League Name: 2014/2015 Premier 2025\nGame Type: Regular\nGame S
 tatus: Complete\nHome Team: Marshall FC\nAway Team: Supra United\nHome Sco
 re: 5\nAway Score: 7
END:VEVENT
BEGIN:VEVENT
UID:16235276@ezleagues.ezfacility.com
DTSTAMP:20260426T035137Z
CREATED:20260426T035137Z
DTSTART:20250325T235000Z
DTEND:20250326T004000Z
LOCATION:Indoor Field
CONTACT:
SUMMARY:Supra United VS. Aguilas FC
DESCRIPTION:League Name: 2014/2015 Premier 2025\nGame Type: Regular\nGame S
 tatus: Complete\nHome Team: Supra United\nAway Team: Aguilas FC\nHome Scor
 e: 9\nAway Score: 7
END:VEVENT
BEGIN:VEVENT
UID:16235284@ezleagues.ezfacility.com
DTSTAMP:20260426T035137Z
CREATED:20260426T035137Z
DTSTART:20250401T004000Z
DTEND:20250401T013000Z
LOCATION:Indoor Field
CONTACT:
SUMMARY:Supra United VS. Outlaws 
DESCRIPTION:League Name: 2014/2015 Premier 2025\nGame Type: Regular\nGame S
 tatus: Complete\nHome Team: Supra United\nAway Team: Outlaws \nHome Score:
  9\nAway Score: 8
END:VEVENT
BEGIN:VEVENT
UID:16235246@ezleagues.ezfacility.com
DTSTAMP:20260426T035137Z
CREATED:20260426T035137Z
DTSTART:20250407T230000Z
DTEND:20250407T235000Z
LOCATION:Indoor Field
CONTACT:
SUMMARY:Napoli VS. Supra United
DESCRIPTION:League Name: 2014/2015 Premier 2025\nGame Type: Regular\nGame S
 tatus: Complete\nHome Team: Napoli\nAway Team: Supra United\nHome Score: 8
 \nAway Score: 4
END:VEVENT
BEGIN:VEVENT
UID:16345031@ezleagues.ezfacility.com
DTSTAMP:20260426T035137Z
CREATED:20260426T035137Z
DTSTART:20250414T235000Z
DTEND:20250415T004000Z
LOCATION:Indoor Field
CONTACT:
SUMMARY:Supra United VS. FCD14-Butler 
DESCRIPTION:League Name: 2014/2015 Premier 2025\nGame Type: Regular\nGame S
 tatus: Pending\nHome Team: Supra United\nAway Team: FCD14-Butler \n
END:VEVENT
BEGIN:VEVENT
UID:16345034@ezleagues.ezfacility.com
DTSTAMP:20260426T035137Z
CREATED:20260426T035137Z
DTSTART:20250421T233000Z
DTEND:20250422T002000Z
LOCATION:Indoor Field
CONTACT:
SUMMARY:Supra United VS. Napoli
DESCRIPTION:League Name: 2014/2015 Premier 2025\nGame Type: Postseason\nGam
 e Status: Pending\nHome Team: Supra United\nAway Team: Napoli\n
END:VEVENT
END:VCALENDAR
