BEGIN:VCALENDAR
VERSION:2.0
PRODID:-//EZFacility.com, Inc.//EZL 2.5.5.28621
BEGIN:VEVENT
UID:16236107@ezleagues.ezfacility.com
DTSTAMP:20260423T234628Z
CREATED:20260423T234628Z
DTSTART:20250212T014000Z
DTEND:20250212T023000Z
LOCATION:Blue Rink
CONTACT:
SUMMARY:Pelicans VS. Beavers
DESCRIPTION:League Name: Bronze Inline Hockey - Feb 11, 2025\nGame Type: Re
 gular\nGame Status: Complete\nHome Team: Pelicans\nAway Team: Beavers\nHom
 e Score: 2\nAway Score: 10
END:VEVENT
BEGIN:VEVENT
UID:16236112@ezleagues.ezfacility.com
DTSTAMP:20260423T234628Z
CREATED:20260423T234628Z
DTSTART:20250219T032000Z
DTEND:20250219T041000Z
LOCATION:Blue Rink
CONTACT:
SUMMARY:Vipers VS. Beavers
DESCRIPTION:League Name: Bronze Inline Hockey - Feb 11, 2025\nGame Type: Re
 gular\nGame Status: Complete\nHome Team: Vipers\nAway Team: Beavers\nHome 
 Score: 3\nAway Score: 5
END:VEVENT
BEGIN:VEVENT
UID:16236116@ezleagues.ezfacility.com
DTSTAMP:20260423T234628Z
CREATED:20260423T234628Z
DTSTART:20250228T000000Z
DTEND:20250228T005000Z
LOCATION:Blue Rink
CONTACT:
SUMMARY:Beavers VS. Bounty Hunters
DESCRIPTION:League Name: Bronze Inline Hockey - Feb 11, 2025\nGame Type: Re
 gular\nGame Status: Complete\nHome Team: Beavers\nAway Team: Bounty Hunter
 s\nHome Score: 6\nAway Score: 5
END:VEVENT
BEGIN:VEVENT
UID:16236119@ezleagues.ezfacility.com
DTSTAMP:20260423T234628Z
CREATED:20260423T234628Z
DTSTART:20250307T023000Z
DTEND:20250307T032000Z
LOCATION:Blue Rink
CONTACT:
SUMMARY:Old As Puck VS. Beavers
DESCRIPTION:League Name: Bronze Inline Hockey - Feb 11, 2025\nGame Type: Re
 gular\nGame Status: Complete\nHome Team: Old As Puck\nAway Team: Beavers\n
 Home Score: 7\nAway Score: 4
END:VEVENT
BEGIN:VEVENT
UID:16236122@ezleagues.ezfacility.com
DTSTAMP:20260423T234628Z
CREATED:20260423T234628Z
DTSTART:20250311T230000Z
DTEND:20250311T235000Z
LOCATION:Berks Urology Rink (Gray)
CONTACT:
SUMMARY:Six One Vapor VS. Beavers
DESCRIPTION:League Name: Bronze Inline Hockey - Feb 11, 2025\nGame Type: Re
 gular\nGame Status: Complete\nHome Team: Six One Vapor\nAway Team: Beavers
 \nHome Score: 1\nAway Score: 9
END:VEVENT
BEGIN:VEVENT
UID:16236130@ezleagues.ezfacility.com
DTSTAMP:20260423T234628Z
CREATED:20260423T234628Z
DTSTART:20250325T230000Z
DTEND:20250325T235000Z
LOCATION:Berks Urology Rink (Gray)
CONTACT:
SUMMARY:Beavers VS. Sigmas
DESCRIPTION:League Name: Bronze Inline Hockey - Feb 11, 2025\nGame Type: Re
 gular\nGame Status: Complete\nHome Team: Beavers\nAway Team: Sigmas\nHome 
 Score: 12\nAway Score: 4
END:VEVENT
BEGIN:VEVENT
UID:16236135@ezleagues.ezfacility.com
DTSTAMP:20260423T234628Z
CREATED:20260423T234628Z
DTSTART:20250401T235000Z
DTEND:20250402T004000Z
LOCATION:Blue Rink
CONTACT:
SUMMARY:Beavers VS. Pelicans
DESCRIPTION:League Name: Bronze Inline Hockey - Feb 11, 2025\nGame Type: Re
 gular\nGame Status: Complete\nHome Team: Beavers\nAway Team: Pelicans\nHom
 e Score: 9\nAway Score: 2
END:VEVENT
BEGIN:VEVENT
UID:16236140@ezleagues.ezfacility.com
DTSTAMP:20260423T234628Z
CREATED:20260423T234628Z
DTSTART:20250409T022000Z
DTEND:20250409T031000Z
LOCATION:Blue Rink
CONTACT:
SUMMARY:Beavers VS. Vipers
DESCRIPTION:League Name: Bronze Inline Hockey - Feb 11, 2025\nGame Type: Re
 gular\nGame Status: Complete\nHome Team: Beavers\nAway Team: Vipers\nHome 
 Score: 12\nAway Score: 4
END:VEVENT
BEGIN:VEVENT
UID:16236144@ezleagues.ezfacility.com
DTSTAMP:20260423T234628Z
CREATED:20260423T234628Z
DTSTART:20250416T004000Z
DTEND:20250416T013000Z
LOCATION:Berks Urology Rink (Gray)
CONTACT:
SUMMARY:Bounty Hunters VS. Beavers
DESCRIPTION:League Name: Bronze Inline Hockey - Feb 11, 2025\nGame Type: Re
 gular\nGame Status: Complete\nHome Team: Bounty Hunters\nAway Team: Beaver
 s\nHome Score: 8\nAway Score: 9
END:VEVENT
BEGIN:VEVENT
UID:16236125@ezleagues.ezfacility.com
DTSTAMP:20260423T234628Z
CREATED:20260423T234628Z
DTSTART:20250423T022000Z
DTEND:20250423T031000Z
LOCATION:Blue Rink
CONTACT:
SUMMARY:Beavers VS. Blue Birds
DESCRIPTION:League Name: Bronze Inline Hockey - Feb 11, 2025\nGame Type: Re
 gular\nGame Status: Complete\nHome Team: Beavers\nAway Team: Blue Birds\nH
 ome Score: 7\nAway Score: 6
END:VEVENT
BEGIN:VEVENT
UID:16413911@ezleagues.ezfacility.com
DTSTAMP:20260423T234628Z
CREATED:20260423T234628Z
DTSTART:20250507T005500Z
DTEND:20250507T014500Z
LOCATION:Blue Rink
CONTACT:
SUMMARY:Beavers VS. Pelicans
DESCRIPTION:League Name: Bronze Inline Hockey - Feb 11, 2025\nGame Type: Po
 stseason\nGame Status: Complete\nHome Team: Beavers\nAway Team: Pelicans\n
 Home Score: 5\nAway Score: 2
END:VEVENT
BEGIN:VEVENT
UID:16420236@ezleagues.ezfacility.com
DTSTAMP:20260423T234628Z
CREATED:20260423T234628Z
DTSTART:20250513T124000Z
DTEND:20250513T133000Z
LOCATION:Blue Rink
CONTACT:
SUMMARY:Beavers VS. Blue Birds
DESCRIPTION:League Name: Bronze Inline Hockey - Feb 11, 2025\nGame Type: Po
 stseason\nGame Status: Complete\nHome Team: Beavers\nAway Team: Blue Birds
 \nHome Score: 4\nAway Score: 8
END:VEVENT
END:VCALENDAR
