BEGIN:VCALENDAR
VERSION:2.0
PRODID:-//EZFacility.com, Inc.//EZL 2.5.5.28621
BEGIN:VEVENT
UID:16236107@ezleagues.ezfacility.com
DTSTAMP:20260424T044353Z
CREATED:20260424T044353Z
DTSTART:20250212T014000Z
DTEND:20250212T023000Z
LOCATION:Blue Rink
CONTACT:
SUMMARY:Pelicans VS. Beavers
DESCRIPTION:League Name: Bronze Inline Hockey - Feb 11, 2025\nGame Type: Re
 gular\nGame Status: Complete\nHome Team: Pelicans\nAway Team: Beavers\nHom
 e Score: 2\nAway Score: 10
END:VEVENT
BEGIN:VEVENT
UID:16236110@ezleagues.ezfacility.com
DTSTAMP:20260424T044353Z
CREATED:20260424T044353Z
DTSTART:20250219T032000Z
DTEND:20250219T041000Z
LOCATION:Berks Urology Rink (Gray)
CONTACT:
SUMMARY:Pelicans VS. Sigmas
DESCRIPTION:League Name: Bronze Inline Hockey - Feb 11, 2025\nGame Type: Re
 gular\nGame Status: Complete\nHome Team: Pelicans\nAway Team: Sigmas\nHome
  Score: 14\nAway Score: 5
END:VEVENT
BEGIN:VEVENT
UID:16236113@ezleagues.ezfacility.com
DTSTAMP:20260424T044353Z
CREATED:20260424T044353Z
DTSTART:20250228T023000Z
DTEND:20250228T032000Z
LOCATION:Blue Rink
CONTACT:
SUMMARY:Blue Birds VS. Pelicans
DESCRIPTION:League Name: Bronze Inline Hockey - Feb 11, 2025\nGame Type: Re
 gular\nGame Status: Complete\nHome Team: Blue Birds\nAway Team: Pelicans\n
 Home Score: 6\nAway Score: 4
END:VEVENT
BEGIN:VEVENT
UID:16236118@ezleagues.ezfacility.com
DTSTAMP:20260424T044353Z
CREATED:20260424T044353Z
DTSTART:20250305T023000Z
DTEND:20250305T032000Z
LOCATION:Berks Urology Rink (Gray)
CONTACT:
SUMMARY:Pelicans VS. Vipers
DESCRIPTION:League Name: Bronze Inline Hockey - Feb 11, 2025\nGame Type: Re
 gular\nGame Status: Complete\nHome Team: Pelicans\nAway Team: Vipers\nHome
  Score: 4\nAway Score: 3
END:VEVENT
BEGIN:VEVENT
UID:16236123@ezleagues.ezfacility.com
DTSTAMP:20260424T044353Z
CREATED:20260424T044353Z
DTSTART:20250312T022000Z
DTEND:20250312T031000Z
LOCATION:Blue Rink
CONTACT:
SUMMARY:Pelicans VS. Bounty Hunters
DESCRIPTION:League Name: Bronze Inline Hockey - Feb 11, 2025\nGame Type: Re
 gular\nGame Status: Complete\nHome Team: Pelicans\nAway Team: Bounty Hunte
 rs\nHome Score: 1\nAway Score: 3
END:VEVENT
BEGIN:VEVENT
UID:16236128@ezleagues.ezfacility.com
DTSTAMP:20260424T044353Z
CREATED:20260424T044353Z
DTSTART:20250318T235000Z
DTEND:20250319T004000Z
LOCATION:Blue Rink
CONTACT:
SUMMARY:Pelicans VS. Old As Puck
DESCRIPTION:League Name: Bronze Inline Hockey - Feb 11, 2025\nGame Type: Re
 gular\nGame Status: Complete\nHome Team: Pelicans\nAway Team: Old As Puck\
 nHome Score: 8\nAway Score: 6
END:VEVENT
BEGIN:VEVENT
UID:16236132@ezleagues.ezfacility.com
DTSTAMP:20260424T044353Z
CREATED:20260424T044353Z
DTSTART:20250326T004000Z
DTEND:20250326T013000Z
LOCATION:Berks Urology Rink (Gray)
CONTACT:
SUMMARY:Six One Vapor VS. Pelicans
DESCRIPTION:League Name: Bronze Inline Hockey - Feb 11, 2025\nGame Type: Re
 gular\nGame Status: Complete\nHome Team: Six One Vapor\nAway Team: Pelican
 s\nHome Score: 2\nAway Score: 10
END:VEVENT
BEGIN:VEVENT
UID:16236135@ezleagues.ezfacility.com
DTSTAMP:20260424T044353Z
CREATED:20260424T044353Z
DTSTART:20250401T235000Z
DTEND:20250402T004000Z
LOCATION:Blue Rink
CONTACT:
SUMMARY:Beavers VS. Pelicans
DESCRIPTION:League Name: Bronze Inline Hockey - Feb 11, 2025\nGame Type: Re
 gular\nGame Status: Complete\nHome Team: Beavers\nAway Team: Pelicans\nHom
 e Score: 9\nAway Score: 2
END:VEVENT
BEGIN:VEVENT
UID:16236141@ezleagues.ezfacility.com
DTSTAMP:20260424T044353Z
CREATED:20260424T044353Z
DTSTART:20250416T004000Z
DTEND:20250416T013000Z
LOCATION:Blue Rink
CONTACT:
SUMMARY:Blue Birds VS. Pelicans
DESCRIPTION:League Name: Bronze Inline Hockey - Feb 11, 2025\nGame Type: Re
 gular\nGame Status: Complete\nHome Team: Blue Birds\nAway Team: Pelicans\n
 Home Score: 5\nAway Score: 2
END:VEVENT
BEGIN:VEVENT
UID:16236138@ezleagues.ezfacility.com
DTSTAMP:20260424T044353Z
CREATED:20260424T044353Z
DTSTART:20250424T221000Z
DTEND:20250424T230000Z
LOCATION:Blue Rink
CONTACT:
SUMMARY:Sigmas VS. Pelicans
DESCRIPTION:League Name: Bronze Inline Hockey - Feb 11, 2025\nGame Type: Re
 gular\nGame Status: Complete\nHome Team: Sigmas\nAway Team: Pelicans\nHome
  Score: 3\nAway Score: 11
END:VEVENT
BEGIN:VEVENT
UID:16413911@ezleagues.ezfacility.com
DTSTAMP:20260424T044353Z
CREATED:20260424T044353Z
DTSTART:20250507T005500Z
DTEND:20250507T014500Z
LOCATION:Blue Rink
CONTACT:
SUMMARY:Beavers VS. Pelicans
DESCRIPTION:League Name: Bronze Inline Hockey - Feb 11, 2025\nGame Type: Po
 stseason\nGame Status: Complete\nHome Team: Beavers\nAway Team: Pelicans\n
 Home Score: 5\nAway Score: 2
END:VEVENT
END:VCALENDAR
