BEGIN:VCALENDAR
VERSION:2.0
PRODID:-//EZFacility.com, Inc.//EZL 2.5.5.28621
BEGIN:VEVENT
UID:16237008@ezleagues.ezfacility.com
DTSTAMP:20260424T044140Z
CREATED:20260424T044140Z
DTSTART:20250220T173000Z
DTEND:20250220T180000Z
LOCATION:SUSA Field 2A
CONTACT:
SUMMARY:Elite Soccer Titans VS. 2015 Levitown Elite Blue
DESCRIPTION:League Name: SUSA Dome - 2025 Presidents Week - Boys 2015\nGame
  Type: Regular\nGame Status: Complete\nHome Team: Elite Soccer Titans\nAwa
 y Team: 2015 Levitown Elite Blue\nHome Score: 3\nAway Score: 2
END:VEVENT
BEGIN:VEVENT
UID:16237009@ezleagues.ezfacility.com
DTSTAMP:20260424T044140Z
CREATED:20260424T044140Z
DTSTART:20250220T180000Z
DTEND:20250220T183000Z
LOCATION:SUSA Field 1A
CONTACT:
SUMMARY:2015 Levitown Elite Blue VS. SUSA B2015 Navy
DESCRIPTION:League Name: SUSA Dome - 2025 Presidents Week - Boys 2015\nGame
  Type: Regular\nGame Status: Complete\nHome Team: 2015 Levitown Elite Blue
 \nAway Team: SUSA B2015 Navy\nHome Score: 3\nAway Score: 3
END:VEVENT
BEGIN:VEVENT
UID:16237012@ezleagues.ezfacility.com
DTSTAMP:20260424T044140Z
CREATED:20260424T044140Z
DTSTART:20250220T183000Z
DTEND:20250220T190000Z
LOCATION:SUSA Field 2A
CONTACT:
SUMMARY:2015 Levitown Elite Blue VS. Suffolk County PAL 2015B Navy
DESCRIPTION:League Name: SUSA Dome - 2025 Presidents Week - Boys 2015\nGame
  Type: Regular\nGame Status: Complete\nHome Team: 2015 Levitown Elite Blue
 \nAway Team: Suffolk County PAL 2015B Navy\nHome Score: 1\nAway Score: 2
END:VEVENT
END:VCALENDAR
